BEGIN:VCALENDAR
VERSION:2.0
PRODID:-//Foxborough, Plainville, and Wrentham - ECPv6.15.18//NONSGML v1.0//EN
CALSCALE:GREGORIAN
METHOD:PUBLISH
X-WR-CALNAME:Foxborough, Plainville, and Wrentham
X-ORIGINAL-URL:https://foxboroughplainvillewrentham.com
X-WR-CALDESC:Events for Foxborough, Plainville, and Wrentham
REFRESH-INTERVAL;VALUE=DURATION:PT1H
X-Robots-Tag:noindex
X-PUBLISHED-TTL:PT1H
BEGIN:VTIMEZONE
TZID:America/New_York
BEGIN:DAYLIGHT
TZOFFSETFROM:-0500
TZOFFSETTO:-0400
TZNAME:EDT
DTSTART:20230312T070000
END:DAYLIGHT
BEGIN:STANDARD
TZOFFSETFROM:-0400
TZOFFSETTO:-0500
TZNAME:EST
DTSTART:20231105T060000
END:STANDARD
BEGIN:DAYLIGHT
TZOFFSETFROM:-0500
TZOFFSETTO:-0400
TZNAME:EDT
DTSTART:20240310T070000
END:DAYLIGHT
BEGIN:STANDARD
TZOFFSETFROM:-0400
TZOFFSETTO:-0500
TZNAME:EST
DTSTART:20241103T060000
END:STANDARD
BEGIN:DAYLIGHT
TZOFFSETFROM:-0500
TZOFFSETTO:-0400
TZNAME:EDT
DTSTART:20250309T070000
END:DAYLIGHT
BEGIN:STANDARD
TZOFFSETFROM:-0400
TZOFFSETTO:-0500
TZNAME:EST
DTSTART:20251102T060000
END:STANDARD
END:VTIMEZONE
BEGIN:VEVENT
DTSTART;VALUE=DATE:20240608
DTEND;VALUE=DATE:20240610
DTSTAMP:20260425T190035
CREATED:20240531T010941Z
LAST-MODIFIED:20240531T011216Z
UID:10000923-1717804800-1717977599@foxboroughplainvillewrentham.com
SUMMARY:National Outlet Shopping Day
DESCRIPTION:Don’t miss this highly anticipated event\, featuring major savings at Wrentham Village Premium Outlets. Get can’t-miss deals from brands you love\, all weekend long. \nFree Tote Bag!\nYou heard that right-your free tote\, coming right up. Visit the turf on Wrentham Street to get yours June 8th & 9th Not a member yet? Sign up here \n#NationalOutletShoppingDay™\nShow off your haul at the biggest outlet savings event of the year. Tag us on Instagram @wvpremiumoutlets and use #NationalOutletShoppingDay.  \nYum on Wheels\nThe following trucks will offer specials for NOSD weekend: The Falafel Guy\, Hot Dogs\, Philly Cheesesteak\, The Pizza Guy\, Monster Burger\, La Mexicana Tacos \nReceipts & Rewards\ncheck back for details! \nSelfie Station\nStop by the selfie station to create unforgettable\, Instagram-worthy moments with our National Outlet Shopping Day photo op!!Don’t forget to tag us and #NOSD #NationalOutletShoppingDay \nFamily Fun\nJoin us at the turf on Patriot Court \n\nDIY Bracelet Bar\nPrize Wheel\nYard Games\nSocial Pop Up\nperformances\nGiveaways and MORE!\nRetailer activations\n\nLearn more here!
URL:https://foxboroughplainvillewrentham.com/event/national-outlet-shopping-day/
LOCATION:Wrentham Village Premium Outlets\, 1 Premium Outlet Blvd\, Wrentham\, MA\, 02093
CATEGORIES:Wrentham
ATTACH;FMTTYPE=image/png:https://foxboroughplainvillewrentham.com/wp-content/uploads/2024/05/Screenshot-2024-05-30-at-9.05.46 PM.png
GEO:42.0380222;-71.3494019
X-APPLE-STRUCTURED-LOCATION;VALUE=URI;X-ADDRESS=Wrentham Village Premium Outlets 1 Premium Outlet Blvd Wrentham MA 02093;X-APPLE-RADIUS=500;X-TITLE=1 Premium Outlet Blvd:geo:-71.3494019,42.0380222
END:VEVENT
BEGIN:VEVENT
DTSTART;VALUE=DATE:20240609
DTEND;VALUE=DATE:20240610
DTSTAMP:20260425T190035
CREATED:20240531T011311Z
LAST-MODIFIED:20240531T011311Z
UID:10000924-1717891200-1717977599@foxboroughplainvillewrentham.com
SUMMARY:National Outlet Shopping Day
DESCRIPTION:Don’t miss this highly anticipated event\, featuring major savings at Wrentham Village Premium Outlets. Get can’t-miss deals from brands you love\, all weekend long. \nFree Tote Bag!\nYou heard that right-your free tote\, coming right up. Visit the turf on Wrentham Street to get yours June 8th & 9th Not a member yet? Sign up here \n#NationalOutletShoppingDay™\nShow off your haul at the biggest outlet savings event of the year. Tag us on Instagram @wvpremiumoutlets and use #NationalOutletShoppingDay.  \nYum on Wheels\nThe following trucks will offer specials for NOSD weekend: The Falafel Guy\, Hot Dogs\, Philly Cheesesteak\, The Pizza Guy\, Monster Burger\, La Mexicana Tacos \nReceipts & Rewards\ncheck back for details! \nSelfie Station\nStop by the selfie station to create unforgettable\, Instagram-worthy moments with our National Outlet Shopping Day photo op!!Don’t forget to tag us and #NOSD #NationalOutletShoppingDay \nFamily Fun\nJoin us at the turf on Patriot Court \n\nDIY Bracelet Bar\nPrize Wheel\nYard Games\nSocial Pop Up\nperformances\nGiveaways and MORE!\nRetailer activations\n\nLearn more here!
URL:https://foxboroughplainvillewrentham.com/event/national-outlet-shopping-day-2/
LOCATION:Wrentham Village Premium Outlets\, 1 Premium Outlet Blvd\, Wrentham\, MA\, 02093
CATEGORIES:Wrentham
ATTACH;FMTTYPE=image/png:https://foxboroughplainvillewrentham.com/wp-content/uploads/2024/05/Screenshot-2024-05-30-at-9.05.46 PM.png
GEO:42.0380222;-71.3494019
X-APPLE-STRUCTURED-LOCATION;VALUE=URI;X-ADDRESS=Wrentham Village Premium Outlets 1 Premium Outlet Blvd Wrentham MA 02093;X-APPLE-RADIUS=500;X-TITLE=1 Premium Outlet Blvd:geo:-71.3494019,42.0380222
END:VEVENT
END:VCALENDAR