BEGIN:VCALENDAR
VERSION:2.0
PRODID:-//Foxborough, Plainville, and Wrentham - ECPv6.15.18//NONSGML v1.0//EN
CALSCALE:GREGORIAN
METHOD:PUBLISH
X-WR-CALNAME:Foxborough, Plainville, and Wrentham
X-ORIGINAL-URL:https://foxboroughplainvillewrentham.com
X-WR-CALDESC:Events for Foxborough, Plainville, and Wrentham
REFRESH-INTERVAL;VALUE=DURATION:PT1H
X-Robots-Tag:noindex
X-PUBLISHED-TTL:PT1H
BEGIN:VTIMEZONE
TZID:America/New_York
BEGIN:DAYLIGHT
TZOFFSETFROM:-0500
TZOFFSETTO:-0400
TZNAME:EDT
DTSTART:20230312T070000
END:DAYLIGHT
BEGIN:STANDARD
TZOFFSETFROM:-0400
TZOFFSETTO:-0500
TZNAME:EST
DTSTART:20231105T060000
END:STANDARD
BEGIN:DAYLIGHT
TZOFFSETFROM:-0500
TZOFFSETTO:-0400
TZNAME:EDT
DTSTART:20240310T070000
END:DAYLIGHT
BEGIN:STANDARD
TZOFFSETFROM:-0400
TZOFFSETTO:-0500
TZNAME:EST
DTSTART:20241103T060000
END:STANDARD
BEGIN:DAYLIGHT
TZOFFSETFROM:-0500
TZOFFSETTO:-0400
TZNAME:EDT
DTSTART:20250309T070000
END:DAYLIGHT
BEGIN:STANDARD
TZOFFSETFROM:-0400
TZOFFSETTO:-0500
TZNAME:EST
DTSTART:20251102T060000
END:STANDARD
END:VTIMEZONE
BEGIN:VEVENT
DTSTART;TZID=America/New_York:20240711T193000
DTEND;TZID=America/New_York:20240711T213000
DTSTAMP:20260425T172457
CREATED:20240711T140329Z
LAST-MODIFIED:20240711T140454Z
UID:10000960-1720726200-1720733400@foxboroughplainvillewrentham.com
SUMMARY:The Cirque Paranormal
DESCRIPTION:This is a Rated R Event. Everyone under 17 needs to be accompanied by a guardian over 21. \nSlow down so you can take it all in…but if you scare easily\, you might want to run….as you’re welcomed into this new world of Paranormal Cirque!\nUnder this Clown Castle\, the black and red big top tent\, Acrobats of the Air\, Illusionists\, freaks\, mysterious creatures and all the elements that make one think of a “normal” Circus but that of normal has very little! \nA new show with breathtaking implications always poised between fun and the most uninhibited fear that will transport you to a dark world inhabited by creatures with incredible circus art abilities. \nA crazy yet fun fusion between Circus\, theatre\, and cabaret in perfect harmony with the evolution of a show that brings you back to when we dream … and when we had nightmares and fantasies. \nScare\, encompass\, amuse and surprise are the ingredients for a mixture of emotions impossible to forget. This is truly a Paranormal experience like no other.
URL:https://foxboroughplainvillewrentham.com/event/the-cirque-paranormal/
LOCATION:Wrentham Village Premium Outlets\, 1 Premium Outlet Blvd\, Wrentham\, MA\, 02093
CATEGORIES:Wrentham
ATTACH;FMTTYPE=image/jpeg:https://foxboroughplainvillewrentham.com/wp-content/uploads/2024/07/Outside-Tent-Todd-Kaplan-18-scaled-1-scaled.jpg
GEO:42.0380222;-71.3494019
X-APPLE-STRUCTURED-LOCATION;VALUE=URI;X-ADDRESS=Wrentham Village Premium Outlets 1 Premium Outlet Blvd Wrentham MA 02093;X-APPLE-RADIUS=500;X-TITLE=1 Premium Outlet Blvd:geo:-71.3494019,42.0380222
END:VEVENT
BEGIN:VEVENT
DTSTART;TZID=America/New_York:20240712T193000
DTEND;TZID=America/New_York:20240712T233000
DTSTAMP:20260425T172457
CREATED:20240711T140550Z
LAST-MODIFIED:20240711T140550Z
UID:10000961-1720812600-1720827000@foxboroughplainvillewrentham.com
SUMMARY:The Cirque Paranormal
DESCRIPTION:This is a Rated R Event. Everyone under 17 needs to be accompanied by a guardian over 21. \nSlow down so you can take it all in…but if you scare easily\, you might want to run….as you’re welcomed into this new world of Paranormal Cirque!\nUnder this Clown Castle\, the black and red big top tent\, Acrobats of the Air\, Illusionists\, freaks\, mysterious creatures and all the elements that make one think of a “normal” Circus but that of normal has very little! \nA new show with breathtaking implications always poised between fun and the most uninhibited fear that will transport you to a dark world inhabited by creatures with incredible circus art abilities. \nA crazy yet fun fusion between Circus\, theatre\, and cabaret in perfect harmony with the evolution of a show that brings you back to when we dream … and when we had nightmares and fantasies. \nScare\, encompass\, amuse and surprise are the ingredients for a mixture of emotions impossible to forget. This is truly a Paranormal experience like no other.
URL:https://foxboroughplainvillewrentham.com/event/the-cirque-paranormal-2/
LOCATION:Wrentham Village Premium Outlets\, 1 Premium Outlet Blvd\, Wrentham\, MA\, 02093
CATEGORIES:Wrentham
ATTACH;FMTTYPE=image/jpeg:https://foxboroughplainvillewrentham.com/wp-content/uploads/2024/07/Outside-Tent-Todd-Kaplan-18-scaled-1-scaled.jpg
GEO:42.0380222;-71.3494019
X-APPLE-STRUCTURED-LOCATION;VALUE=URI;X-ADDRESS=Wrentham Village Premium Outlets 1 Premium Outlet Blvd Wrentham MA 02093;X-APPLE-RADIUS=500;X-TITLE=1 Premium Outlet Blvd:geo:-71.3494019,42.0380222
END:VEVENT
BEGIN:VEVENT
DTSTART;TZID=America/New_York:20240713T183000
DTEND;TZID=America/New_York:20240713T233000
DTSTAMP:20260425T172457
CREATED:20240711T140634Z
LAST-MODIFIED:20240711T140634Z
UID:10000962-1720895400-1720913400@foxboroughplainvillewrentham.com
SUMMARY:The Cirque Paranormal
DESCRIPTION:This is a Rated R Event. Everyone under 17 needs to be accompanied by a guardian over 21. \nSlow down so you can take it all in…but if you scare easily\, you might want to run….as you’re welcomed into this new world of Paranormal Cirque!\nUnder this Clown Castle\, the black and red big top tent\, Acrobats of the Air\, Illusionists\, freaks\, mysterious creatures and all the elements that make one think of a “normal” Circus but that of normal has very little! \nA new show with breathtaking implications always poised between fun and the most uninhibited fear that will transport you to a dark world inhabited by creatures with incredible circus art abilities. \nA crazy yet fun fusion between Circus\, theatre\, and cabaret in perfect harmony with the evolution of a show that brings you back to when we dream … and when we had nightmares and fantasies. \nScare\, encompass\, amuse and surprise are the ingredients for a mixture of emotions impossible to forget. This is truly a Paranormal experience like no other.
URL:https://foxboroughplainvillewrentham.com/event/the-cirque-paranormal-3/
LOCATION:Wrentham Village Premium Outlets\, 1 Premium Outlet Blvd\, Wrentham\, MA\, 02093
CATEGORIES:Wrentham
ATTACH;FMTTYPE=image/jpeg:https://foxboroughplainvillewrentham.com/wp-content/uploads/2024/07/Outside-Tent-Todd-Kaplan-18-scaled-1-scaled.jpg
GEO:42.0380222;-71.3494019
X-APPLE-STRUCTURED-LOCATION;VALUE=URI;X-ADDRESS=Wrentham Village Premium Outlets 1 Premium Outlet Blvd Wrentham MA 02093;X-APPLE-RADIUS=500;X-TITLE=1 Premium Outlet Blvd:geo:-71.3494019,42.0380222
END:VEVENT
BEGIN:VEVENT
DTSTART;TZID=America/New_York:20240714T153000
DTEND;TZID=America/New_York:20240714T223000
DTSTAMP:20260425T172457
CREATED:20240711T140708Z
LAST-MODIFIED:20240711T140708Z
UID:10000963-1720971000-1720996200@foxboroughplainvillewrentham.com
SUMMARY:The Cirque Paranormal
DESCRIPTION:This is a Rated R Event. Everyone under 17 needs to be accompanied by a guardian over 21. \nSlow down so you can take it all in…but if you scare easily\, you might want to run….as you’re welcomed into this new world of Paranormal Cirque!\nUnder this Clown Castle\, the black and red big top tent\, Acrobats of the Air\, Illusionists\, freaks\, mysterious creatures and all the elements that make one think of a “normal” Circus but that of normal has very little! \nA new show with breathtaking implications always poised between fun and the most uninhibited fear that will transport you to a dark world inhabited by creatures with incredible circus art abilities. \nA crazy yet fun fusion between Circus\, theatre\, and cabaret in perfect harmony with the evolution of a show that brings you back to when we dream … and when we had nightmares and fantasies. \nScare\, encompass\, amuse and surprise are the ingredients for a mixture of emotions impossible to forget. This is truly a Paranormal experience like no other.
URL:https://foxboroughplainvillewrentham.com/event/the-cirque-paranormal-4/
LOCATION:Wrentham Village Premium Outlets\, 1 Premium Outlet Blvd\, Wrentham\, MA\, 02093
CATEGORIES:Wrentham
ATTACH;FMTTYPE=image/jpeg:https://foxboroughplainvillewrentham.com/wp-content/uploads/2024/07/Outside-Tent-Todd-Kaplan-18-scaled-1-scaled.jpg
GEO:42.0380222;-71.3494019
X-APPLE-STRUCTURED-LOCATION;VALUE=URI;X-ADDRESS=Wrentham Village Premium Outlets 1 Premium Outlet Blvd Wrentham MA 02093;X-APPLE-RADIUS=500;X-TITLE=1 Premium Outlet Blvd:geo:-71.3494019,42.0380222
END:VEVENT
END:VCALENDAR