BEGIN:VCALENDAR
VERSION:2.0
PRODID:-//Foxborough, Plainville, and Wrentham - ECPv6.15.18//NONSGML v1.0//EN
CALSCALE:GREGORIAN
METHOD:PUBLISH
X-WR-CALNAME:Foxborough, Plainville, and Wrentham
X-ORIGINAL-URL:https://foxboroughplainvillewrentham.com
X-WR-CALDESC:Events for Foxborough, Plainville, and Wrentham
REFRESH-INTERVAL;VALUE=DURATION:PT1H
X-Robots-Tag:noindex
X-PUBLISHED-TTL:PT1H
BEGIN:VTIMEZONE
TZID:America/New_York
BEGIN:DAYLIGHT
TZOFFSETFROM:-0500
TZOFFSETTO:-0400
TZNAME:EDT
DTSTART:20240310T070000
END:DAYLIGHT
BEGIN:STANDARD
TZOFFSETFROM:-0400
TZOFFSETTO:-0500
TZNAME:EST
DTSTART:20241103T060000
END:STANDARD
BEGIN:DAYLIGHT
TZOFFSETFROM:-0500
TZOFFSETTO:-0400
TZNAME:EDT
DTSTART:20250309T070000
END:DAYLIGHT
BEGIN:STANDARD
TZOFFSETFROM:-0400
TZOFFSETTO:-0500
TZNAME:EST
DTSTART:20251102T060000
END:STANDARD
BEGIN:DAYLIGHT
TZOFFSETFROM:-0500
TZOFFSETTO:-0400
TZNAME:EDT
DTSTART:20260308T070000
END:DAYLIGHT
BEGIN:STANDARD
TZOFFSETFROM:-0400
TZOFFSETTO:-0500
TZNAME:EST
DTSTART:20261101T060000
END:STANDARD
END:VTIMEZONE
BEGIN:VEVENT
DTSTART;TZID=America/New_York:20250917T180000
DTEND;TZID=America/New_York:20250917T200000
DTSTAMP:20260424T203947
CREATED:20250911T212008Z
LAST-MODIFIED:20250911T212046Z
UID:10004251-1758132000-1758139200@foxboroughplainvillewrentham.com
SUMMARY:Ty Law Meet & Greet
DESCRIPTION:Ty Law is coming to 110 Grill in Wrentham\, MA\, and he wants to sip on Corvus Vodka with you! \nJoin us on September 17 from 6-8 PM to meet the NE Hall of Famer\, Ty Law!
URL:https://foxboroughplainvillewrentham.com/event/ty-law-meet-greet/
LOCATION:110 Grill Wrentham\, 30 Ledgeview Way\, Wrentham\, M\, 02093
CATEGORIES:Wrentham
ATTACH;FMTTYPE=image/jpeg:https://foxboroughplainvillewrentham.com/wp-content/uploads/2025/09/540581722_1421344106120167_8751925376239760007_n.jpg
ORGANIZER;CN="Samantha Greenberg":MAILTO:sgreenberg@raventures.net
GEO:42.0407386;-71.3079506
X-APPLE-STRUCTURED-LOCATION;VALUE=URI;X-ADDRESS=110 Grill Wrentham 30 Ledgeview Way Wrentham M 02093;X-APPLE-RADIUS=500;X-TITLE=30 Ledgeview Way:geo:-71.3079506,42.0407386
END:VEVENT
END:VCALENDAR