BEGIN:VCALENDAR
VERSION:2.0
PRODID:-//Foxborough, Plainville, and Wrentham - ECPv6.15.18//NONSGML v1.0//EN
CALSCALE:GREGORIAN
METHOD:PUBLISH
X-WR-CALNAME:Foxborough, Plainville, and Wrentham
X-ORIGINAL-URL:https://foxboroughplainvillewrentham.com
X-WR-CALDESC:Events for Foxborough, Plainville, and Wrentham
REFRESH-INTERVAL;VALUE=DURATION:PT1H
X-Robots-Tag:noindex
X-PUBLISHED-TTL:PT1H
BEGIN:VTIMEZONE
TZID:America/New_York
BEGIN:DAYLIGHT
TZOFFSETFROM:-0500
TZOFFSETTO:-0400
TZNAME:EDT
DTSTART:20240310T070000
END:DAYLIGHT
BEGIN:STANDARD
TZOFFSETFROM:-0400
TZOFFSETTO:-0500
TZNAME:EST
DTSTART:20241103T060000
END:STANDARD
BEGIN:DAYLIGHT
TZOFFSETFROM:-0500
TZOFFSETTO:-0400
TZNAME:EDT
DTSTART:20250309T070000
END:DAYLIGHT
BEGIN:STANDARD
TZOFFSETFROM:-0400
TZOFFSETTO:-0500
TZNAME:EST
DTSTART:20251102T060000
END:STANDARD
BEGIN:DAYLIGHT
TZOFFSETFROM:-0500
TZOFFSETTO:-0400
TZNAME:EDT
DTSTART:20260308T070000
END:DAYLIGHT
BEGIN:STANDARD
TZOFFSETFROM:-0400
TZOFFSETTO:-0500
TZNAME:EST
DTSTART:20261101T060000
END:STANDARD
END:VTIMEZONE
BEGIN:VEVENT
DTSTART;TZID=America/New_York:20250507T190000
DTEND;TZID=America/New_York:20250507T210000
DTSTAMP:20260421T054709
CREATED:20250107T192945Z
LAST-MODIFIED:20250107T192945Z
UID:10001585-1746644400-1746651600@foxboroughplainvillewrentham.com
SUMMARY:Citizen Crust — Trivia Night
DESCRIPTION:Every Wednesday: 7:00 PM – 9:00 PM \nAre you ready? Citizen Crust is very excited to host Wednesday Trivia Night! Come show your love and support while you get your thinking on! Limited reservations are available\, so grab them while you can!
URL:https://foxboroughplainvillewrentham.com/event/citizen-crust-trivia-night/2025-05-07/
LOCATION:Patriot Place\, Two Patriot Place\, Foxborough\, MA\, 02035\, United States
CATEGORIES:Foxborough
ATTACH;FMTTYPE=image/jpeg:https://foxboroughplainvillewrentham.com/wp-content/uploads/2025/01/Citizen-Crust-Trivia-Night-2023-square-1-1200x1244-1.jpg
END:VEVENT
BEGIN:VEVENT
DTSTART;TZID=America/New_York:20250507T190000
DTEND;TZID=America/New_York:20250507T210000
DTSTAMP:20260421T054709
CREATED:20250107T192806Z
LAST-MODIFIED:20250107T192806Z
UID:10001324-1746644400-1746651600@foxboroughplainvillewrentham.com
SUMMARY:Wormtown Brewery — Music Bingo
DESCRIPTION:Wednesdays: 7:00 PM – 9:00 PM \nTest your music knowledge with Good Thomas on Wednesday nights at Wormtown Patriot Place!\nThis event is free to play and covers a variety of music\, from different decades and genres. We’ll see you Wednesday!
URL:https://foxboroughplainvillewrentham.com/event/wormtown-brewery-music-bingo/2025-05-07/
LOCATION:Patriot Place\, Two Patriot Place\, Foxborough\, MA\, 02035\, United States
CATEGORIES:Foxborough
ATTACH;FMTTYPE=image/webp:https://foxboroughplainvillewrentham.com/wp-content/uploads/2025/01/WT_MusicBingo_PP_IG-Grid.webp
END:VEVENT
BEGIN:VEVENT
DTSTART;VALUE=DATE:20250506
DTEND;VALUE=DATE:20250507
DTSTAMP:20260421T054709
CREATED:20250107T194131Z
LAST-MODIFIED:20250107T194148Z
UID:10003152-1746489600-1746575999@foxboroughplainvillewrentham.com
SUMMARY:Taco Tuesday
DESCRIPTION:Every Tuesday \nSpice up your week with Taco Tuesday! Get special deals at Patriot Place restaurants: \nAxel & Byrne\nMix and Match Tacos $4 each or 3 for $10 (Brisket\, pulled pork\, pulled chicken) \nCitizen Crust\n$3 street tacos\, $3 Tecate & custom margs! \nScorpion Bar\n$25 unlimited all-you-can-eat tacos
URL:https://foxboroughplainvillewrentham.com/event/7109/2025-05-06/
LOCATION:Patriot Place\, Two Patriot Place\, Foxborough\, MA\, 02035\, United States
CATEGORIES:Foxborough
ATTACH;FMTTYPE=image/jpeg:https://foxboroughplainvillewrentham.com/wp-content/uploads/2025/01/Taco-Tuesday-square.jpg
END:VEVENT
BEGIN:VEVENT
DTSTART;TZID=America/New_York:20250504T190000
DTEND;TZID=America/New_York:20250504T220000
DTSTAMP:20260421T054709
CREATED:20250409T191715Z
LAST-MODIFIED:20250409T191715Z
UID:10003431-1746385200-1746396000@foxboroughplainvillewrentham.com
SUMMARY:AC/DC: Power Up Tour
DESCRIPTION:AC/DC will return to Gillette Stadium for the first time since 2015 on May 4\, 2025. The legendary GRAMMY-award winning and Rock and Roll Hall of Fame-inducted band will perform at the home of the Patriots and Revolution for the first time in nearly a decade and third time overall as part of their Power Up North American Tour. AC/DC will be joined in Foxborough by The Pretty Reckless. \nAC/DC is one of the most influential rock bands in history\, with over 200 million albums sold worldwide. To continue their reign as the world’s greatest rock and roll band\, AC/DC\, with Angus Young on lead guitar\, vocalist Brian Johnson\, rhythm guitarist Stevie Young\, drummer Matt Laug and bass player Chris Chaney\, is back to play to their legion of dedicated fans\, which grows with every passing year.
URL:https://foxboroughplainvillewrentham.com/event/ac-dc-power-up-tour/
LOCATION:Gillette Stadium\, 1 Patriot Pl\, Foxborough\, 02035\, United States
CATEGORIES:Foxborough
ATTACH;FMTTYPE=image/jpeg:https://foxboroughplainvillewrentham.com/wp-content/uploads/2025/04/2024-ACDC-1200x800-1.jpg
GEO:42.0925323;-71.2641271
X-APPLE-STRUCTURED-LOCATION;VALUE=URI;X-ADDRESS=Gillette Stadium 1 Patriot Pl Foxborough 02035 United States;X-APPLE-RADIUS=500;X-TITLE=1 Patriot Pl:geo:-71.2641271,42.0925323
END:VEVENT
BEGIN:VEVENT
DTSTART;TZID=America/New_York:20250504T110000
DTEND;TZID=America/New_York:20250504T150000
DTSTAMP:20260421T054709
CREATED:20250107T193955Z
LAST-MODIFIED:20250107T193955Z
UID:10002646-1746356400-1746370800@foxboroughplainvillewrentham.com
SUMMARY:Bar Louie — Weekend Brunch
DESCRIPTION:Every Saturday & Sunday:  11:00 AM – 3:00 PM \nHaving an egg-sistential crisis? Brunch is always the answer! Stop by weekend brunch at Bar Louie to get a juicy taste of our favorite meals to start the day! \nAsk about our Mimosa Specials and our Freshly Shaken Iced Teas and Lemonades! \nView Menu
URL:https://foxboroughplainvillewrentham.com/event/bar-louie-weekend-brunch/2025-05-04/
LOCATION:Patriot Place\, Two Patriot Place\, Foxborough\, MA\, 02035\, United States
CATEGORIES:Foxborough
ATTACH;FMTTYPE=image/jpeg:https://foxboroughplainvillewrentham.com/wp-content/uploads/2025/01/Bar-Louie-Weekend-Brunch-square.jpg
END:VEVENT
BEGIN:VEVENT
DTSTART;TZID=America/New_York:20250503T210000
DTEND;TZID=America/New_York:20250503T233000
DTSTAMP:20260421T054709
CREATED:20250107T193719Z
LAST-MODIFIED:20250107T193719Z
UID:10002124-1746306000-1746315000@foxboroughplainvillewrentham.com
SUMMARY:The Harp — DJ Night
DESCRIPTION:Friday & Saturday Nights: 9:00 PM \nNobody does DJ night better than The Harp! Our DJ will be playing all the top bangers starting at 9:00 PM. \n21-plus only. NO COVER
URL:https://foxboroughplainvillewrentham.com/event/the-harp-dj-night/2025-05-03/
LOCATION:Patriot Place\, Two Patriot Place\, Foxborough\, MA\, 02035\, United States
CATEGORIES:Foxborough
ATTACH;FMTTYPE=image/webp:https://foxboroughplainvillewrentham.com/wp-content/uploads/2025/01/harp-pp-dj-night-patriot-place-square-1200x1200-1.webp
END:VEVENT
BEGIN:VEVENT
DTSTART;TZID=America/New_York:20250503T110000
DTEND;TZID=America/New_York:20250503T150000
DTSTAMP:20260421T054709
CREATED:20250107T193955Z
LAST-MODIFIED:20250107T193955Z
UID:10002645-1746270000-1746284400@foxboroughplainvillewrentham.com
SUMMARY:Bar Louie — Weekend Brunch
DESCRIPTION:Every Saturday & Sunday:  11:00 AM – 3:00 PM \nHaving an egg-sistential crisis? Brunch is always the answer! Stop by weekend brunch at Bar Louie to get a juicy taste of our favorite meals to start the day! \nAsk about our Mimosa Specials and our Freshly Shaken Iced Teas and Lemonades! \nView Menu
URL:https://foxboroughplainvillewrentham.com/event/bar-louie-weekend-brunch/2025-05-03/
LOCATION:Patriot Place\, Two Patriot Place\, Foxborough\, MA\, 02035\, United States
CATEGORIES:Foxborough
ATTACH;FMTTYPE=image/jpeg:https://foxboroughplainvillewrentham.com/wp-content/uploads/2025/01/Bar-Louie-Weekend-Brunch-square.jpg
END:VEVENT
BEGIN:VEVENT
DTSTART;TZID=America/New_York:20250502T210000
DTEND;TZID=America/New_York:20250502T233000
DTSTAMP:20260421T054709
CREATED:20250107T193719Z
LAST-MODIFIED:20250107T193719Z
UID:10002123-1746219600-1746228600@foxboroughplainvillewrentham.com
SUMMARY:The Harp — DJ Night
DESCRIPTION:Friday & Saturday Nights: 9:00 PM \nNobody does DJ night better than The Harp! Our DJ will be playing all the top bangers starting at 9:00 PM. \n21-plus only. NO COVER
URL:https://foxboroughplainvillewrentham.com/event/the-harp-dj-night/2025-05-02/
LOCATION:Patriot Place\, Two Patriot Place\, Foxborough\, MA\, 02035\, United States
CATEGORIES:Foxborough
ATTACH;FMTTYPE=image/webp:https://foxboroughplainvillewrentham.com/wp-content/uploads/2025/01/harp-pp-dj-night-patriot-place-square-1200x1200-1.webp
END:VEVENT
BEGIN:VEVENT
DTSTART;TZID=America/New_York:20250430T193000
DTEND;TZID=America/New_York:20250430T213000
DTSTAMP:20260421T054709
CREATED:20250107T193124Z
LAST-MODIFIED:20250107T193124Z
UID:10001845-1746041400-1746048600@foxboroughplainvillewrentham.com
SUMMARY:Six String Grill & Stage
DESCRIPTION:Wednesdays: 7:30 PM \nHowdy y’all!  \n​Join us every Wednesday for FREE Line Dancing Lessons with Btches ‘n Boots! Line dancing starts at 7:30 PM\, but we encourage you come early for dinner & drinks. All levels welcome – we hope to see you there! \nQuestions?  \nhowdy@sixstringfoxborough.com
URL:https://foxboroughplainvillewrentham.com/event/six-string-grill-stage/2025-04-30/
LOCATION:Patriot Place\, Two Patriot Place\, Foxborough\, MA\, 02035\, United States
CATEGORIES:Foxborough
ATTACH;FMTTYPE=image/jpeg:https://foxboroughplainvillewrentham.com/wp-content/uploads/2025/01/Six-String-Line-Dancing-2023-square.jpg
END:VEVENT
BEGIN:VEVENT
DTSTART;TZID=America/New_York:20250430T190000
DTEND;TZID=America/New_York:20250430T210000
DTSTAMP:20260421T054709
CREATED:20250107T192945Z
LAST-MODIFIED:20250107T192945Z
UID:10001584-1746039600-1746046800@foxboroughplainvillewrentham.com
SUMMARY:Citizen Crust — Trivia Night
DESCRIPTION:Every Wednesday: 7:00 PM – 9:00 PM \nAre you ready? Citizen Crust is very excited to host Wednesday Trivia Night! Come show your love and support while you get your thinking on! Limited reservations are available\, so grab them while you can!
URL:https://foxboroughplainvillewrentham.com/event/citizen-crust-trivia-night/2025-04-30/
LOCATION:Patriot Place\, Two Patriot Place\, Foxborough\, MA\, 02035\, United States
CATEGORIES:Foxborough
ATTACH;FMTTYPE=image/jpeg:https://foxboroughplainvillewrentham.com/wp-content/uploads/2025/01/Citizen-Crust-Trivia-Night-2023-square-1-1200x1244-1.jpg
END:VEVENT
BEGIN:VEVENT
DTSTART;TZID=America/New_York:20250430T190000
DTEND;TZID=America/New_York:20250430T210000
DTSTAMP:20260421T054709
CREATED:20250107T192806Z
LAST-MODIFIED:20250107T192806Z
UID:10001323-1746039600-1746046800@foxboroughplainvillewrentham.com
SUMMARY:Wormtown Brewery — Music Bingo
DESCRIPTION:Wednesdays: 7:00 PM – 9:00 PM \nTest your music knowledge with Good Thomas on Wednesday nights at Wormtown Patriot Place!\nThis event is free to play and covers a variety of music\, from different decades and genres. We’ll see you Wednesday!
URL:https://foxboroughplainvillewrentham.com/event/wormtown-brewery-music-bingo/2025-04-30/
LOCATION:Patriot Place\, Two Patriot Place\, Foxborough\, MA\, 02035\, United States
CATEGORIES:Foxborough
ATTACH;FMTTYPE=image/webp:https://foxboroughplainvillewrentham.com/wp-content/uploads/2025/01/WT_MusicBingo_PP_IG-Grid.webp
END:VEVENT
BEGIN:VEVENT
DTSTART;VALUE=DATE:20250429
DTEND;VALUE=DATE:20250430
DTSTAMP:20260421T054709
CREATED:20250107T194131Z
LAST-MODIFIED:20250107T194148Z
UID:10003151-1745884800-1745971199@foxboroughplainvillewrentham.com
SUMMARY:Taco Tuesday
DESCRIPTION:Every Tuesday \nSpice up your week with Taco Tuesday! Get special deals at Patriot Place restaurants: \nAxel & Byrne\nMix and Match Tacos $4 each or 3 for $10 (Brisket\, pulled pork\, pulled chicken) \nCitizen Crust\n$3 street tacos\, $3 Tecate & custom margs! \nScorpion Bar\n$25 unlimited all-you-can-eat tacos
URL:https://foxboroughplainvillewrentham.com/event/7109/2025-04-29/
LOCATION:Patriot Place\, Two Patriot Place\, Foxborough\, MA\, 02035\, United States
CATEGORIES:Foxborough
ATTACH;FMTTYPE=image/jpeg:https://foxboroughplainvillewrentham.com/wp-content/uploads/2025/01/Taco-Tuesday-square.jpg
END:VEVENT
BEGIN:VEVENT
DTSTART;TZID=America/New_York:20250427T110000
DTEND;TZID=America/New_York:20250427T150000
DTSTAMP:20260421T054709
CREATED:20250107T193955Z
LAST-MODIFIED:20250107T193955Z
UID:10002644-1745751600-1745766000@foxboroughplainvillewrentham.com
SUMMARY:Bar Louie — Weekend Brunch
DESCRIPTION:Every Saturday & Sunday:  11:00 AM – 3:00 PM \nHaving an egg-sistential crisis? Brunch is always the answer! Stop by weekend brunch at Bar Louie to get a juicy taste of our favorite meals to start the day! \nAsk about our Mimosa Specials and our Freshly Shaken Iced Teas and Lemonades! \nView Menu
URL:https://foxboroughplainvillewrentham.com/event/bar-louie-weekend-brunch/2025-04-27/
LOCATION:Patriot Place\, Two Patriot Place\, Foxborough\, MA\, 02035\, United States
CATEGORIES:Foxborough
ATTACH;FMTTYPE=image/jpeg:https://foxboroughplainvillewrentham.com/wp-content/uploads/2025/01/Bar-Louie-Weekend-Brunch-square.jpg
END:VEVENT
BEGIN:VEVENT
DTSTART;TZID=America/New_York:20250426T210000
DTEND;TZID=America/New_York:20250426T233000
DTSTAMP:20260421T054709
CREATED:20250107T193719Z
LAST-MODIFIED:20250107T193719Z
UID:10002122-1745701200-1745710200@foxboroughplainvillewrentham.com
SUMMARY:The Harp — DJ Night
DESCRIPTION:Friday & Saturday Nights: 9:00 PM \nNobody does DJ night better than The Harp! Our DJ will be playing all the top bangers starting at 9:00 PM. \n21-plus only. NO COVER
URL:https://foxboroughplainvillewrentham.com/event/the-harp-dj-night/2025-04-26/
LOCATION:Patriot Place\, Two Patriot Place\, Foxborough\, MA\, 02035\, United States
CATEGORIES:Foxborough
ATTACH;FMTTYPE=image/webp:https://foxboroughplainvillewrentham.com/wp-content/uploads/2025/01/harp-pp-dj-night-patriot-place-square-1200x1200-1.webp
END:VEVENT
BEGIN:VEVENT
DTSTART;TZID=America/New_York:20250426T110000
DTEND;TZID=America/New_York:20250426T150000
DTSTAMP:20260421T054709
CREATED:20250107T193955Z
LAST-MODIFIED:20250107T193955Z
UID:10002643-1745665200-1745679600@foxboroughplainvillewrentham.com
SUMMARY:Bar Louie — Weekend Brunch
DESCRIPTION:Every Saturday & Sunday:  11:00 AM – 3:00 PM \nHaving an egg-sistential crisis? Brunch is always the answer! Stop by weekend brunch at Bar Louie to get a juicy taste of our favorite meals to start the day! \nAsk about our Mimosa Specials and our Freshly Shaken Iced Teas and Lemonades! \nView Menu
URL:https://foxboroughplainvillewrentham.com/event/bar-louie-weekend-brunch/2025-04-26/
LOCATION:Patriot Place\, Two Patriot Place\, Foxborough\, MA\, 02035\, United States
CATEGORIES:Foxborough
ATTACH;FMTTYPE=image/jpeg:https://foxboroughplainvillewrentham.com/wp-content/uploads/2025/01/Bar-Louie-Weekend-Brunch-square.jpg
END:VEVENT
BEGIN:VEVENT
DTSTART;TZID=America/New_York:20250425T210000
DTEND;TZID=America/New_York:20250425T233000
DTSTAMP:20260421T054709
CREATED:20250107T193719Z
LAST-MODIFIED:20250107T193719Z
UID:10002121-1745614800-1745623800@foxboroughplainvillewrentham.com
SUMMARY:The Harp — DJ Night
DESCRIPTION:Friday & Saturday Nights: 9:00 PM \nNobody does DJ night better than The Harp! Our DJ will be playing all the top bangers starting at 9:00 PM. \n21-plus only. NO COVER
URL:https://foxboroughplainvillewrentham.com/event/the-harp-dj-night/2025-04-25/
LOCATION:Patriot Place\, Two Patriot Place\, Foxborough\, MA\, 02035\, United States
CATEGORIES:Foxborough
ATTACH;FMTTYPE=image/webp:https://foxboroughplainvillewrentham.com/wp-content/uploads/2025/01/harp-pp-dj-night-patriot-place-square-1200x1200-1.webp
END:VEVENT
BEGIN:VEVENT
DTSTART;TZID=America/New_York:20250423T193000
DTEND;TZID=America/New_York:20250423T213000
DTSTAMP:20260421T054709
CREATED:20250107T193124Z
LAST-MODIFIED:20250107T193124Z
UID:10001844-1745436600-1745443800@foxboroughplainvillewrentham.com
SUMMARY:Six String Grill & Stage
DESCRIPTION:Wednesdays: 7:30 PM \nHowdy y’all!  \n​Join us every Wednesday for FREE Line Dancing Lessons with Btches ‘n Boots! Line dancing starts at 7:30 PM\, but we encourage you come early for dinner & drinks. All levels welcome – we hope to see you there! \nQuestions?  \nhowdy@sixstringfoxborough.com
URL:https://foxboroughplainvillewrentham.com/event/six-string-grill-stage/2025-04-23/
LOCATION:Patriot Place\, Two Patriot Place\, Foxborough\, MA\, 02035\, United States
CATEGORIES:Foxborough
ATTACH;FMTTYPE=image/jpeg:https://foxboroughplainvillewrentham.com/wp-content/uploads/2025/01/Six-String-Line-Dancing-2023-square.jpg
END:VEVENT
BEGIN:VEVENT
DTSTART;TZID=America/New_York:20250423T190000
DTEND;TZID=America/New_York:20250423T210000
DTSTAMP:20260421T054709
CREATED:20250107T192945Z
LAST-MODIFIED:20250107T192945Z
UID:10001583-1745434800-1745442000@foxboroughplainvillewrentham.com
SUMMARY:Citizen Crust — Trivia Night
DESCRIPTION:Every Wednesday: 7:00 PM – 9:00 PM \nAre you ready? Citizen Crust is very excited to host Wednesday Trivia Night! Come show your love and support while you get your thinking on! Limited reservations are available\, so grab them while you can!
URL:https://foxboroughplainvillewrentham.com/event/citizen-crust-trivia-night/2025-04-23/
LOCATION:Patriot Place\, Two Patriot Place\, Foxborough\, MA\, 02035\, United States
CATEGORIES:Foxborough
ATTACH;FMTTYPE=image/jpeg:https://foxboroughplainvillewrentham.com/wp-content/uploads/2025/01/Citizen-Crust-Trivia-Night-2023-square-1-1200x1244-1.jpg
END:VEVENT
BEGIN:VEVENT
DTSTART;TZID=America/New_York:20250423T190000
DTEND;TZID=America/New_York:20250423T210000
DTSTAMP:20260421T054709
CREATED:20250107T192806Z
LAST-MODIFIED:20250107T192806Z
UID:10001322-1745434800-1745442000@foxboroughplainvillewrentham.com
SUMMARY:Wormtown Brewery — Music Bingo
DESCRIPTION:Wednesdays: 7:00 PM – 9:00 PM \nTest your music knowledge with Good Thomas on Wednesday nights at Wormtown Patriot Place!\nThis event is free to play and covers a variety of music\, from different decades and genres. We’ll see you Wednesday!
URL:https://foxboroughplainvillewrentham.com/event/wormtown-brewery-music-bingo/2025-04-23/
LOCATION:Patriot Place\, Two Patriot Place\, Foxborough\, MA\, 02035\, United States
CATEGORIES:Foxborough
ATTACH;FMTTYPE=image/webp:https://foxboroughplainvillewrentham.com/wp-content/uploads/2025/01/WT_MusicBingo_PP_IG-Grid.webp
END:VEVENT
BEGIN:VEVENT
DTSTART;VALUE=DATE:20250422
DTEND;VALUE=DATE:20250423
DTSTAMP:20260421T054709
CREATED:20250107T194131Z
LAST-MODIFIED:20250107T194148Z
UID:10003150-1745280000-1745366399@foxboroughplainvillewrentham.com
SUMMARY:Taco Tuesday
DESCRIPTION:Every Tuesday \nSpice up your week with Taco Tuesday! Get special deals at Patriot Place restaurants: \nAxel & Byrne\nMix and Match Tacos $4 each or 3 for $10 (Brisket\, pulled pork\, pulled chicken) \nCitizen Crust\n$3 street tacos\, $3 Tecate & custom margs! \nScorpion Bar\n$25 unlimited all-you-can-eat tacos
URL:https://foxboroughplainvillewrentham.com/event/7109/2025-04-22/
LOCATION:Patriot Place\, Two Patriot Place\, Foxborough\, MA\, 02035\, United States
CATEGORIES:Foxborough
ATTACH;FMTTYPE=image/jpeg:https://foxboroughplainvillewrentham.com/wp-content/uploads/2025/01/Taco-Tuesday-square.jpg
END:VEVENT
BEGIN:VEVENT
DTSTART;TZID=America/New_York:20250420T110000
DTEND;TZID=America/New_York:20250420T150000
DTSTAMP:20260421T054709
CREATED:20250107T193955Z
LAST-MODIFIED:20250107T193955Z
UID:10002642-1745146800-1745161200@foxboroughplainvillewrentham.com
SUMMARY:Bar Louie — Weekend Brunch
DESCRIPTION:Every Saturday & Sunday:  11:00 AM – 3:00 PM \nHaving an egg-sistential crisis? Brunch is always the answer! Stop by weekend brunch at Bar Louie to get a juicy taste of our favorite meals to start the day! \nAsk about our Mimosa Specials and our Freshly Shaken Iced Teas and Lemonades! \nView Menu
URL:https://foxboroughplainvillewrentham.com/event/bar-louie-weekend-brunch/2025-04-20/
LOCATION:Patriot Place\, Two Patriot Place\, Foxborough\, MA\, 02035\, United States
CATEGORIES:Foxborough
ATTACH;FMTTYPE=image/jpeg:https://foxboroughplainvillewrentham.com/wp-content/uploads/2025/01/Bar-Louie-Weekend-Brunch-square.jpg
END:VEVENT
BEGIN:VEVENT
DTSTART;TZID=America/New_York:20250419T210000
DTEND;TZID=America/New_York:20250419T233000
DTSTAMP:20260421T054709
CREATED:20250107T193719Z
LAST-MODIFIED:20250107T193719Z
UID:10002120-1745096400-1745105400@foxboroughplainvillewrentham.com
SUMMARY:The Harp — DJ Night
DESCRIPTION:Friday & Saturday Nights: 9:00 PM \nNobody does DJ night better than The Harp! Our DJ will be playing all the top bangers starting at 9:00 PM. \n21-plus only. NO COVER
URL:https://foxboroughplainvillewrentham.com/event/the-harp-dj-night/2025-04-19/
LOCATION:Patriot Place\, Two Patriot Place\, Foxborough\, MA\, 02035\, United States
CATEGORIES:Foxborough
ATTACH;FMTTYPE=image/webp:https://foxboroughplainvillewrentham.com/wp-content/uploads/2025/01/harp-pp-dj-night-patriot-place-square-1200x1200-1.webp
END:VEVENT
BEGIN:VEVENT
DTSTART;TZID=America/New_York:20250419T193000
DTEND;TZID=America/New_York:20250419T213000
DTSTAMP:20260421T054709
CREATED:20250409T191540Z
LAST-MODIFIED:20250409T191540Z
UID:10003430-1745091000-1745098200@foxboroughplainvillewrentham.com
SUMMARY:New England Revolution vs. New York City FC
DESCRIPTION:The New England Revolution are excited to welcome fans to Gillette Stadium for the 2025 season. Please review our comprehensive Health and Safety page before attending Revolution home games this season to maintain a safe environment for our visitors\, players\, and staff.
URL:https://foxboroughplainvillewrentham.com/event/new-england-revolution-vs-new-york-city-fc/
LOCATION:Gillette Stadium\, 1 Patriot Pl\, Foxborough\, 02035\, United States
CATEGORIES:Foxborough
ATTACH;FMTTYPE=image/jpeg:https://foxboroughplainvillewrentham.com/wp-content/uploads/2025/04/2025-REVS-NYCFC-1200x800-1.jpg
GEO:42.0925323;-71.2641271
X-APPLE-STRUCTURED-LOCATION;VALUE=URI;X-ADDRESS=Gillette Stadium 1 Patriot Pl Foxborough 02035 United States;X-APPLE-RADIUS=500;X-TITLE=1 Patriot Pl:geo:-71.2641271,42.0925323
END:VEVENT
BEGIN:VEVENT
DTSTART;TZID=America/New_York:20250419T110000
DTEND;TZID=America/New_York:20250419T150000
DTSTAMP:20260421T054709
CREATED:20250107T193955Z
LAST-MODIFIED:20250107T193955Z
UID:10002641-1745060400-1745074800@foxboroughplainvillewrentham.com
SUMMARY:Bar Louie — Weekend Brunch
DESCRIPTION:Every Saturday & Sunday:  11:00 AM – 3:00 PM \nHaving an egg-sistential crisis? Brunch is always the answer! Stop by weekend brunch at Bar Louie to get a juicy taste of our favorite meals to start the day! \nAsk about our Mimosa Specials and our Freshly Shaken Iced Teas and Lemonades! \nView Menu
URL:https://foxboroughplainvillewrentham.com/event/bar-louie-weekend-brunch/2025-04-19/
LOCATION:Patriot Place\, Two Patriot Place\, Foxborough\, MA\, 02035\, United States
CATEGORIES:Foxborough
ATTACH;FMTTYPE=image/jpeg:https://foxboroughplainvillewrentham.com/wp-content/uploads/2025/01/Bar-Louie-Weekend-Brunch-square.jpg
END:VEVENT
BEGIN:VEVENT
DTSTART;TZID=America/New_York:20250418T210000
DTEND;TZID=America/New_York:20250418T233000
DTSTAMP:20260421T054709
CREATED:20250107T193719Z
LAST-MODIFIED:20250107T193719Z
UID:10002119-1745010000-1745019000@foxboroughplainvillewrentham.com
SUMMARY:The Harp — DJ Night
DESCRIPTION:Friday & Saturday Nights: 9:00 PM \nNobody does DJ night better than The Harp! Our DJ will be playing all the top bangers starting at 9:00 PM. \n21-plus only. NO COVER
URL:https://foxboroughplainvillewrentham.com/event/the-harp-dj-night/2025-04-18/
LOCATION:Patriot Place\, Two Patriot Place\, Foxborough\, MA\, 02035\, United States
CATEGORIES:Foxborough
ATTACH;FMTTYPE=image/webp:https://foxboroughplainvillewrentham.com/wp-content/uploads/2025/01/harp-pp-dj-night-patriot-place-square-1200x1200-1.webp
END:VEVENT
BEGIN:VEVENT
DTSTART;TZID=America/New_York:20250416T193000
DTEND;TZID=America/New_York:20250416T213000
DTSTAMP:20260421T054709
CREATED:20250107T193124Z
LAST-MODIFIED:20250107T193124Z
UID:10001843-1744831800-1744839000@foxboroughplainvillewrentham.com
SUMMARY:Six String Grill & Stage
DESCRIPTION:Wednesdays: 7:30 PM \nHowdy y’all!  \n​Join us every Wednesday for FREE Line Dancing Lessons with Btches ‘n Boots! Line dancing starts at 7:30 PM\, but we encourage you come early for dinner & drinks. All levels welcome – we hope to see you there! \nQuestions?  \nhowdy@sixstringfoxborough.com
URL:https://foxboroughplainvillewrentham.com/event/six-string-grill-stage/2025-04-16/
LOCATION:Patriot Place\, Two Patriot Place\, Foxborough\, MA\, 02035\, United States
CATEGORIES:Foxborough
ATTACH;FMTTYPE=image/jpeg:https://foxboroughplainvillewrentham.com/wp-content/uploads/2025/01/Six-String-Line-Dancing-2023-square.jpg
END:VEVENT
BEGIN:VEVENT
DTSTART;TZID=America/New_York:20250416T190000
DTEND;TZID=America/New_York:20250416T210000
DTSTAMP:20260421T054709
CREATED:20250107T192945Z
LAST-MODIFIED:20250107T192945Z
UID:10001582-1744830000-1744837200@foxboroughplainvillewrentham.com
SUMMARY:Citizen Crust — Trivia Night
DESCRIPTION:Every Wednesday: 7:00 PM – 9:00 PM \nAre you ready? Citizen Crust is very excited to host Wednesday Trivia Night! Come show your love and support while you get your thinking on! Limited reservations are available\, so grab them while you can!
URL:https://foxboroughplainvillewrentham.com/event/citizen-crust-trivia-night/2025-04-16/
LOCATION:Patriot Place\, Two Patriot Place\, Foxborough\, MA\, 02035\, United States
CATEGORIES:Foxborough
ATTACH;FMTTYPE=image/jpeg:https://foxboroughplainvillewrentham.com/wp-content/uploads/2025/01/Citizen-Crust-Trivia-Night-2023-square-1-1200x1244-1.jpg
END:VEVENT
BEGIN:VEVENT
DTSTART;TZID=America/New_York:20250416T190000
DTEND;TZID=America/New_York:20250416T210000
DTSTAMP:20260421T054709
CREATED:20250107T192806Z
LAST-MODIFIED:20250107T192806Z
UID:10001321-1744830000-1744837200@foxboroughplainvillewrentham.com
SUMMARY:Wormtown Brewery — Music Bingo
DESCRIPTION:Wednesdays: 7:00 PM – 9:00 PM \nTest your music knowledge with Good Thomas on Wednesday nights at Wormtown Patriot Place!\nThis event is free to play and covers a variety of music\, from different decades and genres. We’ll see you Wednesday!
URL:https://foxboroughplainvillewrentham.com/event/wormtown-brewery-music-bingo/2025-04-16/
LOCATION:Patriot Place\, Two Patriot Place\, Foxborough\, MA\, 02035\, United States
CATEGORIES:Foxborough
ATTACH;FMTTYPE=image/webp:https://foxboroughplainvillewrentham.com/wp-content/uploads/2025/01/WT_MusicBingo_PP_IG-Grid.webp
END:VEVENT
BEGIN:VEVENT
DTSTART;VALUE=DATE:20250415
DTEND;VALUE=DATE:20250416
DTSTAMP:20260421T054709
CREATED:20250107T194131Z
LAST-MODIFIED:20250107T194148Z
UID:10003149-1744675200-1744761599@foxboroughplainvillewrentham.com
SUMMARY:Taco Tuesday
DESCRIPTION:Every Tuesday \nSpice up your week with Taco Tuesday! Get special deals at Patriot Place restaurants: \nAxel & Byrne\nMix and Match Tacos $4 each or 3 for $10 (Brisket\, pulled pork\, pulled chicken) \nCitizen Crust\n$3 street tacos\, $3 Tecate & custom margs! \nScorpion Bar\n$25 unlimited all-you-can-eat tacos
URL:https://foxboroughplainvillewrentham.com/event/7109/2025-04-15/
LOCATION:Patriot Place\, Two Patriot Place\, Foxborough\, MA\, 02035\, United States
CATEGORIES:Foxborough
ATTACH;FMTTYPE=image/jpeg:https://foxboroughplainvillewrentham.com/wp-content/uploads/2025/01/Taco-Tuesday-square.jpg
END:VEVENT
BEGIN:VEVENT
DTSTART;TZID=America/New_York:20250413T110000
DTEND;TZID=America/New_York:20250413T150000
DTSTAMP:20260421T054709
CREATED:20250107T193955Z
LAST-MODIFIED:20250107T193955Z
UID:10002640-1744542000-1744556400@foxboroughplainvillewrentham.com
SUMMARY:Bar Louie — Weekend Brunch
DESCRIPTION:Every Saturday & Sunday:  11:00 AM – 3:00 PM \nHaving an egg-sistential crisis? Brunch is always the answer! Stop by weekend brunch at Bar Louie to get a juicy taste of our favorite meals to start the day! \nAsk about our Mimosa Specials and our Freshly Shaken Iced Teas and Lemonades! \nView Menu
URL:https://foxboroughplainvillewrentham.com/event/bar-louie-weekend-brunch/2025-04-13/
LOCATION:Patriot Place\, Two Patriot Place\, Foxborough\, MA\, 02035\, United States
CATEGORIES:Foxborough
ATTACH;FMTTYPE=image/jpeg:https://foxboroughplainvillewrentham.com/wp-content/uploads/2025/01/Bar-Louie-Weekend-Brunch-square.jpg
END:VEVENT
END:VCALENDAR