BEGIN:VCALENDAR
VERSION:2.0
PRODID:-//Foxborough, Plainville, and Wrentham - ECPv6.15.18//NONSGML v1.0//EN
CALSCALE:GREGORIAN
METHOD:PUBLISH
X-WR-CALNAME:Foxborough, Plainville, and Wrentham
X-ORIGINAL-URL:https://foxboroughplainvillewrentham.com
X-WR-CALDESC:Events for Foxborough, Plainville, and Wrentham
REFRESH-INTERVAL;VALUE=DURATION:PT1H
X-Robots-Tag:noindex
X-PUBLISHED-TTL:PT1H
BEGIN:VTIMEZONE
TZID:America/New_York
BEGIN:DAYLIGHT
TZOFFSETFROM:-0500
TZOFFSETTO:-0400
TZNAME:EDT
DTSTART:20230312T070000
END:DAYLIGHT
BEGIN:STANDARD
TZOFFSETFROM:-0400
TZOFFSETTO:-0500
TZNAME:EST
DTSTART:20231105T060000
END:STANDARD
BEGIN:DAYLIGHT
TZOFFSETFROM:-0500
TZOFFSETTO:-0400
TZNAME:EDT
DTSTART:20240310T070000
END:DAYLIGHT
BEGIN:STANDARD
TZOFFSETFROM:-0400
TZOFFSETTO:-0500
TZNAME:EST
DTSTART:20241103T060000
END:STANDARD
BEGIN:DAYLIGHT
TZOFFSETFROM:-0500
TZOFFSETTO:-0400
TZNAME:EDT
DTSTART:20250309T070000
END:DAYLIGHT
BEGIN:STANDARD
TZOFFSETFROM:-0400
TZOFFSETTO:-0500
TZNAME:EST
DTSTART:20251102T060000
END:STANDARD
END:VTIMEZONE
BEGIN:VEVENT
DTSTART;TZID=America/New_York:20241016T193000
DTEND;TZID=America/New_York:20241016T213000
DTSTAMP:20260424T073659
CREATED:20231215T184706Z
LAST-MODIFIED:20231215T184706Z
UID:10000744-1729107000-1729114200@foxboroughplainvillewrentham.com
SUMMARY:Line Dancing at Six String Grill & Stage
DESCRIPTION:​Join us at the Six String Grill & Stage every Wednesday for FREE Line Dancing Lessons with Btches ‘n Boots! Line dancing starts at 7:30 PM\, but we encourage you to arrive early for dinner & drinks. All levels welcome – we hope to see you there!
URL:https://foxboroughplainvillewrentham.com/event/line-dancing-at-six-string-grill-stage/2024-10-16/
LOCATION:Patriot Place\, Two Patriot Place\, Foxborough\, MA\, 02035\, United States
CATEGORIES:Foxborough
ATTACH;FMTTYPE=image/jpeg:https://foxboroughplainvillewrentham.com/wp-content/uploads/2023/12/Six-String-Line-Dancing-2023-square.jpg
END:VEVENT
BEGIN:VEVENT
DTSTART;TZID=America/New_York:20241012T210000
DTEND;TZID=America/New_York:20241012T233000
DTSTAMP:20260424T073659
CREATED:20240815T163706Z
LAST-MODIFIED:20240815T163706Z
UID:10000983-1728766800-1728775800@foxboroughplainvillewrentham.com
SUMMARY:DJ Night at The Harp
DESCRIPTION:Friday & Saturday Nights: 9:00 PM \nNobody does DJ night better than The Harp! Our DJ will be playing all the top bangers starting at 9:00 PM. \n21-plus only. NO COVER
URL:https://foxboroughplainvillewrentham.com/event/dj-night-at-the-harp/2024-10-12/
LOCATION:Patriot Place\, Two Patriot Place\, Foxborough\, MA\, 02035\, United States
CATEGORIES:Foxborough
ATTACH;FMTTYPE=image/webp:https://foxboroughplainvillewrentham.com/wp-content/uploads/2024/08/harp-pp-dj-night-patriot-place-square.webp
END:VEVENT
BEGIN:VEVENT
DTSTART;TZID=America/New_York:20241011T210000
DTEND;TZID=America/New_York:20241011T233000
DTSTAMP:20260424T073659
CREATED:20240815T163706Z
LAST-MODIFIED:20240815T163706Z
UID:10000982-1728680400-1728689400@foxboroughplainvillewrentham.com
SUMMARY:DJ Night at The Harp
DESCRIPTION:Friday & Saturday Nights: 9:00 PM \nNobody does DJ night better than The Harp! Our DJ will be playing all the top bangers starting at 9:00 PM. \n21-plus only. NO COVER
URL:https://foxboroughplainvillewrentham.com/event/dj-night-at-the-harp/2024-10-11/
LOCATION:Patriot Place\, Two Patriot Place\, Foxborough\, MA\, 02035\, United States
CATEGORIES:Foxborough
ATTACH;FMTTYPE=image/webp:https://foxboroughplainvillewrentham.com/wp-content/uploads/2024/08/harp-pp-dj-night-patriot-place-square.webp
END:VEVENT
BEGIN:VEVENT
DTSTART;TZID=America/New_York:20241009T193000
DTEND;TZID=America/New_York:20241009T213000
DTSTAMP:20260424T073659
CREATED:20231215T184706Z
LAST-MODIFIED:20231215T184706Z
UID:10000743-1728502200-1728509400@foxboroughplainvillewrentham.com
SUMMARY:Line Dancing at Six String Grill & Stage
DESCRIPTION:​Join us at the Six String Grill & Stage every Wednesday for FREE Line Dancing Lessons with Btches ‘n Boots! Line dancing starts at 7:30 PM\, but we encourage you to arrive early for dinner & drinks. All levels welcome – we hope to see you there!
URL:https://foxboroughplainvillewrentham.com/event/line-dancing-at-six-string-grill-stage/2024-10-09/
LOCATION:Patriot Place\, Two Patriot Place\, Foxborough\, MA\, 02035\, United States
CATEGORIES:Foxborough
ATTACH;FMTTYPE=image/jpeg:https://foxboroughplainvillewrentham.com/wp-content/uploads/2023/12/Six-String-Line-Dancing-2023-square.jpg
END:VEVENT
BEGIN:VEVENT
DTSTART;TZID=America/New_York:20241005T210000
DTEND;TZID=America/New_York:20241005T233000
DTSTAMP:20260424T073659
CREATED:20240815T163706Z
LAST-MODIFIED:20240815T163706Z
UID:10000981-1728162000-1728171000@foxboroughplainvillewrentham.com
SUMMARY:DJ Night at The Harp
DESCRIPTION:Friday & Saturday Nights: 9:00 PM \nNobody does DJ night better than The Harp! Our DJ will be playing all the top bangers starting at 9:00 PM. \n21-plus only. NO COVER
URL:https://foxboroughplainvillewrentham.com/event/dj-night-at-the-harp/2024-10-05/
LOCATION:Patriot Place\, Two Patriot Place\, Foxborough\, MA\, 02035\, United States
CATEGORIES:Foxborough
ATTACH;FMTTYPE=image/webp:https://foxboroughplainvillewrentham.com/wp-content/uploads/2024/08/harp-pp-dj-night-patriot-place-square.webp
END:VEVENT
BEGIN:VEVENT
DTSTART;TZID=America/New_York:20241004T210000
DTEND;TZID=America/New_York:20241004T233000
DTSTAMP:20260424T073659
CREATED:20240815T163706Z
LAST-MODIFIED:20240815T163706Z
UID:10000980-1728075600-1728084600@foxboroughplainvillewrentham.com
SUMMARY:DJ Night at The Harp
DESCRIPTION:Friday & Saturday Nights: 9:00 PM \nNobody does DJ night better than The Harp! Our DJ will be playing all the top bangers starting at 9:00 PM. \n21-plus only. NO COVER
URL:https://foxboroughplainvillewrentham.com/event/dj-night-at-the-harp/2024-10-04/
LOCATION:Patriot Place\, Two Patriot Place\, Foxborough\, MA\, 02035\, United States
CATEGORIES:Foxborough
ATTACH;FMTTYPE=image/webp:https://foxboroughplainvillewrentham.com/wp-content/uploads/2024/08/harp-pp-dj-night-patriot-place-square.webp
END:VEVENT
BEGIN:VEVENT
DTSTART;TZID=America/New_York:20241003T160000
DTEND;TZID=America/New_York:20241003T200000
DTSTAMP:20260424T073659
CREATED:20240703T131401Z
LAST-MODIFIED:20240703T131540Z
UID:10000932-1727971200-1727985600@foxboroughplainvillewrentham.com
SUMMARY:Cruise Night at Patriot Place
DESCRIPTION:Join the Mass Cruisers Auto Club for free and exciting Cruise Night at Bass Por Shops Patriot Place! \nThe Bass Pro Shops Cruise Nights with the Mass Cruisers are known throughout New England. Bi-Weekly hundreds of cars\, owners and fans attend for FREE and enjoy all the sights and sounds of Patriot Place. \n*Cruise dates are subject to change due to weather and/or conflicts with Gillette Stadium and New England Patriots Events. \nFind the most updated details here.
URL:https://foxboroughplainvillewrentham.com/event/5740/2024-10-03/
LOCATION:Bass Pro Shops\, 1 Bass Pro Drive\, Foxborough\, MA\, 02035\, United States
CATEGORIES:Foxborough
ATTACH;FMTTYPE=image/jpeg:https://foxboroughplainvillewrentham.com/wp-content/uploads/2024/07/Mass-Cruisers-2022-square-07.jpg
END:VEVENT
BEGIN:VEVENT
DTSTART;TZID=America/New_York:20241002T193000
DTEND;TZID=America/New_York:20241002T213000
DTSTAMP:20260424T073659
CREATED:20231215T184706Z
LAST-MODIFIED:20231215T184706Z
UID:10000742-1727897400-1727904600@foxboroughplainvillewrentham.com
SUMMARY:Line Dancing at Six String Grill & Stage
DESCRIPTION:​Join us at the Six String Grill & Stage every Wednesday for FREE Line Dancing Lessons with Btches ‘n Boots! Line dancing starts at 7:30 PM\, but we encourage you to arrive early for dinner & drinks. All levels welcome – we hope to see you there!
URL:https://foxboroughplainvillewrentham.com/event/line-dancing-at-six-string-grill-stage/2024-10-02/
LOCATION:Patriot Place\, Two Patriot Place\, Foxborough\, MA\, 02035\, United States
CATEGORIES:Foxborough
ATTACH;FMTTYPE=image/jpeg:https://foxboroughplainvillewrentham.com/wp-content/uploads/2023/12/Six-String-Line-Dancing-2023-square.jpg
END:VEVENT
BEGIN:VEVENT
DTSTART;TZID=America/New_York:20240928T210000
DTEND;TZID=America/New_York:20240928T233000
DTSTAMP:20260424T073659
CREATED:20240815T163706Z
LAST-MODIFIED:20240815T163706Z
UID:10000979-1727557200-1727566200@foxboroughplainvillewrentham.com
SUMMARY:DJ Night at The Harp
DESCRIPTION:Friday & Saturday Nights: 9:00 PM \nNobody does DJ night better than The Harp! Our DJ will be playing all the top bangers starting at 9:00 PM. \n21-plus only. NO COVER
URL:https://foxboroughplainvillewrentham.com/event/dj-night-at-the-harp/2024-09-28/
LOCATION:Patriot Place\, Two Patriot Place\, Foxborough\, MA\, 02035\, United States
CATEGORIES:Foxborough
ATTACH;FMTTYPE=image/webp:https://foxboroughplainvillewrentham.com/wp-content/uploads/2024/08/harp-pp-dj-night-patriot-place-square.webp
END:VEVENT
BEGIN:VEVENT
DTSTART;TZID=America/New_York:20240928T193000
DTEND;TZID=America/New_York:20240928T213000
DTSTAMP:20260424T073659
CREATED:20240815T164603Z
LAST-MODIFIED:20240815T164603Z
UID:10001008-1727551800-1727559000@foxboroughplainvillewrentham.com
SUMMARY:New England Revolution vs. Nashville SC
DESCRIPTION:See your New England Revolution take on the Nashville SC live at Gillette Stadium.
URL:https://foxboroughplainvillewrentham.com/event/new-england-revolution-vs-nashville-sc-2/
LOCATION:Gillette Stadium\, 1 Patriot Pl\, Foxborough\, 02035\, United States
CATEGORIES:Foxborough
ATTACH;FMTTYPE=image/jpeg:https://foxboroughplainvillewrentham.com/wp-content/uploads/2024/08/NE_Revolution-square.jpg
GEO:42.0925323;-71.2641271
X-APPLE-STRUCTURED-LOCATION;VALUE=URI;X-ADDRESS=Gillette Stadium 1 Patriot Pl Foxborough 02035 United States;X-APPLE-RADIUS=500;X-TITLE=1 Patriot Pl:geo:-71.2641271,42.0925323
END:VEVENT
BEGIN:VEVENT
DTSTART;TZID=America/New_York:20240927T210000
DTEND;TZID=America/New_York:20240927T233000
DTSTAMP:20260424T073659
CREATED:20240815T163706Z
LAST-MODIFIED:20240815T163706Z
UID:10000978-1727470800-1727479800@foxboroughplainvillewrentham.com
SUMMARY:DJ Night at The Harp
DESCRIPTION:Friday & Saturday Nights: 9:00 PM \nNobody does DJ night better than The Harp! Our DJ will be playing all the top bangers starting at 9:00 PM. \n21-plus only. NO COVER
URL:https://foxboroughplainvillewrentham.com/event/dj-night-at-the-harp/2024-09-27/
LOCATION:Patriot Place\, Two Patriot Place\, Foxborough\, MA\, 02035\, United States
CATEGORIES:Foxborough
ATTACH;FMTTYPE=image/webp:https://foxboroughplainvillewrentham.com/wp-content/uploads/2024/08/harp-pp-dj-night-patriot-place-square.webp
END:VEVENT
BEGIN:VEVENT
DTSTART;TZID=America/New_York:20240925T193000
DTEND;TZID=America/New_York:20240925T213000
DTSTAMP:20260424T073659
CREATED:20231215T184706Z
LAST-MODIFIED:20231215T184706Z
UID:10000741-1727292600-1727299800@foxboroughplainvillewrentham.com
SUMMARY:Line Dancing at Six String Grill & Stage
DESCRIPTION:​Join us at the Six String Grill & Stage every Wednesday for FREE Line Dancing Lessons with Btches ‘n Boots! Line dancing starts at 7:30 PM\, but we encourage you to arrive early for dinner & drinks. All levels welcome – we hope to see you there!
URL:https://foxboroughplainvillewrentham.com/event/line-dancing-at-six-string-grill-stage/2024-09-25/
LOCATION:Patriot Place\, Two Patriot Place\, Foxborough\, MA\, 02035\, United States
CATEGORIES:Foxborough
ATTACH;FMTTYPE=image/jpeg:https://foxboroughplainvillewrentham.com/wp-content/uploads/2023/12/Six-String-Line-Dancing-2023-square.jpg
END:VEVENT
BEGIN:VEVENT
DTSTART;TZID=America/New_York:20240924T190000
DTEND;TZID=America/New_York:20240924T203000
DTSTAMP:20260424T073659
CREATED:20240815T164125Z
LAST-MODIFIED:20240815T164125Z
UID:10001006-1727204400-1727209800@foxboroughplainvillewrentham.com
SUMMARY:Meet the Author: Rachel Harrison
DESCRIPTION:Rachel Harrison is the national bestselling author of Black Sheep\, Such Sharp Teeth\, Cackle\, and The Return\, which was nominated for a Bram Stoker Award for Superior Achievement in a First Novel. Her short fiction has appeared in Guernica\, in Electric Literature’s Recommended Reading\, as an Audible Original\, and in her debut collection\, Bad Dolls. She lives in western New York with her husband and their cat/overlord. \nRachel Harrison has made us cackle\, fear such sharp teeth\, and cheer for the black sheep. Now she’s back and she’s SO THIRSTY! We’re all huge fans of Rachel’s work and we’re delighted to welcome her back to celebrate the release of her new novel\, So Thirsty\, her eagerly awaited vampire novel. Two friends on a birthday weekend getaway have a wild night out with a group of mysterious strangers only for it to take a turn for the bloody! The New York Times raves about her books and said “Harrison’s feminist horror novels are some of the most original and entertaining out there.” We completely agree. Come hear Rachel talk about her book with fellow horror author\, Emily C. Hughes. We’ll even have a special So Thirsty-themed cocktail! \nPLEASE NOTE: This is a ticketed event. All guests must be registered for a ticket to gain admission to this event. You can register via the link here. 
URL:https://foxboroughplainvillewrentham.com/event/meet-the-author-rachel-harrison-2/
LOCATION:An Unlikely Story\, 111 South Street\, Plainville\, MA\, 02762\, United States
CATEGORIES:Plainville
ATTACH;FMTTYPE=image/png:https://foxboroughplainvillewrentham.com/wp-content/uploads/2024/08/Rachel-Harrison.png
END:VEVENT
BEGIN:VEVENT
DTSTART;TZID=America/New_York:20240921T210000
DTEND;TZID=America/New_York:20240921T233000
DTSTAMP:20260424T073659
CREATED:20240815T163706Z
LAST-MODIFIED:20240815T163706Z
UID:10000977-1726952400-1726961400@foxboroughplainvillewrentham.com
SUMMARY:DJ Night at The Harp
DESCRIPTION:Friday & Saturday Nights: 9:00 PM \nNobody does DJ night better than The Harp! Our DJ will be playing all the top bangers starting at 9:00 PM. \n21-plus only. NO COVER
URL:https://foxboroughplainvillewrentham.com/event/dj-night-at-the-harp/2024-09-21/
LOCATION:Patriot Place\, Two Patriot Place\, Foxborough\, MA\, 02035\, United States
CATEGORIES:Foxborough
ATTACH;FMTTYPE=image/webp:https://foxboroughplainvillewrentham.com/wp-content/uploads/2024/08/harp-pp-dj-night-patriot-place-square.webp
END:VEVENT
BEGIN:VEVENT
DTSTART;TZID=America/New_York:20240920T210000
DTEND;TZID=America/New_York:20240920T233000
DTSTAMP:20260424T073659
CREATED:20240815T163706Z
LAST-MODIFIED:20240815T163706Z
UID:10000976-1726866000-1726875000@foxboroughplainvillewrentham.com
SUMMARY:DJ Night at The Harp
DESCRIPTION:Friday & Saturday Nights: 9:00 PM \nNobody does DJ night better than The Harp! Our DJ will be playing all the top bangers starting at 9:00 PM. \n21-plus only. NO COVER
URL:https://foxboroughplainvillewrentham.com/event/dj-night-at-the-harp/2024-09-20/
LOCATION:Patriot Place\, Two Patriot Place\, Foxborough\, MA\, 02035\, United States
CATEGORIES:Foxborough
ATTACH;FMTTYPE=image/webp:https://foxboroughplainvillewrentham.com/wp-content/uploads/2024/08/harp-pp-dj-night-patriot-place-square.webp
END:VEVENT
BEGIN:VEVENT
DTSTART;TZID=America/New_York:20240919T160000
DTEND;TZID=America/New_York:20240919T200000
DTSTAMP:20260424T073659
CREATED:20240703T131401Z
LAST-MODIFIED:20240703T131540Z
UID:10000931-1726761600-1726776000@foxboroughplainvillewrentham.com
SUMMARY:Cruise Night at Patriot Place
DESCRIPTION:Join the Mass Cruisers Auto Club for free and exciting Cruise Night at Bass Por Shops Patriot Place! \nThe Bass Pro Shops Cruise Nights with the Mass Cruisers are known throughout New England. Bi-Weekly hundreds of cars\, owners and fans attend for FREE and enjoy all the sights and sounds of Patriot Place. \n*Cruise dates are subject to change due to weather and/or conflicts with Gillette Stadium and New England Patriots Events. \nFind the most updated details here.
URL:https://foxboroughplainvillewrentham.com/event/5740/2024-09-19/
LOCATION:Bass Pro Shops\, 1 Bass Pro Drive\, Foxborough\, MA\, 02035\, United States
CATEGORIES:Foxborough
ATTACH;FMTTYPE=image/jpeg:https://foxboroughplainvillewrentham.com/wp-content/uploads/2024/07/Mass-Cruisers-2022-square-07.jpg
END:VEVENT
BEGIN:VEVENT
DTSTART;TZID=America/New_York:20240918T193000
DTEND;TZID=America/New_York:20240918T213000
DTSTAMP:20260424T073659
CREATED:20231215T184706Z
LAST-MODIFIED:20231215T184706Z
UID:10000740-1726687800-1726695000@foxboroughplainvillewrentham.com
SUMMARY:Line Dancing at Six String Grill & Stage
DESCRIPTION:​Join us at the Six String Grill & Stage every Wednesday for FREE Line Dancing Lessons with Btches ‘n Boots! Line dancing starts at 7:30 PM\, but we encourage you to arrive early for dinner & drinks. All levels welcome – we hope to see you there!
URL:https://foxboroughplainvillewrentham.com/event/line-dancing-at-six-string-grill-stage/2024-09-18/
LOCATION:Patriot Place\, Two Patriot Place\, Foxborough\, MA\, 02035\, United States
CATEGORIES:Foxborough
ATTACH;FMTTYPE=image/jpeg:https://foxboroughplainvillewrentham.com/wp-content/uploads/2023/12/Six-String-Line-Dancing-2023-square.jpg
END:VEVENT
BEGIN:VEVENT
DTSTART;TZID=America/New_York:20240915T130000
DTEND;TZID=America/New_York:20240915T150000
DTSTAMP:20260424T073659
CREATED:20240815T164409Z
LAST-MODIFIED:20240815T164409Z
UID:10001007-1726405200-1726412400@foxboroughplainvillewrentham.com
SUMMARY:Patriots vs. Seahawks
DESCRIPTION:The Patriots take on the Seattle Seahawks for the home opener at Gillette Stadium.
URL:https://foxboroughplainvillewrentham.com/event/patriots-vs-seahawks/
LOCATION:Gillette Stadium\, 1 Patriot Pl\, Foxborough\, 02035\, United States
CATEGORIES:Foxborough
ATTACH;FMTTYPE=image/jpeg:https://foxboroughplainvillewrentham.com/wp-content/uploads/2023/08/Patriots-6x-square.jpg
GEO:42.0925323;-71.2641271
X-APPLE-STRUCTURED-LOCATION;VALUE=URI;X-ADDRESS=Gillette Stadium 1 Patriot Pl Foxborough 02035 United States;X-APPLE-RADIUS=500;X-TITLE=1 Patriot Pl:geo:-71.2641271,42.0925323
END:VEVENT
BEGIN:VEVENT
DTSTART;TZID=America/New_York:20240914T210000
DTEND;TZID=America/New_York:20240914T233000
DTSTAMP:20260424T073659
CREATED:20240815T163706Z
LAST-MODIFIED:20240815T163706Z
UID:10000975-1726347600-1726356600@foxboroughplainvillewrentham.com
SUMMARY:DJ Night at The Harp
DESCRIPTION:Friday & Saturday Nights: 9:00 PM \nNobody does DJ night better than The Harp! Our DJ will be playing all the top bangers starting at 9:00 PM. \n21-plus only. NO COVER
URL:https://foxboroughplainvillewrentham.com/event/dj-night-at-the-harp/2024-09-14/
LOCATION:Patriot Place\, Two Patriot Place\, Foxborough\, MA\, 02035\, United States
CATEGORIES:Foxborough
ATTACH;FMTTYPE=image/webp:https://foxboroughplainvillewrentham.com/wp-content/uploads/2024/08/harp-pp-dj-night-patriot-place-square.webp
END:VEVENT
BEGIN:VEVENT
DTSTART;TZID=America/New_York:20240913T210000
DTEND;TZID=America/New_York:20240913T233000
DTSTAMP:20260424T073659
CREATED:20240815T163706Z
LAST-MODIFIED:20240815T163706Z
UID:10000974-1726261200-1726270200@foxboroughplainvillewrentham.com
SUMMARY:DJ Night at The Harp
DESCRIPTION:Friday & Saturday Nights: 9:00 PM \nNobody does DJ night better than The Harp! Our DJ will be playing all the top bangers starting at 9:00 PM. \n21-plus only. NO COVER
URL:https://foxboroughplainvillewrentham.com/event/dj-night-at-the-harp/2024-09-13/
LOCATION:Patriot Place\, Two Patriot Place\, Foxborough\, MA\, 02035\, United States
CATEGORIES:Foxborough
ATTACH;FMTTYPE=image/webp:https://foxboroughplainvillewrentham.com/wp-content/uploads/2024/08/harp-pp-dj-night-patriot-place-square.webp
END:VEVENT
BEGIN:VEVENT
DTSTART;TZID=America/New_York:20240911T193000
DTEND;TZID=America/New_York:20240911T213000
DTSTAMP:20260424T073659
CREATED:20231215T184706Z
LAST-MODIFIED:20231215T184706Z
UID:10000739-1726083000-1726090200@foxboroughplainvillewrentham.com
SUMMARY:Line Dancing at Six String Grill & Stage
DESCRIPTION:​Join us at the Six String Grill & Stage every Wednesday for FREE Line Dancing Lessons with Btches ‘n Boots! Line dancing starts at 7:30 PM\, but we encourage you to arrive early for dinner & drinks. All levels welcome – we hope to see you there!
URL:https://foxboroughplainvillewrentham.com/event/line-dancing-at-six-string-grill-stage/2024-09-11/
LOCATION:Patriot Place\, Two Patriot Place\, Foxborough\, MA\, 02035\, United States
CATEGORIES:Foxborough
ATTACH;FMTTYPE=image/jpeg:https://foxboroughplainvillewrentham.com/wp-content/uploads/2023/12/Six-String-Line-Dancing-2023-square.jpg
END:VEVENT
BEGIN:VEVENT
DTSTART;TZID=America/New_York:20240907T210000
DTEND;TZID=America/New_York:20240907T233000
DTSTAMP:20260424T073659
CREATED:20240815T163706Z
LAST-MODIFIED:20240815T163706Z
UID:10000973-1725742800-1725751800@foxboroughplainvillewrentham.com
SUMMARY:DJ Night at The Harp
DESCRIPTION:Friday & Saturday Nights: 9:00 PM \nNobody does DJ night better than The Harp! Our DJ will be playing all the top bangers starting at 9:00 PM. \n21-plus only. NO COVER
URL:https://foxboroughplainvillewrentham.com/event/dj-night-at-the-harp/2024-09-07/
LOCATION:Patriot Place\, Two Patriot Place\, Foxborough\, MA\, 02035\, United States
CATEGORIES:Foxborough
ATTACH;FMTTYPE=image/webp:https://foxboroughplainvillewrentham.com/wp-content/uploads/2024/08/harp-pp-dj-night-patriot-place-square.webp
END:VEVENT
BEGIN:VEVENT
DTSTART;TZID=America/New_York:20240906T210000
DTEND;TZID=America/New_York:20240906T233000
DTSTAMP:20260424T073659
CREATED:20240815T163706Z
LAST-MODIFIED:20240815T163706Z
UID:10000972-1725656400-1725665400@foxboroughplainvillewrentham.com
SUMMARY:DJ Night at The Harp
DESCRIPTION:Friday & Saturday Nights: 9:00 PM \nNobody does DJ night better than The Harp! Our DJ will be playing all the top bangers starting at 9:00 PM. \n21-plus only. NO COVER
URL:https://foxboroughplainvillewrentham.com/event/dj-night-at-the-harp/2024-09-06/
LOCATION:Patriot Place\, Two Patriot Place\, Foxborough\, MA\, 02035\, United States
CATEGORIES:Foxborough
ATTACH;FMTTYPE=image/webp:https://foxboroughplainvillewrentham.com/wp-content/uploads/2024/08/harp-pp-dj-night-patriot-place-square.webp
END:VEVENT
BEGIN:VEVENT
DTSTART;TZID=America/New_York:20240905T160000
DTEND;TZID=America/New_York:20240905T200000
DTSTAMP:20260424T073659
CREATED:20240703T131401Z
LAST-MODIFIED:20240703T131540Z
UID:10000930-1725552000-1725566400@foxboroughplainvillewrentham.com
SUMMARY:Cruise Night at Patriot Place
DESCRIPTION:Join the Mass Cruisers Auto Club for free and exciting Cruise Night at Bass Por Shops Patriot Place! \nThe Bass Pro Shops Cruise Nights with the Mass Cruisers are known throughout New England. Bi-Weekly hundreds of cars\, owners and fans attend for FREE and enjoy all the sights and sounds of Patriot Place. \n*Cruise dates are subject to change due to weather and/or conflicts with Gillette Stadium and New England Patriots Events. \nFind the most updated details here.
URL:https://foxboroughplainvillewrentham.com/event/5740/2024-09-05/
LOCATION:Bass Pro Shops\, 1 Bass Pro Drive\, Foxborough\, MA\, 02035\, United States
CATEGORIES:Foxborough
ATTACH;FMTTYPE=image/jpeg:https://foxboroughplainvillewrentham.com/wp-content/uploads/2024/07/Mass-Cruisers-2022-square-07.jpg
END:VEVENT
BEGIN:VEVENT
DTSTART;TZID=America/New_York:20240904T193000
DTEND;TZID=America/New_York:20240904T213000
DTSTAMP:20260424T073659
CREATED:20231215T184706Z
LAST-MODIFIED:20231215T184706Z
UID:10000738-1725478200-1725485400@foxboroughplainvillewrentham.com
SUMMARY:Line Dancing at Six String Grill & Stage
DESCRIPTION:​Join us at the Six String Grill & Stage every Wednesday for FREE Line Dancing Lessons with Btches ‘n Boots! Line dancing starts at 7:30 PM\, but we encourage you to arrive early for dinner & drinks. All levels welcome – we hope to see you there!
URL:https://foxboroughplainvillewrentham.com/event/line-dancing-at-six-string-grill-stage/2024-09-04/
LOCATION:Patriot Place\, Two Patriot Place\, Foxborough\, MA\, 02035\, United States
CATEGORIES:Foxborough
ATTACH;FMTTYPE=image/jpeg:https://foxboroughplainvillewrentham.com/wp-content/uploads/2023/12/Six-String-Line-Dancing-2023-square.jpg
END:VEVENT
BEGIN:VEVENT
DTSTART;TZID=America/New_York:20240901T120000
DTEND;TZID=America/New_York:20240901T150000
DTSTAMP:20260424T073659
CREATED:20240815T164928Z
LAST-MODIFIED:20240815T164928Z
UID:10001009-1725192000-1725202800@foxboroughplainvillewrentham.com
SUMMARY:Ghosts in the Machine
DESCRIPTION:Welcome to the Live Music Series on the Dean College Stage at Patriot Place! \nGhosts In The Machine will perform live on Sunday\, September 1. Snag a seat on Skipjack’s\, Citizen Crust or Bar Louie’s patio for your front row view of the Dean College Stage located outside Bar Louie and Citizen Crust. The perfect way to spend your Labor Day Weekend! \nGhosts In The Machine:\nHits from the 80s.\nThe Ghosts: Erin Kent on Vocals; Patrick Kent on Bass/Vocals; Ludvig Söderling on Drums; Mike Turner on Keyboards/Vocals; Rick Wilson on Guitar/Vocals
URL:https://foxboroughplainvillewrentham.com/event/ghosts-in-the-machine/
LOCATION:Patriot Place\, Two Patriot Place\, Foxborough\, MA\, 02035\, United States
CATEGORIES:Foxborough
ATTACH;FMTTYPE=image/jpeg:https://foxboroughplainvillewrentham.com/wp-content/uploads/2024/08/09-01-Ghosts-in-the-Machine-Live-Music-Series-2024-square.jpg
END:VEVENT
BEGIN:VEVENT
DTSTART;TZID=America/New_York:20240831T210000
DTEND;TZID=America/New_York:20240831T233000
DTSTAMP:20260424T073659
CREATED:20240815T163706Z
LAST-MODIFIED:20240815T163706Z
UID:10000971-1725138000-1725147000@foxboroughplainvillewrentham.com
SUMMARY:DJ Night at The Harp
DESCRIPTION:Friday & Saturday Nights: 9:00 PM \nNobody does DJ night better than The Harp! Our DJ will be playing all the top bangers starting at 9:00 PM. \n21-plus only. NO COVER
URL:https://foxboroughplainvillewrentham.com/event/dj-night-at-the-harp/2024-08-31/
LOCATION:Patriot Place\, Two Patriot Place\, Foxborough\, MA\, 02035\, United States
CATEGORIES:Foxborough
ATTACH;FMTTYPE=image/webp:https://foxboroughplainvillewrentham.com/wp-content/uploads/2024/08/harp-pp-dj-night-patriot-place-square.webp
END:VEVENT
BEGIN:VEVENT
DTSTART;TZID=America/New_York:20240830T210000
DTEND;TZID=America/New_York:20240830T233000
DTSTAMP:20260424T073659
CREATED:20240815T163706Z
LAST-MODIFIED:20240815T163706Z
UID:10000970-1725051600-1725060600@foxboroughplainvillewrentham.com
SUMMARY:DJ Night at The Harp
DESCRIPTION:Friday & Saturday Nights: 9:00 PM \nNobody does DJ night better than The Harp! Our DJ will be playing all the top bangers starting at 9:00 PM. \n21-plus only. NO COVER
URL:https://foxboroughplainvillewrentham.com/event/dj-night-at-the-harp/2024-08-30/
LOCATION:Patriot Place\, Two Patriot Place\, Foxborough\, MA\, 02035\, United States
CATEGORIES:Foxborough
ATTACH;FMTTYPE=image/webp:https://foxboroughplainvillewrentham.com/wp-content/uploads/2024/08/harp-pp-dj-night-patriot-place-square.webp
END:VEVENT
BEGIN:VEVENT
DTSTART;TZID=America/New_York:20240828T193000
DTEND;TZID=America/New_York:20240828T213000
DTSTAMP:20260424T073659
CREATED:20231215T184706Z
LAST-MODIFIED:20231215T184706Z
UID:10000737-1724873400-1724880600@foxboroughplainvillewrentham.com
SUMMARY:Line Dancing at Six String Grill & Stage
DESCRIPTION:​Join us at the Six String Grill & Stage every Wednesday for FREE Line Dancing Lessons with Btches ‘n Boots! Line dancing starts at 7:30 PM\, but we encourage you to arrive early for dinner & drinks. All levels welcome – we hope to see you there!
URL:https://foxboroughplainvillewrentham.com/event/line-dancing-at-six-string-grill-stage/2024-08-28/
LOCATION:Patriot Place\, Two Patriot Place\, Foxborough\, MA\, 02035\, United States
CATEGORIES:Foxborough
ATTACH;FMTTYPE=image/jpeg:https://foxboroughplainvillewrentham.com/wp-content/uploads/2023/12/Six-String-Line-Dancing-2023-square.jpg
END:VEVENT
BEGIN:VEVENT
DTSTART;TZID=America/New_York:20240824T210000
DTEND;TZID=America/New_York:20240824T233000
DTSTAMP:20260424T073659
CREATED:20240815T163706Z
LAST-MODIFIED:20240815T163706Z
UID:10000969-1724533200-1724542200@foxboroughplainvillewrentham.com
SUMMARY:DJ Night at The Harp
DESCRIPTION:Friday & Saturday Nights: 9:00 PM \nNobody does DJ night better than The Harp! Our DJ will be playing all the top bangers starting at 9:00 PM. \n21-plus only. NO COVER
URL:https://foxboroughplainvillewrentham.com/event/dj-night-at-the-harp/2024-08-24/
LOCATION:Patriot Place\, Two Patriot Place\, Foxborough\, MA\, 02035\, United States
CATEGORIES:Foxborough
ATTACH;FMTTYPE=image/webp:https://foxboroughplainvillewrentham.com/wp-content/uploads/2024/08/harp-pp-dj-night-patriot-place-square.webp
END:VEVENT
END:VCALENDAR