BEGIN:VCALENDAR
VERSION:2.0
PRODID:-//Foxborough, Plainville, and Wrentham - ECPv6.15.18//NONSGML v1.0//EN
CALSCALE:GREGORIAN
METHOD:PUBLISH
X-WR-CALNAME:Foxborough, Plainville, and Wrentham
X-ORIGINAL-URL:https://foxboroughplainvillewrentham.com
X-WR-CALDESC:Events for Foxborough, Plainville, and Wrentham
REFRESH-INTERVAL;VALUE=DURATION:PT1H
X-Robots-Tag:noindex
X-PUBLISHED-TTL:PT1H
BEGIN:VTIMEZONE
TZID:America/New_York
BEGIN:DAYLIGHT
TZOFFSETFROM:-0500
TZOFFSETTO:-0400
TZNAME:EDT
DTSTART:20250309T070000
END:DAYLIGHT
BEGIN:STANDARD
TZOFFSETFROM:-0400
TZOFFSETTO:-0500
TZNAME:EST
DTSTART:20251102T060000
END:STANDARD
BEGIN:DAYLIGHT
TZOFFSETFROM:-0500
TZOFFSETTO:-0400
TZNAME:EDT
DTSTART:20260308T070000
END:DAYLIGHT
BEGIN:STANDARD
TZOFFSETFROM:-0400
TZOFFSETTO:-0500
TZNAME:EST
DTSTART:20261101T060000
END:STANDARD
BEGIN:DAYLIGHT
TZOFFSETFROM:-0500
TZOFFSETTO:-0400
TZNAME:EDT
DTSTART:20270314T070000
END:DAYLIGHT
BEGIN:STANDARD
TZOFFSETFROM:-0400
TZOFFSETTO:-0500
TZNAME:EST
DTSTART:20271107T060000
END:STANDARD
END:VTIMEZONE
BEGIN:VEVENT
DTSTART;TZID=America/New_York:20260425T110000
DTEND;TZID=America/New_York:20260425T150000
DTSTAMP:20260422T132354
CREATED:20250107T193955Z
LAST-MODIFIED:20250107T193955Z
UID:10002747-1777114800-1777129200@foxboroughplainvillewrentham.com
SUMMARY:Bar Louie — Weekend Brunch
DESCRIPTION:Every Saturday & Sunday:  11:00 AM – 3:00 PM \nHaving an egg-sistential crisis? Brunch is always the answer! Stop by weekend brunch at Bar Louie to get a juicy taste of our favorite meals to start the day! \nAsk about our Mimosa Specials and our Freshly Shaken Iced Teas and Lemonades! \nView Menu
URL:https://foxboroughplainvillewrentham.com/event/bar-louie-weekend-brunch/2026-04-25/
LOCATION:Patriot Place\, Two Patriot Place\, Foxborough\, MA\, 02035\, United States
CATEGORIES:Foxborough
ATTACH;FMTTYPE=image/jpeg:https://foxboroughplainvillewrentham.com/wp-content/uploads/2025/01/Bar-Louie-Weekend-Brunch-square.jpg
END:VEVENT
BEGIN:VEVENT
DTSTART;TZID=America/New_York:20260426T110000
DTEND;TZID=America/New_York:20260426T150000
DTSTAMP:20260422T132354
CREATED:20250107T193955Z
LAST-MODIFIED:20250107T193955Z
UID:10002748-1777201200-1777215600@foxboroughplainvillewrentham.com
SUMMARY:Bar Louie — Weekend Brunch
DESCRIPTION:Every Saturday & Sunday:  11:00 AM – 3:00 PM \nHaving an egg-sistential crisis? Brunch is always the answer! Stop by weekend brunch at Bar Louie to get a juicy taste of our favorite meals to start the day! \nAsk about our Mimosa Specials and our Freshly Shaken Iced Teas and Lemonades! \nView Menu
URL:https://foxboroughplainvillewrentham.com/event/bar-louie-weekend-brunch/2026-04-26/
LOCATION:Patriot Place\, Two Patriot Place\, Foxborough\, MA\, 02035\, United States
CATEGORIES:Foxborough
ATTACH;FMTTYPE=image/jpeg:https://foxboroughplainvillewrentham.com/wp-content/uploads/2025/01/Bar-Louie-Weekend-Brunch-square.jpg
END:VEVENT
BEGIN:VEVENT
DTSTART;TZID=America/New_York:20260502T110000
DTEND;TZID=America/New_York:20260502T150000
DTSTAMP:20260422T132354
CREATED:20250107T193955Z
LAST-MODIFIED:20250107T193955Z
UID:10002749-1777719600-1777734000@foxboroughplainvillewrentham.com
SUMMARY:Bar Louie — Weekend Brunch
DESCRIPTION:Every Saturday & Sunday:  11:00 AM – 3:00 PM \nHaving an egg-sistential crisis? Brunch is always the answer! Stop by weekend brunch at Bar Louie to get a juicy taste of our favorite meals to start the day! \nAsk about our Mimosa Specials and our Freshly Shaken Iced Teas and Lemonades! \nView Menu
URL:https://foxboroughplainvillewrentham.com/event/bar-louie-weekend-brunch/2026-05-02/
LOCATION:Patriot Place\, Two Patriot Place\, Foxborough\, MA\, 02035\, United States
CATEGORIES:Foxborough
ATTACH;FMTTYPE=image/jpeg:https://foxboroughplainvillewrentham.com/wp-content/uploads/2025/01/Bar-Louie-Weekend-Brunch-square.jpg
END:VEVENT
BEGIN:VEVENT
DTSTART;TZID=America/New_York:20260503T110000
DTEND;TZID=America/New_York:20260503T150000
DTSTAMP:20260422T132354
CREATED:20250107T193955Z
LAST-MODIFIED:20250107T193955Z
UID:10002750-1777806000-1777820400@foxboroughplainvillewrentham.com
SUMMARY:Bar Louie — Weekend Brunch
DESCRIPTION:Every Saturday & Sunday:  11:00 AM – 3:00 PM \nHaving an egg-sistential crisis? Brunch is always the answer! Stop by weekend brunch at Bar Louie to get a juicy taste of our favorite meals to start the day! \nAsk about our Mimosa Specials and our Freshly Shaken Iced Teas and Lemonades! \nView Menu
URL:https://foxboroughplainvillewrentham.com/event/bar-louie-weekend-brunch/2026-05-03/
LOCATION:Patriot Place\, Two Patriot Place\, Foxborough\, MA\, 02035\, United States
CATEGORIES:Foxborough
ATTACH;FMTTYPE=image/jpeg:https://foxboroughplainvillewrentham.com/wp-content/uploads/2025/01/Bar-Louie-Weekend-Brunch-square.jpg
END:VEVENT
BEGIN:VEVENT
DTSTART;TZID=America/New_York:20260509T110000
DTEND;TZID=America/New_York:20260509T150000
DTSTAMP:20260422T132354
CREATED:20250107T193955Z
LAST-MODIFIED:20250107T193955Z
UID:10002751-1778324400-1778338800@foxboroughplainvillewrentham.com
SUMMARY:Bar Louie — Weekend Brunch
DESCRIPTION:Every Saturday & Sunday:  11:00 AM – 3:00 PM \nHaving an egg-sistential crisis? Brunch is always the answer! Stop by weekend brunch at Bar Louie to get a juicy taste of our favorite meals to start the day! \nAsk about our Mimosa Specials and our Freshly Shaken Iced Teas and Lemonades! \nView Menu
URL:https://foxboroughplainvillewrentham.com/event/bar-louie-weekend-brunch/2026-05-09/
LOCATION:Patriot Place\, Two Patriot Place\, Foxborough\, MA\, 02035\, United States
CATEGORIES:Foxborough
ATTACH;FMTTYPE=image/jpeg:https://foxboroughplainvillewrentham.com/wp-content/uploads/2025/01/Bar-Louie-Weekend-Brunch-square.jpg
END:VEVENT
BEGIN:VEVENT
DTSTART;TZID=America/New_York:20260510T110000
DTEND;TZID=America/New_York:20260510T150000
DTSTAMP:20260422T132354
CREATED:20250107T193955Z
LAST-MODIFIED:20250107T193955Z
UID:10002752-1778410800-1778425200@foxboroughplainvillewrentham.com
SUMMARY:Bar Louie — Weekend Brunch
DESCRIPTION:Every Saturday & Sunday:  11:00 AM – 3:00 PM \nHaving an egg-sistential crisis? Brunch is always the answer! Stop by weekend brunch at Bar Louie to get a juicy taste of our favorite meals to start the day! \nAsk about our Mimosa Specials and our Freshly Shaken Iced Teas and Lemonades! \nView Menu
URL:https://foxboroughplainvillewrentham.com/event/bar-louie-weekend-brunch/2026-05-10/
LOCATION:Patriot Place\, Two Patriot Place\, Foxborough\, MA\, 02035\, United States
CATEGORIES:Foxborough
ATTACH;FMTTYPE=image/jpeg:https://foxboroughplainvillewrentham.com/wp-content/uploads/2025/01/Bar-Louie-Weekend-Brunch-square.jpg
END:VEVENT
BEGIN:VEVENT
DTSTART;TZID=America/New_York:20260516T110000
DTEND;TZID=America/New_York:20260516T150000
DTSTAMP:20260422T132354
CREATED:20250107T193955Z
LAST-MODIFIED:20250107T193955Z
UID:10002753-1778929200-1778943600@foxboroughplainvillewrentham.com
SUMMARY:Bar Louie — Weekend Brunch
DESCRIPTION:Every Saturday & Sunday:  11:00 AM – 3:00 PM \nHaving an egg-sistential crisis? Brunch is always the answer! Stop by weekend brunch at Bar Louie to get a juicy taste of our favorite meals to start the day! \nAsk about our Mimosa Specials and our Freshly Shaken Iced Teas and Lemonades! \nView Menu
URL:https://foxboroughplainvillewrentham.com/event/bar-louie-weekend-brunch/2026-05-16/
LOCATION:Patriot Place\, Two Patriot Place\, Foxborough\, MA\, 02035\, United States
CATEGORIES:Foxborough
ATTACH;FMTTYPE=image/jpeg:https://foxboroughplainvillewrentham.com/wp-content/uploads/2025/01/Bar-Louie-Weekend-Brunch-square.jpg
END:VEVENT
BEGIN:VEVENT
DTSTART;TZID=America/New_York:20260517T110000
DTEND;TZID=America/New_York:20260517T150000
DTSTAMP:20260422T132354
CREATED:20250107T193955Z
LAST-MODIFIED:20250107T193955Z
UID:10002754-1779015600-1779030000@foxboroughplainvillewrentham.com
SUMMARY:Bar Louie — Weekend Brunch
DESCRIPTION:Every Saturday & Sunday:  11:00 AM – 3:00 PM \nHaving an egg-sistential crisis? Brunch is always the answer! Stop by weekend brunch at Bar Louie to get a juicy taste of our favorite meals to start the day! \nAsk about our Mimosa Specials and our Freshly Shaken Iced Teas and Lemonades! \nView Menu
URL:https://foxboroughplainvillewrentham.com/event/bar-louie-weekend-brunch/2026-05-17/
LOCATION:Patriot Place\, Two Patriot Place\, Foxborough\, MA\, 02035\, United States
CATEGORIES:Foxborough
ATTACH;FMTTYPE=image/jpeg:https://foxboroughplainvillewrentham.com/wp-content/uploads/2025/01/Bar-Louie-Weekend-Brunch-square.jpg
END:VEVENT
BEGIN:VEVENT
DTSTART;TZID=America/New_York:20260523T110000
DTEND;TZID=America/New_York:20260523T150000
DTSTAMP:20260422T132354
CREATED:20250107T193955Z
LAST-MODIFIED:20250107T193955Z
UID:10002755-1779534000-1779548400@foxboroughplainvillewrentham.com
SUMMARY:Bar Louie — Weekend Brunch
DESCRIPTION:Every Saturday & Sunday:  11:00 AM – 3:00 PM \nHaving an egg-sistential crisis? Brunch is always the answer! Stop by weekend brunch at Bar Louie to get a juicy taste of our favorite meals to start the day! \nAsk about our Mimosa Specials and our Freshly Shaken Iced Teas and Lemonades! \nView Menu
URL:https://foxboroughplainvillewrentham.com/event/bar-louie-weekend-brunch/2026-05-23/
LOCATION:Patriot Place\, Two Patriot Place\, Foxborough\, MA\, 02035\, United States
CATEGORIES:Foxborough
ATTACH;FMTTYPE=image/jpeg:https://foxboroughplainvillewrentham.com/wp-content/uploads/2025/01/Bar-Louie-Weekend-Brunch-square.jpg
END:VEVENT
BEGIN:VEVENT
DTSTART;TZID=America/New_York:20260524T110000
DTEND;TZID=America/New_York:20260524T150000
DTSTAMP:20260422T132354
CREATED:20250107T193955Z
LAST-MODIFIED:20250107T193955Z
UID:10002756-1779620400-1779634800@foxboroughplainvillewrentham.com
SUMMARY:Bar Louie — Weekend Brunch
DESCRIPTION:Every Saturday & Sunday:  11:00 AM – 3:00 PM \nHaving an egg-sistential crisis? Brunch is always the answer! Stop by weekend brunch at Bar Louie to get a juicy taste of our favorite meals to start the day! \nAsk about our Mimosa Specials and our Freshly Shaken Iced Teas and Lemonades! \nView Menu
URL:https://foxboroughplainvillewrentham.com/event/bar-louie-weekend-brunch/2026-05-24/
LOCATION:Patriot Place\, Two Patriot Place\, Foxborough\, MA\, 02035\, United States
CATEGORIES:Foxborough
ATTACH;FMTTYPE=image/jpeg:https://foxboroughplainvillewrentham.com/wp-content/uploads/2025/01/Bar-Louie-Weekend-Brunch-square.jpg
END:VEVENT
BEGIN:VEVENT
DTSTART;TZID=America/New_York:20260530T110000
DTEND;TZID=America/New_York:20260530T150000
DTSTAMP:20260422T132354
CREATED:20250107T193955Z
LAST-MODIFIED:20250107T193955Z
UID:10002757-1780138800-1780153200@foxboroughplainvillewrentham.com
SUMMARY:Bar Louie — Weekend Brunch
DESCRIPTION:Every Saturday & Sunday:  11:00 AM – 3:00 PM \nHaving an egg-sistential crisis? Brunch is always the answer! Stop by weekend brunch at Bar Louie to get a juicy taste of our favorite meals to start the day! \nAsk about our Mimosa Specials and our Freshly Shaken Iced Teas and Lemonades! \nView Menu
URL:https://foxboroughplainvillewrentham.com/event/bar-louie-weekend-brunch/2026-05-30/
LOCATION:Patriot Place\, Two Patriot Place\, Foxborough\, MA\, 02035\, United States
CATEGORIES:Foxborough
ATTACH;FMTTYPE=image/jpeg:https://foxboroughplainvillewrentham.com/wp-content/uploads/2025/01/Bar-Louie-Weekend-Brunch-square.jpg
END:VEVENT
BEGIN:VEVENT
DTSTART;TZID=America/New_York:20260531T110000
DTEND;TZID=America/New_York:20260531T150000
DTSTAMP:20260422T132354
CREATED:20250107T193955Z
LAST-MODIFIED:20250107T193955Z
UID:10002758-1780225200-1780239600@foxboroughplainvillewrentham.com
SUMMARY:Bar Louie — Weekend Brunch
DESCRIPTION:Every Saturday & Sunday:  11:00 AM – 3:00 PM \nHaving an egg-sistential crisis? Brunch is always the answer! Stop by weekend brunch at Bar Louie to get a juicy taste of our favorite meals to start the day! \nAsk about our Mimosa Specials and our Freshly Shaken Iced Teas and Lemonades! \nView Menu
URL:https://foxboroughplainvillewrentham.com/event/bar-louie-weekend-brunch/2026-05-31/
LOCATION:Patriot Place\, Two Patriot Place\, Foxborough\, MA\, 02035\, United States
CATEGORIES:Foxborough
ATTACH;FMTTYPE=image/jpeg:https://foxboroughplainvillewrentham.com/wp-content/uploads/2025/01/Bar-Louie-Weekend-Brunch-square.jpg
END:VEVENT
BEGIN:VEVENT
DTSTART;TZID=America/New_York:20260606T110000
DTEND;TZID=America/New_York:20260606T150000
DTSTAMP:20260422T132354
CREATED:20250107T193955Z
LAST-MODIFIED:20250107T193955Z
UID:10002759-1780743600-1780758000@foxboroughplainvillewrentham.com
SUMMARY:Bar Louie — Weekend Brunch
DESCRIPTION:Every Saturday & Sunday:  11:00 AM – 3:00 PM \nHaving an egg-sistential crisis? Brunch is always the answer! Stop by weekend brunch at Bar Louie to get a juicy taste of our favorite meals to start the day! \nAsk about our Mimosa Specials and our Freshly Shaken Iced Teas and Lemonades! \nView Menu
URL:https://foxboroughplainvillewrentham.com/event/bar-louie-weekend-brunch/2026-06-06/
LOCATION:Patriot Place\, Two Patriot Place\, Foxborough\, MA\, 02035\, United States
CATEGORIES:Foxborough
ATTACH;FMTTYPE=image/jpeg:https://foxboroughplainvillewrentham.com/wp-content/uploads/2025/01/Bar-Louie-Weekend-Brunch-square.jpg
END:VEVENT
BEGIN:VEVENT
DTSTART;TZID=America/New_York:20260607T110000
DTEND;TZID=America/New_York:20260607T150000
DTSTAMP:20260422T132354
CREATED:20250107T193955Z
LAST-MODIFIED:20250107T193955Z
UID:10002760-1780830000-1780844400@foxboroughplainvillewrentham.com
SUMMARY:Bar Louie — Weekend Brunch
DESCRIPTION:Every Saturday & Sunday:  11:00 AM – 3:00 PM \nHaving an egg-sistential crisis? Brunch is always the answer! Stop by weekend brunch at Bar Louie to get a juicy taste of our favorite meals to start the day! \nAsk about our Mimosa Specials and our Freshly Shaken Iced Teas and Lemonades! \nView Menu
URL:https://foxboroughplainvillewrentham.com/event/bar-louie-weekend-brunch/2026-06-07/
LOCATION:Patriot Place\, Two Patriot Place\, Foxborough\, MA\, 02035\, United States
CATEGORIES:Foxborough
ATTACH;FMTTYPE=image/jpeg:https://foxboroughplainvillewrentham.com/wp-content/uploads/2025/01/Bar-Louie-Weekend-Brunch-square.jpg
END:VEVENT
BEGIN:VEVENT
DTSTART;TZID=America/New_York:20260613T110000
DTEND;TZID=America/New_York:20260613T150000
DTSTAMP:20260422T132354
CREATED:20250107T193955Z
LAST-MODIFIED:20250107T193955Z
UID:10002761-1781348400-1781362800@foxboroughplainvillewrentham.com
SUMMARY:Bar Louie — Weekend Brunch
DESCRIPTION:Every Saturday & Sunday:  11:00 AM – 3:00 PM \nHaving an egg-sistential crisis? Brunch is always the answer! Stop by weekend brunch at Bar Louie to get a juicy taste of our favorite meals to start the day! \nAsk about our Mimosa Specials and our Freshly Shaken Iced Teas and Lemonades! \nView Menu
URL:https://foxboroughplainvillewrentham.com/event/bar-louie-weekend-brunch/2026-06-13/
LOCATION:Patriot Place\, Two Patriot Place\, Foxborough\, MA\, 02035\, United States
CATEGORIES:Foxborough
ATTACH;FMTTYPE=image/jpeg:https://foxboroughplainvillewrentham.com/wp-content/uploads/2025/01/Bar-Louie-Weekend-Brunch-square.jpg
END:VEVENT
BEGIN:VEVENT
DTSTART;TZID=America/New_York:20260614T110000
DTEND;TZID=America/New_York:20260614T150000
DTSTAMP:20260422T132354
CREATED:20250107T193955Z
LAST-MODIFIED:20250107T193955Z
UID:10002762-1781434800-1781449200@foxboroughplainvillewrentham.com
SUMMARY:Bar Louie — Weekend Brunch
DESCRIPTION:Every Saturday & Sunday:  11:00 AM – 3:00 PM \nHaving an egg-sistential crisis? Brunch is always the answer! Stop by weekend brunch at Bar Louie to get a juicy taste of our favorite meals to start the day! \nAsk about our Mimosa Specials and our Freshly Shaken Iced Teas and Lemonades! \nView Menu
URL:https://foxboroughplainvillewrentham.com/event/bar-louie-weekend-brunch/2026-06-14/
LOCATION:Patriot Place\, Two Patriot Place\, Foxborough\, MA\, 02035\, United States
CATEGORIES:Foxborough
ATTACH;FMTTYPE=image/jpeg:https://foxboroughplainvillewrentham.com/wp-content/uploads/2025/01/Bar-Louie-Weekend-Brunch-square.jpg
END:VEVENT
BEGIN:VEVENT
DTSTART;TZID=America/New_York:20260620T110000
DTEND;TZID=America/New_York:20260620T150000
DTSTAMP:20260422T132354
CREATED:20250107T193955Z
LAST-MODIFIED:20250107T193955Z
UID:10002763-1781953200-1781967600@foxboroughplainvillewrentham.com
SUMMARY:Bar Louie — Weekend Brunch
DESCRIPTION:Every Saturday & Sunday:  11:00 AM – 3:00 PM \nHaving an egg-sistential crisis? Brunch is always the answer! Stop by weekend brunch at Bar Louie to get a juicy taste of our favorite meals to start the day! \nAsk about our Mimosa Specials and our Freshly Shaken Iced Teas and Lemonades! \nView Menu
URL:https://foxboroughplainvillewrentham.com/event/bar-louie-weekend-brunch/2026-06-20/
LOCATION:Patriot Place\, Two Patriot Place\, Foxborough\, MA\, 02035\, United States
CATEGORIES:Foxborough
ATTACH;FMTTYPE=image/jpeg:https://foxboroughplainvillewrentham.com/wp-content/uploads/2025/01/Bar-Louie-Weekend-Brunch-square.jpg
END:VEVENT
BEGIN:VEVENT
DTSTART;TZID=America/New_York:20260621T110000
DTEND;TZID=America/New_York:20260621T150000
DTSTAMP:20260422T132354
CREATED:20250107T193955Z
LAST-MODIFIED:20250107T193955Z
UID:10002764-1782039600-1782054000@foxboroughplainvillewrentham.com
SUMMARY:Bar Louie — Weekend Brunch
DESCRIPTION:Every Saturday & Sunday:  11:00 AM – 3:00 PM \nHaving an egg-sistential crisis? Brunch is always the answer! Stop by weekend brunch at Bar Louie to get a juicy taste of our favorite meals to start the day! \nAsk about our Mimosa Specials and our Freshly Shaken Iced Teas and Lemonades! \nView Menu
URL:https://foxboroughplainvillewrentham.com/event/bar-louie-weekend-brunch/2026-06-21/
LOCATION:Patriot Place\, Two Patriot Place\, Foxborough\, MA\, 02035\, United States
CATEGORIES:Foxborough
ATTACH;FMTTYPE=image/jpeg:https://foxboroughplainvillewrentham.com/wp-content/uploads/2025/01/Bar-Louie-Weekend-Brunch-square.jpg
END:VEVENT
BEGIN:VEVENT
DTSTART;TZID=America/New_York:20260627T110000
DTEND;TZID=America/New_York:20260627T150000
DTSTAMP:20260422T132354
CREATED:20250107T193955Z
LAST-MODIFIED:20250107T193955Z
UID:10002765-1782558000-1782572400@foxboroughplainvillewrentham.com
SUMMARY:Bar Louie — Weekend Brunch
DESCRIPTION:Every Saturday & Sunday:  11:00 AM – 3:00 PM \nHaving an egg-sistential crisis? Brunch is always the answer! Stop by weekend brunch at Bar Louie to get a juicy taste of our favorite meals to start the day! \nAsk about our Mimosa Specials and our Freshly Shaken Iced Teas and Lemonades! \nView Menu
URL:https://foxboroughplainvillewrentham.com/event/bar-louie-weekend-brunch/2026-06-27/
LOCATION:Patriot Place\, Two Patriot Place\, Foxborough\, MA\, 02035\, United States
CATEGORIES:Foxborough
ATTACH;FMTTYPE=image/jpeg:https://foxboroughplainvillewrentham.com/wp-content/uploads/2025/01/Bar-Louie-Weekend-Brunch-square.jpg
END:VEVENT
BEGIN:VEVENT
DTSTART;TZID=America/New_York:20260628T110000
DTEND;TZID=America/New_York:20260628T150000
DTSTAMP:20260422T132354
CREATED:20250107T193955Z
LAST-MODIFIED:20250107T193955Z
UID:10002766-1782644400-1782658800@foxboroughplainvillewrentham.com
SUMMARY:Bar Louie — Weekend Brunch
DESCRIPTION:Every Saturday & Sunday:  11:00 AM – 3:00 PM \nHaving an egg-sistential crisis? Brunch is always the answer! Stop by weekend brunch at Bar Louie to get a juicy taste of our favorite meals to start the day! \nAsk about our Mimosa Specials and our Freshly Shaken Iced Teas and Lemonades! \nView Menu
URL:https://foxboroughplainvillewrentham.com/event/bar-louie-weekend-brunch/2026-06-28/
LOCATION:Patriot Place\, Two Patriot Place\, Foxborough\, MA\, 02035\, United States
CATEGORIES:Foxborough
ATTACH;FMTTYPE=image/jpeg:https://foxboroughplainvillewrentham.com/wp-content/uploads/2025/01/Bar-Louie-Weekend-Brunch-square.jpg
END:VEVENT
BEGIN:VEVENT
DTSTART;TZID=America/New_York:20260704T110000
DTEND;TZID=America/New_York:20260704T150000
DTSTAMP:20260422T132354
CREATED:20250107T193955Z
LAST-MODIFIED:20250107T193955Z
UID:10002767-1783162800-1783177200@foxboroughplainvillewrentham.com
SUMMARY:Bar Louie — Weekend Brunch
DESCRIPTION:Every Saturday & Sunday:  11:00 AM – 3:00 PM \nHaving an egg-sistential crisis? Brunch is always the answer! Stop by weekend brunch at Bar Louie to get a juicy taste of our favorite meals to start the day! \nAsk about our Mimosa Specials and our Freshly Shaken Iced Teas and Lemonades! \nView Menu
URL:https://foxboroughplainvillewrentham.com/event/bar-louie-weekend-brunch/2026-07-04/
LOCATION:Patriot Place\, Two Patriot Place\, Foxborough\, MA\, 02035\, United States
CATEGORIES:Foxborough
ATTACH;FMTTYPE=image/jpeg:https://foxboroughplainvillewrentham.com/wp-content/uploads/2025/01/Bar-Louie-Weekend-Brunch-square.jpg
END:VEVENT
BEGIN:VEVENT
DTSTART;TZID=America/New_York:20260705T110000
DTEND;TZID=America/New_York:20260705T150000
DTSTAMP:20260422T132354
CREATED:20250107T193955Z
LAST-MODIFIED:20250107T193955Z
UID:10002768-1783249200-1783263600@foxboroughplainvillewrentham.com
SUMMARY:Bar Louie — Weekend Brunch
DESCRIPTION:Every Saturday & Sunday:  11:00 AM – 3:00 PM \nHaving an egg-sistential crisis? Brunch is always the answer! Stop by weekend brunch at Bar Louie to get a juicy taste of our favorite meals to start the day! \nAsk about our Mimosa Specials and our Freshly Shaken Iced Teas and Lemonades! \nView Menu
URL:https://foxboroughplainvillewrentham.com/event/bar-louie-weekend-brunch/2026-07-05/
LOCATION:Patriot Place\, Two Patriot Place\, Foxborough\, MA\, 02035\, United States
CATEGORIES:Foxborough
ATTACH;FMTTYPE=image/jpeg:https://foxboroughplainvillewrentham.com/wp-content/uploads/2025/01/Bar-Louie-Weekend-Brunch-square.jpg
END:VEVENT
BEGIN:VEVENT
DTSTART;TZID=America/New_York:20260711T110000
DTEND;TZID=America/New_York:20260711T150000
DTSTAMP:20260422T132354
CREATED:20250107T193955Z
LAST-MODIFIED:20250107T193955Z
UID:10002769-1783767600-1783782000@foxboroughplainvillewrentham.com
SUMMARY:Bar Louie — Weekend Brunch
DESCRIPTION:Every Saturday & Sunday:  11:00 AM – 3:00 PM \nHaving an egg-sistential crisis? Brunch is always the answer! Stop by weekend brunch at Bar Louie to get a juicy taste of our favorite meals to start the day! \nAsk about our Mimosa Specials and our Freshly Shaken Iced Teas and Lemonades! \nView Menu
URL:https://foxboroughplainvillewrentham.com/event/bar-louie-weekend-brunch/2026-07-11/
LOCATION:Patriot Place\, Two Patriot Place\, Foxborough\, MA\, 02035\, United States
CATEGORIES:Foxborough
ATTACH;FMTTYPE=image/jpeg:https://foxboroughplainvillewrentham.com/wp-content/uploads/2025/01/Bar-Louie-Weekend-Brunch-square.jpg
END:VEVENT
BEGIN:VEVENT
DTSTART;TZID=America/New_York:20260712T110000
DTEND;TZID=America/New_York:20260712T150000
DTSTAMP:20260422T132354
CREATED:20250107T193955Z
LAST-MODIFIED:20250107T193955Z
UID:10002770-1783854000-1783868400@foxboroughplainvillewrentham.com
SUMMARY:Bar Louie — Weekend Brunch
DESCRIPTION:Every Saturday & Sunday:  11:00 AM – 3:00 PM \nHaving an egg-sistential crisis? Brunch is always the answer! Stop by weekend brunch at Bar Louie to get a juicy taste of our favorite meals to start the day! \nAsk about our Mimosa Specials and our Freshly Shaken Iced Teas and Lemonades! \nView Menu
URL:https://foxboroughplainvillewrentham.com/event/bar-louie-weekend-brunch/2026-07-12/
LOCATION:Patriot Place\, Two Patriot Place\, Foxborough\, MA\, 02035\, United States
CATEGORIES:Foxborough
ATTACH;FMTTYPE=image/jpeg:https://foxboroughplainvillewrentham.com/wp-content/uploads/2025/01/Bar-Louie-Weekend-Brunch-square.jpg
END:VEVENT
BEGIN:VEVENT
DTSTART;TZID=America/New_York:20260718T110000
DTEND;TZID=America/New_York:20260718T150000
DTSTAMP:20260422T132354
CREATED:20250107T193955Z
LAST-MODIFIED:20250107T193955Z
UID:10002771-1784372400-1784386800@foxboroughplainvillewrentham.com
SUMMARY:Bar Louie — Weekend Brunch
DESCRIPTION:Every Saturday & Sunday:  11:00 AM – 3:00 PM \nHaving an egg-sistential crisis? Brunch is always the answer! Stop by weekend brunch at Bar Louie to get a juicy taste of our favorite meals to start the day! \nAsk about our Mimosa Specials and our Freshly Shaken Iced Teas and Lemonades! \nView Menu
URL:https://foxboroughplainvillewrentham.com/event/bar-louie-weekend-brunch/2026-07-18/
LOCATION:Patriot Place\, Two Patriot Place\, Foxborough\, MA\, 02035\, United States
CATEGORIES:Foxborough
ATTACH;FMTTYPE=image/jpeg:https://foxboroughplainvillewrentham.com/wp-content/uploads/2025/01/Bar-Louie-Weekend-Brunch-square.jpg
END:VEVENT
BEGIN:VEVENT
DTSTART;TZID=America/New_York:20260719T110000
DTEND;TZID=America/New_York:20260719T150000
DTSTAMP:20260422T132354
CREATED:20250107T193955Z
LAST-MODIFIED:20250107T193955Z
UID:10002772-1784458800-1784473200@foxboroughplainvillewrentham.com
SUMMARY:Bar Louie — Weekend Brunch
DESCRIPTION:Every Saturday & Sunday:  11:00 AM – 3:00 PM \nHaving an egg-sistential crisis? Brunch is always the answer! Stop by weekend brunch at Bar Louie to get a juicy taste of our favorite meals to start the day! \nAsk about our Mimosa Specials and our Freshly Shaken Iced Teas and Lemonades! \nView Menu
URL:https://foxboroughplainvillewrentham.com/event/bar-louie-weekend-brunch/2026-07-19/
LOCATION:Patriot Place\, Two Patriot Place\, Foxborough\, MA\, 02035\, United States
CATEGORIES:Foxborough
ATTACH;FMTTYPE=image/jpeg:https://foxboroughplainvillewrentham.com/wp-content/uploads/2025/01/Bar-Louie-Weekend-Brunch-square.jpg
END:VEVENT
BEGIN:VEVENT
DTSTART;TZID=America/New_York:20260725T110000
DTEND;TZID=America/New_York:20260725T150000
DTSTAMP:20260422T132354
CREATED:20250107T193955Z
LAST-MODIFIED:20250107T193955Z
UID:10002773-1784977200-1784991600@foxboroughplainvillewrentham.com
SUMMARY:Bar Louie — Weekend Brunch
DESCRIPTION:Every Saturday & Sunday:  11:00 AM – 3:00 PM \nHaving an egg-sistential crisis? Brunch is always the answer! Stop by weekend brunch at Bar Louie to get a juicy taste of our favorite meals to start the day! \nAsk about our Mimosa Specials and our Freshly Shaken Iced Teas and Lemonades! \nView Menu
URL:https://foxboroughplainvillewrentham.com/event/bar-louie-weekend-brunch/2026-07-25/
LOCATION:Patriot Place\, Two Patriot Place\, Foxborough\, MA\, 02035\, United States
CATEGORIES:Foxborough
ATTACH;FMTTYPE=image/jpeg:https://foxboroughplainvillewrentham.com/wp-content/uploads/2025/01/Bar-Louie-Weekend-Brunch-square.jpg
END:VEVENT
BEGIN:VEVENT
DTSTART;TZID=America/New_York:20260726T110000
DTEND;TZID=America/New_York:20260726T150000
DTSTAMP:20260422T132354
CREATED:20250107T193955Z
LAST-MODIFIED:20250107T193955Z
UID:10002774-1785063600-1785078000@foxboroughplainvillewrentham.com
SUMMARY:Bar Louie — Weekend Brunch
DESCRIPTION:Every Saturday & Sunday:  11:00 AM – 3:00 PM \nHaving an egg-sistential crisis? Brunch is always the answer! Stop by weekend brunch at Bar Louie to get a juicy taste of our favorite meals to start the day! \nAsk about our Mimosa Specials and our Freshly Shaken Iced Teas and Lemonades! \nView Menu
URL:https://foxboroughplainvillewrentham.com/event/bar-louie-weekend-brunch/2026-07-26/
LOCATION:Patriot Place\, Two Patriot Place\, Foxborough\, MA\, 02035\, United States
CATEGORIES:Foxborough
ATTACH;FMTTYPE=image/jpeg:https://foxboroughplainvillewrentham.com/wp-content/uploads/2025/01/Bar-Louie-Weekend-Brunch-square.jpg
END:VEVENT
BEGIN:VEVENT
DTSTART;TZID=America/New_York:20260801T110000
DTEND;TZID=America/New_York:20260801T150000
DTSTAMP:20260422T132354
CREATED:20250107T193955Z
LAST-MODIFIED:20250107T193955Z
UID:10002775-1785582000-1785596400@foxboroughplainvillewrentham.com
SUMMARY:Bar Louie — Weekend Brunch
DESCRIPTION:Every Saturday & Sunday:  11:00 AM – 3:00 PM \nHaving an egg-sistential crisis? Brunch is always the answer! Stop by weekend brunch at Bar Louie to get a juicy taste of our favorite meals to start the day! \nAsk about our Mimosa Specials and our Freshly Shaken Iced Teas and Lemonades! \nView Menu
URL:https://foxboroughplainvillewrentham.com/event/bar-louie-weekend-brunch/2026-08-01/
LOCATION:Patriot Place\, Two Patriot Place\, Foxborough\, MA\, 02035\, United States
CATEGORIES:Foxborough
ATTACH;FMTTYPE=image/jpeg:https://foxboroughplainvillewrentham.com/wp-content/uploads/2025/01/Bar-Louie-Weekend-Brunch-square.jpg
END:VEVENT
BEGIN:VEVENT
DTSTART;TZID=America/New_York:20260802T110000
DTEND;TZID=America/New_York:20260802T150000
DTSTAMP:20260422T132354
CREATED:20250107T193955Z
LAST-MODIFIED:20250107T193955Z
UID:10002776-1785668400-1785682800@foxboroughplainvillewrentham.com
SUMMARY:Bar Louie — Weekend Brunch
DESCRIPTION:Every Saturday & Sunday:  11:00 AM – 3:00 PM \nHaving an egg-sistential crisis? Brunch is always the answer! Stop by weekend brunch at Bar Louie to get a juicy taste of our favorite meals to start the day! \nAsk about our Mimosa Specials and our Freshly Shaken Iced Teas and Lemonades! \nView Menu
URL:https://foxboroughplainvillewrentham.com/event/bar-louie-weekend-brunch/2026-08-02/
LOCATION:Patriot Place\, Two Patriot Place\, Foxborough\, MA\, 02035\, United States
CATEGORIES:Foxborough
ATTACH;FMTTYPE=image/jpeg:https://foxboroughplainvillewrentham.com/wp-content/uploads/2025/01/Bar-Louie-Weekend-Brunch-square.jpg
END:VEVENT
END:VCALENDAR