BEGIN:VCALENDAR
VERSION:2.0
PRODID:-//Foxborough, Plainville, and Wrentham - ECPv6.15.18//NONSGML v1.0//EN
CALSCALE:GREGORIAN
METHOD:PUBLISH
X-WR-CALNAME:Foxborough, Plainville, and Wrentham
X-ORIGINAL-URL:https://foxboroughplainvillewrentham.com
X-WR-CALDESC:Events for Foxborough, Plainville, and Wrentham
REFRESH-INTERVAL;VALUE=DURATION:PT1H
X-Robots-Tag:noindex
X-PUBLISHED-TTL:PT1H
BEGIN:VTIMEZONE
TZID:America/New_York
BEGIN:DAYLIGHT
TZOFFSETFROM:-0500
TZOFFSETTO:-0400
TZNAME:EDT
DTSTART:20210314T070000
END:DAYLIGHT
BEGIN:STANDARD
TZOFFSETFROM:-0400
TZOFFSETTO:-0500
TZNAME:EST
DTSTART:20211107T060000
END:STANDARD
BEGIN:DAYLIGHT
TZOFFSETFROM:-0500
TZOFFSETTO:-0400
TZNAME:EDT
DTSTART:20220313T070000
END:DAYLIGHT
BEGIN:STANDARD
TZOFFSETFROM:-0400
TZOFFSETTO:-0500
TZNAME:EST
DTSTART:20221106T060000
END:STANDARD
BEGIN:DAYLIGHT
TZOFFSETFROM:-0500
TZOFFSETTO:-0400
TZNAME:EDT
DTSTART:20230312T070000
END:DAYLIGHT
BEGIN:STANDARD
TZOFFSETFROM:-0400
TZOFFSETTO:-0500
TZNAME:EST
DTSTART:20231105T060000
END:STANDARD
BEGIN:DAYLIGHT
TZOFFSETFROM:-0500
TZOFFSETTO:-0400
TZNAME:EDT
DTSTART:20240310T070000
END:DAYLIGHT
BEGIN:STANDARD
TZOFFSETFROM:-0400
TZOFFSETTO:-0500
TZNAME:EST
DTSTART:20241103T060000
END:STANDARD
END:VTIMEZONE
BEGIN:VEVENT
DTSTART;TZID=America/New_York:20230820T140000
DTEND;TZID=America/New_York:20230820T150000
DTSTAMP:20260420T111922
CREATED:20230720T141739Z
LAST-MODIFIED:20230720T141739Z
UID:10000309-1692540000-1692543600@foxboroughplainvillewrentham.com
SUMMARY:Meet the Authors: Maria Gianferrari and Maris Wicks
DESCRIPTION:We’re thrilled to welcome author/illustrator duo Maria Gianferrari and Maris Wicks to celebrate their new picture book\, YOU AND THE BOWERBIRD! Follow the Satin Bowerbird as he searches for the perfect welcome mat for his new home in this delightfully colorful and action-packed nonfiction tale. Maria and Maris will discuss their book\, answer audience questions\, and sign books! \n\n\n\nMaria Gianferrari is a picture book reading/writing\, tea-drinking\, dog-loving\, birdwatching resident of Massachusetts. She lives with her scientist husband and rescue dog\, Maple\, in a house encircled by trees. Maria writes books that honor our bonds with creatures both domestic and wild\, and that celebrate the natural world around us. Bobcat Prowling is a companion book to Maria’s other predator titles with Roaring Brook including Hawk Rising and Coyote Moon\, also illustrated by Bagram Ibatoulline. \nMaris Wicks lives in sunny Somerville\, Massachusetts. She is the author behind Human Body Theater\, as well as the illustrator of New York Times bestselling Primates\, with Jim Ottaviani. Wicks has also created comics for Spongebob Comics\, DC and Marvel. When Maris is not drawing comics\, she can be found prepping slides for her collection of vintage microscopes.
URL:https://foxboroughplainvillewrentham.com/event/meet-the-authors-maria-gianferrari-and-maris-wicks/
LOCATION:An Unlikely Story\, 111 South Street\, Plainville\, MA\, 02762\, United States
CATEGORIES:Plainville
ATTACH;FMTTYPE=image/png:https://foxboroughplainvillewrentham.com/wp-content/uploads/2023/07/Maria-and-Maris-1.png
END:VEVENT
BEGIN:VEVENT
DTSTART;TZID=America/New_York:20230817T190000
DTEND;TZID=America/New_York:20230817T203000
DTSTAMP:20260420T111922
CREATED:20230720T141000Z
LAST-MODIFIED:20230720T141000Z
UID:10000308-1692298800-1692304200@foxboroughplainvillewrentham.com
SUMMARY:Meet the Author: Gledé Browne-Kabongo
DESCRIPTION:Gledé Browne Kabongo writes gripping\, unputdownable psychological thrillers—unflinching tales of deception\, secrecy\, danger and family. She is the Eric Hoffer\, Next Generation Indie\, IPPY and National Indie Excellence award-winning author of the Fearless Series\, Our Wicked Lies\, Fool Me Twice\, and Conspiracy of Silence. When she’s not writing\, Gledé can be found watching reruns of Murder She Wrote or trying to perfect her mom’s Caribbean rum cake recipe. \nJoin author Gledé Browne Kabongo for a celebration of her multi-award-winning Fearless Series.  Gledé writes unputdownable psychological thrillers filled with shocking secrets\, heart-pounding suspense\, jaw-dropping twists and romantic vibes.  She will be signing copies of her books and answering questions; ask her anything. Bring a friend or two to this lively event tailor-made for lovers of the genre. Books will be available for purchase. \n 
URL:https://foxboroughplainvillewrentham.com/event/meet-the-author-glede-browne-kabongo/
LOCATION:An Unlikely Story\, 111 South Street\, Plainville\, MA\, 02762\, United States
CATEGORIES:Plainville
ATTACH;FMTTYPE=image/jpeg:https://foxboroughplainvillewrentham.com/wp-content/uploads/2023/07/Glede-Kabongo.jpg
END:VEVENT
BEGIN:VEVENT
DTSTART;TZID=America/New_York:20230815T190000
DTEND;TZID=America/New_York:20230815T203000
DTSTAMP:20260420T111922
CREATED:20230720T140528Z
LAST-MODIFIED:20230720T140528Z
UID:10000307-1692126000-1692131400@foxboroughplainvillewrentham.com
SUMMARY:Meet the Author: Lisa Jewell
DESCRIPTION:Lisa Jewell is the #1 New York Times bestselling author of nineteen novels\, including The Family Upstairs and Then She Was Gone\, as well as Invisible Girl and Watching You. Her novels have sold over 10 million copies internationally\, and her work has also been translated into twenty-nine languages. Connect with her on Twitter @LisaJewellUK\, on Instagram @LisaJewellUK\, and on Facebook @LisaJewellOfficial. \nWe’re delighted to welcome back thriller queen Lisa Jewell to introduce her new novel\, NONE OF THIS IS TRUE. Lisa will discuss her book with Alaina Urquhart-White\, author of THE BUTCHER AND THE WREN and co-host of the wildly popular Morbid Podcast. Following the discussion\, they will answer questions\, and sign copies of their books. \n  \n 
URL:https://foxboroughplainvillewrentham.com/event/meet-the-author-lisa-jewell/
LOCATION:An Unlikely Story\, 111 South Street\, Plainville\, MA\, 02762\, United States
CATEGORIES:Plainville
ATTACH;FMTTYPE=image/jpeg:https://foxboroughplainvillewrentham.com/wp-content/uploads/2023/07/Lisa-Jewell_0.jpg
END:VEVENT
BEGIN:VEVENT
DTSTART;TZID=America/New_York:20230806T160000
DTEND;TZID=America/New_York:20230806T170000
DTSTAMP:20260420T111922
CREATED:20230612T164902Z
LAST-MODIFIED:20230612T164902Z
UID:10000265-1691337600-1691341200@foxboroughplainvillewrentham.com
SUMMARY:Meet the Author: Patti Callahan Henry
DESCRIPTION:Meet the Author: Patti Callahan Henry\nWe’re thrilled to have bestselling author Patti Callahan Henry joining us to discuss THE SECRET BOOK OF FLORA LEA! Twenty years after her sister Flora’s mysterious disappearance when they were children\, rare bookseller Hazel discovers an illustrated book containing stories of Whisperwood\, an imaginary world she created just for Flora. Could this book hold the key to finding her sister after all this time? THE SECRET BOOK OF FLORA LEA is a beautiful story of sisterly bonds\, healing wounds from your past\, and the magic of reading. Patti will be in conversation with USA Today bestselling author Hank Phillippi Ryan.
URL:https://foxboroughplainvillewrentham.com/event/meet-the-author-patti-callahan-henry/
LOCATION:An Unlikely Story\, 111 South Street\, Plainville\, MA\, 02762\, United States
CATEGORIES:Plainville
ATTACH;FMTTYPE=image/jpeg:https://foxboroughplainvillewrentham.com/wp-content/uploads/2023/06/Patti-Callahan-Henry_0.jpg
END:VEVENT
BEGIN:VEVENT
DTSTART;TZID=America/New_York:20230731T190000
DTEND;TZID=America/New_York:20230731T200000
DTSTAMP:20260420T111922
CREATED:20230612T163933Z
LAST-MODIFIED:20230612T163933Z
UID:10000263-1690830000-1690833600@foxboroughplainvillewrentham.com
SUMMARY:Meet the Author: Hank Phillippi Ryan
DESCRIPTION:Meet the Author: Hank Phillippi Ryan\nWe can’t wait to welcome award-winning author Hank Phillippi Ryan back to An Unlikely Story to celebrate the paperback release of her bestselling thriller\, THE HOUSE GUEST! In THE HOUSE GUEST\, an intense friendship forms between Alyssa\, who’s going through a bitter divorce with her toxic ex-husband\, and Bree\, on the run from her own dangerous relationship. But things with Bree aren’t as clear-cut as they seem\, and with multiple twists and turns\, this novel will keep you guessing right until the very end.
URL:https://foxboroughplainvillewrentham.com/event/meet-the-author-hank-phillippi-ryan/
LOCATION:An Unlikely Story\, 111 South Street\, Plainville\, MA\, 02762\, United States
CATEGORIES:Plainville
ATTACH;FMTTYPE=image/png:https://foxboroughplainvillewrentham.com/wp-content/uploads/2023/06/Hank-PR-600.png
END:VEVENT
BEGIN:VEVENT
DTSTART;TZID=America/New_York:20230723T160000
DTEND;TZID=America/New_York:20230723T170000
DTSTAMP:20260420T111922
CREATED:20230612T162010Z
LAST-MODIFIED:20230612T162010Z
UID:10000261-1690128000-1690131600@foxboroughplainvillewrentham.com
SUMMARY:Meet the Authors: Sarah Stewart Taylor & Paul Doiron
DESCRIPTION:Meet the Authors: Sarah Stewart Taylor & Paul Doiron\nIt’s an evening tailor-made for New England crime fiction fans with Vermont crime writer Sarah Stewart Taylor in conversation with Maine crime writer Paul Doiron! Sarah writes lyrical\, atmospheric crime novels that transport you completely into their various settings\, with her new novel A STOLEN CHILD finding us once again in Ireland with (soon to be) detective Maggie D’arcy. Known for his mastery of pacing\, Paul Doiron is the USA Today bestselling author of the Mike Bowditch crime series\, which vividly captures the landscape of Maine. DEAD MAN’S WAKE is the latest installment in the series. Paul and Sarah will have a lively discussion about their work and new novels\, followed by a Q & A and book signing.
URL:https://foxboroughplainvillewrentham.com/event/meet-the-authors-sarah-stewart-taylor-paul-doiron/
LOCATION:An Unlikely Story\, 111 South Street\, Plainville\, MA\, 02762\, United States
CATEGORIES:Plainville
ATTACH;FMTTYPE=image/png:https://foxboroughplainvillewrentham.com/wp-content/uploads/2023/06/IsqsjhnU.png
END:VEVENT
BEGIN:VEVENT
DTSTART;TZID=America/New_York:20230714T190000
DTEND;TZID=America/New_York:20230714T200000
DTSTAMP:20260420T111922
CREATED:20230612T161808Z
LAST-MODIFIED:20230612T161808Z
UID:10000260-1689361200-1689364800@foxboroughplainvillewrentham.com
SUMMARY:Meet the Author: Beatriz Williams
DESCRIPTION:Meet the Author: Beatriz Williams\nNew York Times bestselling author Beatriz Williams joins us to discuss her new ravishing summer read\, THE BEACH AT SUMMERLY\, taking readers back to a mid-century New England rich with secrets and Cold War Intrigue. Focusing on two distinct periods of protagonist Emilia Winthrop’s life\, THE BEACH AT SUMMERLY features an examination of social status\, blossoming relationships\, and political intrigue. It’s a bingeworthy read perfect for historical fiction and thriller readers alike!
URL:https://foxboroughplainvillewrentham.com/event/meet-the-author-beatriz-williams/
LOCATION:An Unlikely Story\, 111 South Street\, Plainville\, MA\, 02762\, United States
CATEGORIES:Plainville
ATTACH;FMTTYPE=image/jpeg:https://foxboroughplainvillewrentham.com/wp-content/uploads/2023/06/Beatriz-Williams.jpg
END:VEVENT
BEGIN:VEVENT
DTSTART;TZID=America/New_York:20230713T190000
DTEND;TZID=America/New_York:20230713T200000
DTSTAMP:20260420T111922
CREATED:20230612T163016Z
LAST-MODIFIED:20230612T163016Z
UID:10000262-1689274800-1689278400@foxboroughplainvillewrentham.com
SUMMARY:Meet the Author: Marie Benedict and Victoria Christopher Murray
DESCRIPTION:Meet the Author: Marie Benedict and Victoria Christopher Murray\nMarie Benedict and Victoria Christopher Murray\, co-authors of the instant New York Times bestseller THE PERSONAL LIBRARIAN\, join us to celebrate the release of their second co-authored novel\, THE FIRST LADIES! THE FIRST LADIES tells the story of the extraordinary partnership between First Lady Eleanor Roosevelt and civil rights activist Mary McLeod Bethune—an unlikely friendship that changed the world.
URL:https://foxboroughplainvillewrentham.com/event/meet-the-author-marie-benedict-and-victoria-christopher-murray/
LOCATION:An Unlikely Story\, 111 South Street\, Plainville\, MA\, 02762\, United States
CATEGORIES:Plainville
ATTACH;FMTTYPE=image/jpeg:https://foxboroughplainvillewrentham.com/wp-content/uploads/2023/06/KUqQ7MJE.jpg
END:VEVENT
BEGIN:VEVENT
DTSTART;TZID=America/New_York:20230516T190000
DTEND;TZID=America/New_York:20230516T200000
DTSTAMP:20260420T111922
CREATED:20230426T171546Z
LAST-MODIFIED:20230426T171546Z
UID:10000089-1684263600-1684267200@foxboroughplainvillewrentham.com
SUMMARY:Christina Lauren Book Signing
DESCRIPTION:Christina Lauren Book Signing\nWe’re delighted to welcome New York Times bestselling authors Christina Lauren to launch their new novel\, The True Love Experiment. The True Love Experiment is the book fans have been waiting for ever since Fizzy’s debut in the New York Times bestselling The Soulmate Equation. But when the lights come on and all eyes are on her\, it turns out the happily ever after Fizzy had all but given up on might lie just behind the camera. Jenny Howe\, author of The Make-Up Test\, leads the conversation with coauthors and best friends Christina Lauren\, to be followed by an audience Q & A and book signing. \nEach ticket comes with a signed copy of The True Love Experiment and admission to the event. Christina Lauren’s books\, wine\, beer\, and soft drinks will be available at the event.
URL:https://foxboroughplainvillewrentham.com/event/christina-lauren-book-signing/
LOCATION:An Unlikely Story\, 111 South Street\, Plainville\, MA\, 02762\, United States
CATEGORIES:Plainville
ATTACH;FMTTYPE=image/jpeg:https://foxboroughplainvillewrentham.com/wp-content/uploads/2023/04/Christina-Lauren_0.jpg
END:VEVENT
BEGIN:VEVENT
DTSTART;TZID=America/New_York:20230211T160000
DTEND;TZID=America/New_York:20230211T180000
DTSTAMP:20260420T111922
CREATED:20221206T185750Z
LAST-MODIFIED:20221206T185750Z
UID:10000067-1676131200-1676138400@foxboroughplainvillewrentham.com
SUMMARY:IN-PERSON: Hayley & John Rocco
DESCRIPTION:We have a very special event in store for you with Hayley and John Rocco who will introduce their new picture book\, How to Send a Hug\, and conduct a special letter-writing workshop for kids. The Rocco’s will talk about the inspirations for the book including important historical letters including one from the Wright Brothers to the Smithsonian\, and one from Clyde of Bonnie and Clyde fame to Henry Ford telling him how much he loves the car. All you need to bring is the address for the person you’ll be mailing a hug! \nABOUT THE BOOK:\nLearn how to send a hug to someone you love today! This heartfelt story shows readers the incredible impact writing and receiving handwritten letters can have on yourself and others. \nABOUT THE CREATORS:\nHayley Rocco has loved children’s books her whole life and worked in publishing for more than a decade promoting them. She’s been sending hugs since she was six. It was only natural that she created a book about how to do just that. Hayley lives in Rhode Island with her husband\, two cats\, and a very excitable dog. This is her first book. \nJohn Rocco is a #1 New York Times bestselling author and illustrator of many acclaimed books for children\, including Blackout\, recipient of the Caldecott Honor and How We Got To The Moon\, recipient of the Sibert Honor and Longlisted for the National Book Award.  John has been learning to send hugs\, and is starting to get pretty good at it.
URL:https://foxboroughplainvillewrentham.com/event/in-person-hayley-john-rocco/
LOCATION:An Unlikely Story\, 111 South Street\, Plainville\, MA\, 02762\, United States
CATEGORIES:Plainville
ATTACH;FMTTYPE=image/jpeg:https://foxboroughplainvillewrentham.com/wp-content/uploads/2022/12/Hayley-John-Rocco.jpg
END:VEVENT
BEGIN:VEVENT
DTSTART;TZID=America/New_York:20230207T183000
DTEND;TZID=America/New_York:20230207T213000
DTSTAMP:20260420T111922
CREATED:20230203T195415Z
LAST-MODIFIED:20230203T195415Z
UID:10000072-1675794600-1675805400@foxboroughplainvillewrentham.com
SUMMARY:IN-PERSON: Amanda Foody
DESCRIPTION:After launching Amanda’s THE ACCIDENTAL APPRENTICE\, the first book in her Wilderlore series in an online event\, An Unlikely Story is over the moon excited to welcome her in person to introduce the third book\, THE EVER STORMS! Her action-packed series has become a huge hit and you won’t want to miss this chance to hear all the lore in Wilderlore from the creator herself! Following Amanda’s presentation\, she will answer audience questions and sign books. \nABOUT THE BOOK:\nBarclay and his friends find new dangers and fresh adventure when they encounter mysterious sandstorms in the Desert in this thrilling third book of the New York Times bestselling Wilderlore series. \nAfter saving the Sea\, Barclay and his fellow apprentices are eager to take part in a new kind of adventure—the Symposium\, a set of courses that all apprentices of the Lore Keeper Guild need to pass before they can take their licensing exam. Barclay is excited to travel to the Desert to study at the University of Al Faradh\, the most respected school in all the Wilderlands\, and to reunite with the new friends he made at the Sea. \nHe’s slightly less excited about the Tourney\, the traditional\, good-natured prank war between the various apprentice tracks. As an Elsie\, he’s pretty sure he’ll have enough on his hands keeping up with the Symposium without having to worry about stink bombs and slime warfare. \nBut as mysterious\, unnatural sandstorms start to appear around the Desert\, there are more than just exams and bragging rights at stake. And the appearance of an exclusive\, magical library might just be the key to everything… \nABOUT THE AUTHOR:\nAmanda Foody is a New York Times and indie bestselling author of YA and children’s fantasy novels\, including the Wilderlore series\, the All of Us Villains duology\, the Shadow Game series\, and more. She lives in Massachusetts with her partner and their feline Beastly companion\, Jelly Bean. Visit her at AmandaFoody.com or on Instagram @AmandaFoody.
URL:https://foxboroughplainvillewrentham.com/event/in-person-amanda-foody/
LOCATION:An Unlikely Story\, 111 South Street\, Plainville\, MA\, 02762\, United States
CATEGORIES:Plainville
ATTACH;FMTTYPE=image/jpeg:https://foxboroughplainvillewrentham.com/wp-content/uploads/2023/02/Amanda-Foody-600x400-1.jpg
END:VEVENT
BEGIN:VEVENT
DTSTART;TZID=America/New_York:20230202T183000
DTEND;TZID=America/New_York:20230202T210000
DTSTAMP:20260420T111922
CREATED:20221206T185453Z
LAST-MODIFIED:20221206T185453Z
UID:10000066-1675362600-1675371600@foxboroughplainvillewrentham.com
SUMMARY:IN-PERSON: Grady Hendrix
DESCRIPTION:From Pliny the Younger to the Amityville Horror\, we’ve been convinced there’s something undead living inside our homes rent-free for thousands of years. New York Times bestselling author\, Grady Hendrix\, presents another of his one-of-a-kind\, one-man shows\, tap dancing through the haunted hallways of houses from Downton Abbey-sized country homes to split-level suburban ranchers as we try to figure out why we’re so obsessed with the world’s worst roommates\, ghosts. \nEach ticket comes with a copy of HOW TO SELL A HAUNTED HOUSE\, to be signed and personalized at the event. \nABOUT THE BOOK:\nNew York Times bestselling author Grady Hendrix takes on the haunted house in a hilarious and terrifying new novel that explores the way your past—and your family—can haunt you like nothing else…. \nLouise’s parents have passed away\, and she’s returning to the small Southern town where she grew up to get their house ready to sell. It means she’ll have to spend time with her younger brother—and their old grudges make that a terrifying prospect. But childhood hurts pale in comparison to the dangers posed by what still lives inside the house. \nABOUT THE AUTHOR: \nGrady Hendrix is an award-winning novelist and screenwriter living in New York City. He is the author of Horrorstör\, My Best Friend’s Exorcism (which was adapted into a feature film by Amazon Studios)\, We Sold Our Souls\, and the New York Times bestsellers The Southern Book Club’s Guide to Slaying Vampires (currently being adapted into a TV series) and The Final Girl Support Group. Grady also authored the Bram Stoker Award–winning nonfiction book Paperbacks from Hell\, a history of the horror paperback boom of the seventies and eighties\, and his latest non-fiction book is These Fists Break Bricks: How Kung Fu Movies Swept America and Changed the World.
URL:https://foxboroughplainvillewrentham.com/event/in-person-grady-hendrix/
LOCATION:An Unlikely Story\, 111 South Street\, Plainville\, MA\, 02762\, United States
CATEGORIES:Plainville
ATTACH;FMTTYPE=image/jpeg:https://foxboroughplainvillewrentham.com/wp-content/uploads/2022/12/Grady-Hendrix.jpg
END:VEVENT
BEGIN:VEVENT
DTSTART;TZID=America/New_York:20230103T190000
DTEND;TZID=America/New_York:20230103T210000
DTSTAMP:20260420T111922
CREATED:20221206T184520Z
LAST-MODIFIED:20221206T184520Z
UID:10000065-1672772400-1672779600@foxboroughplainvillewrentham.com
SUMMARY:IN-PERSON: Holly Black
DESCRIPTION:The Queen is back and she’s taking us back to the opulent world of Elfhame!  We’re delighted to welcome Holly Black back to An Unlikely Story for the launch of THE STOLEN HEIR and our event space will be glittering with fairy lights! During this event Holly will talk about her books and answer audience questions. Each ticket comes with a copy of THE STOLEN HEIR\, that will be signed and personalized prior to the event. There will also be special swag exclusive to this tour with each ticket\, as supplies last. Please make sure you enter your name in the appropriate spot on the registration page to make sure your book gets personalized; include just your name\, not long quotes or sentences. \nWe will have Holly’s backlist titles available for purchase at the event\, and she will sign and personalize them. Candid photos at the signing table are permitted (no posed photos). \nABOUT THE BOOK:\nReturn to the opulent world of Elfhame\, filled with intrigue\, betrayal\, and dangerous desires\, with this first book of a captivating new duology from the #1 New York Times bestselling author Holly Black. \nABOUT THE AUTHOR:\nHolly Black is the #1 New York Times bestselling author of fantasy novels\, including the Novels of Elfhame\, The Coldest Girl in Coldtown\, the Spiderwick Chronicles\, and her adult debut\, Book of Night.  She has been a finalist for an Eisner Award and the Lodestar Award\, and the recipient of the Mythopoeic Award\, a Nebula\, and a Newbery Honor. Her books have been translated into 32 languages worldwide and adapted for film. She currently lives in New England with her husband and son in a house with a secret library.
URL:https://foxboroughplainvillewrentham.com/event/in-person-holly-black/
LOCATION:An Unlikely Story\, 111 South Street\, Plainville\, MA\, 02762\, United States
CATEGORIES:Plainville
ATTACH;FMTTYPE=image/jpeg:https://foxboroughplainvillewrentham.com/wp-content/uploads/2022/12/Holly-Black_1.jpg
END:VEVENT
BEGIN:VEVENT
DTSTART;TZID=America/New_York:20221210T160000
DTEND;TZID=America/New_York:20221210T173000
DTSTAMP:20260420T111922
CREATED:20221206T180013Z
LAST-MODIFIED:20221206T184804Z
UID:10000064-1670688000-1670693400@foxboroughplainvillewrentham.com
SUMMARY:IN-PERSON: Chris Van Dusen
DESCRIPTION:We are honored to welcome Chris Van Dusen for this unforgettable holiday event! His newest illustrated book\, written by Kate DiCamillo\, has us revisiting our friend Mercy Watson and her friends for Christmas. Chris will read from the book and conduct a drawing demonstration. As a very special treat\, author Kate DiCamillo will tune in on our big screen to chat with Chris and answer audience questions! Tickets for this event are $5 per person and can be used towards the purchase of any Mercy Watson book the day of the event. \nABOUT THE BOOK:\nFor fans of Mercy Watson\, old and new\, comes a joyful crescendo of favorite characters in a picture-book celebration of the quiet miracles the holidays bring. Mercy ornament included! \nABOUT CHRIS VAN DUSEN:\nChris Van Dusen is the author-illustrator of many books for young readers\, including The Circus Ship and Big Truck\, Little Island\, and the illustrator of the Mercy Watson and Deckawoo Drive series. He lives in Maine.
URL:https://foxboroughplainvillewrentham.com/event/in-person-chris-van-dusen/
LOCATION:An Unlikely Story\, 111 South Street\, Plainville\, MA\, 02762\, United States
CATEGORIES:Plainville
ATTACH;FMTTYPE=image/jpeg:https://foxboroughplainvillewrentham.com/wp-content/uploads/2022/12/Chris-Van-Dusen_1.jpg
END:VEVENT
BEGIN:VEVENT
DTSTART;TZID=America/New_York:20221208T180000
DTEND;TZID=America/New_York:20221208T210000
DTSTAMP:20260420T111922
CREATED:20221206T174256Z
LAST-MODIFIED:20221206T174256Z
UID:10000063-1670522400-1670533200@foxboroughplainvillewrentham.com
SUMMARY:In-Person: Holiday Writing Workshop
DESCRIPTION:A personal essay writing workshop with a holiday theme! \nLed by renowned author and editor Nicole DeRosa\, this personal essay workshop will take on the holiday season with candor\, creativity\, and comedy. Let’s all gather in a safe and supportive space to share our thoughts\, hopes\, dreads\, and drudges while carving out a little time just for ourselves! \nNicole is a published children’s book author\, as well as a writer and editor seen in the New York Times\, The Associated Press\, Chronicle\, Love What Matters\, Daily Mail UK\, MSNBC\, and more. Her passion is making connections through personal stories.
URL:https://foxboroughplainvillewrentham.com/event/in-person-holiday-writing-workshop/
LOCATION:An Unlikely Story\, 111 South Street\, Plainville\, MA\, 02762\, United States
CATEGORIES:Plainville
ATTACH;FMTTYPE=image/jpeg:https://foxboroughplainvillewrentham.com/wp-content/uploads/2022/12/storytelling-1.jpg
END:VEVENT
END:VCALENDAR