BEGIN:VCALENDAR
VERSION:2.0
PRODID:-//Foxborough, Plainville, and Wrentham - ECPv6.15.18//NONSGML v1.0//EN
CALSCALE:GREGORIAN
METHOD:PUBLISH
X-WR-CALNAME:Foxborough, Plainville, and Wrentham
X-ORIGINAL-URL:https://foxboroughplainvillewrentham.com
X-WR-CALDESC:Events for Foxborough, Plainville, and Wrentham
REFRESH-INTERVAL;VALUE=DURATION:PT1H
X-Robots-Tag:noindex
X-PUBLISHED-TTL:PT1H
BEGIN:VTIMEZONE
TZID:America/New_York
BEGIN:DAYLIGHT
TZOFFSETFROM:-0500
TZOFFSETTO:-0400
TZNAME:EDT
DTSTART:20210314T070000
END:DAYLIGHT
BEGIN:STANDARD
TZOFFSETFROM:-0400
TZOFFSETTO:-0500
TZNAME:EST
DTSTART:20211107T060000
END:STANDARD
BEGIN:DAYLIGHT
TZOFFSETFROM:-0500
TZOFFSETTO:-0400
TZNAME:EDT
DTSTART:20220313T070000
END:DAYLIGHT
BEGIN:STANDARD
TZOFFSETFROM:-0400
TZOFFSETTO:-0500
TZNAME:EST
DTSTART:20221106T060000
END:STANDARD
BEGIN:DAYLIGHT
TZOFFSETFROM:-0500
TZOFFSETTO:-0400
TZNAME:EDT
DTSTART:20230312T070000
END:DAYLIGHT
BEGIN:STANDARD
TZOFFSETFROM:-0400
TZOFFSETTO:-0500
TZNAME:EST
DTSTART:20231105T060000
END:STANDARD
BEGIN:DAYLIGHT
TZOFFSETFROM:-0500
TZOFFSETTO:-0400
TZNAME:EDT
DTSTART:20240310T070000
END:DAYLIGHT
BEGIN:STANDARD
TZOFFSETFROM:-0400
TZOFFSETTO:-0500
TZNAME:EST
DTSTART:20241103T060000
END:STANDARD
END:VTIMEZONE
BEGIN:VEVENT
DTSTART;TZID=America/New_York:20230103T190000
DTEND;TZID=America/New_York:20230103T210000
DTSTAMP:20260421T141508
CREATED:20221206T184520Z
LAST-MODIFIED:20221206T184520Z
UID:10000065-1672772400-1672779600@foxboroughplainvillewrentham.com
SUMMARY:IN-PERSON: Holly Black
DESCRIPTION:The Queen is back and she’s taking us back to the opulent world of Elfhame!  We’re delighted to welcome Holly Black back to An Unlikely Story for the launch of THE STOLEN HEIR and our event space will be glittering with fairy lights! During this event Holly will talk about her books and answer audience questions. Each ticket comes with a copy of THE STOLEN HEIR\, that will be signed and personalized prior to the event. There will also be special swag exclusive to this tour with each ticket\, as supplies last. Please make sure you enter your name in the appropriate spot on the registration page to make sure your book gets personalized; include just your name\, not long quotes or sentences. \nWe will have Holly’s backlist titles available for purchase at the event\, and she will sign and personalize them. Candid photos at the signing table are permitted (no posed photos). \nABOUT THE BOOK:\nReturn to the opulent world of Elfhame\, filled with intrigue\, betrayal\, and dangerous desires\, with this first book of a captivating new duology from the #1 New York Times bestselling author Holly Black. \nABOUT THE AUTHOR:\nHolly Black is the #1 New York Times bestselling author of fantasy novels\, including the Novels of Elfhame\, The Coldest Girl in Coldtown\, the Spiderwick Chronicles\, and her adult debut\, Book of Night.  She has been a finalist for an Eisner Award and the Lodestar Award\, and the recipient of the Mythopoeic Award\, a Nebula\, and a Newbery Honor. Her books have been translated into 32 languages worldwide and adapted for film. She currently lives in New England with her husband and son in a house with a secret library.
URL:https://foxboroughplainvillewrentham.com/event/in-person-holly-black/
LOCATION:An Unlikely Story\, 111 South Street\, Plainville\, MA\, 02762\, United States
CATEGORIES:Plainville
ATTACH;FMTTYPE=image/jpeg:https://foxboroughplainvillewrentham.com/wp-content/uploads/2022/12/Holly-Black_1.jpg
END:VEVENT
BEGIN:VEVENT
DTSTART;TZID=America/New_York:20221210T160000
DTEND;TZID=America/New_York:20221210T173000
DTSTAMP:20260421T141508
CREATED:20221206T180013Z
LAST-MODIFIED:20221206T184804Z
UID:10000064-1670688000-1670693400@foxboroughplainvillewrentham.com
SUMMARY:IN-PERSON: Chris Van Dusen
DESCRIPTION:We are honored to welcome Chris Van Dusen for this unforgettable holiday event! His newest illustrated book\, written by Kate DiCamillo\, has us revisiting our friend Mercy Watson and her friends for Christmas. Chris will read from the book and conduct a drawing demonstration. As a very special treat\, author Kate DiCamillo will tune in on our big screen to chat with Chris and answer audience questions! Tickets for this event are $5 per person and can be used towards the purchase of any Mercy Watson book the day of the event. \nABOUT THE BOOK:\nFor fans of Mercy Watson\, old and new\, comes a joyful crescendo of favorite characters in a picture-book celebration of the quiet miracles the holidays bring. Mercy ornament included! \nABOUT CHRIS VAN DUSEN:\nChris Van Dusen is the author-illustrator of many books for young readers\, including The Circus Ship and Big Truck\, Little Island\, and the illustrator of the Mercy Watson and Deckawoo Drive series. He lives in Maine.
URL:https://foxboroughplainvillewrentham.com/event/in-person-chris-van-dusen/
LOCATION:An Unlikely Story\, 111 South Street\, Plainville\, MA\, 02762\, United States
CATEGORIES:Plainville
ATTACH;FMTTYPE=image/jpeg:https://foxboroughplainvillewrentham.com/wp-content/uploads/2022/12/Chris-Van-Dusen_1.jpg
END:VEVENT
BEGIN:VEVENT
DTSTART;TZID=America/New_York:20221208T180000
DTEND;TZID=America/New_York:20221208T210000
DTSTAMP:20260421T141508
CREATED:20221206T174256Z
LAST-MODIFIED:20221206T174256Z
UID:10000063-1670522400-1670533200@foxboroughplainvillewrentham.com
SUMMARY:In-Person: Holiday Writing Workshop
DESCRIPTION:A personal essay writing workshop with a holiday theme! \nLed by renowned author and editor Nicole DeRosa\, this personal essay workshop will take on the holiday season with candor\, creativity\, and comedy. Let’s all gather in a safe and supportive space to share our thoughts\, hopes\, dreads\, and drudges while carving out a little time just for ourselves! \nNicole is a published children’s book author\, as well as a writer and editor seen in the New York Times\, The Associated Press\, Chronicle\, Love What Matters\, Daily Mail UK\, MSNBC\, and more. Her passion is making connections through personal stories.
URL:https://foxboroughplainvillewrentham.com/event/in-person-holiday-writing-workshop/
LOCATION:An Unlikely Story\, 111 South Street\, Plainville\, MA\, 02762\, United States
CATEGORIES:Plainville
ATTACH;FMTTYPE=image/jpeg:https://foxboroughplainvillewrentham.com/wp-content/uploads/2022/12/storytelling-1.jpg
END:VEVENT
END:VCALENDAR