BEGIN:VCALENDAR
VERSION:2.0
PRODID:-//Foxborough, Plainville, and Wrentham - ECPv6.15.18//NONSGML v1.0//EN
CALSCALE:GREGORIAN
METHOD:PUBLISH
X-WR-CALNAME:Foxborough, Plainville, and Wrentham
X-ORIGINAL-URL:https://foxboroughplainvillewrentham.com
X-WR-CALDESC:Events for Foxborough, Plainville, and Wrentham
REFRESH-INTERVAL;VALUE=DURATION:PT1H
X-Robots-Tag:noindex
X-PUBLISHED-TTL:PT1H
BEGIN:VTIMEZONE
TZID:America/New_York
BEGIN:DAYLIGHT
TZOFFSETFROM:-0500
TZOFFSETTO:-0400
TZNAME:EDT
DTSTART:20210314T070000
END:DAYLIGHT
BEGIN:STANDARD
TZOFFSETFROM:-0400
TZOFFSETTO:-0500
TZNAME:EST
DTSTART:20211107T060000
END:STANDARD
BEGIN:DAYLIGHT
TZOFFSETFROM:-0500
TZOFFSETTO:-0400
TZNAME:EDT
DTSTART:20220313T070000
END:DAYLIGHT
BEGIN:STANDARD
TZOFFSETFROM:-0400
TZOFFSETTO:-0500
TZNAME:EST
DTSTART:20221106T060000
END:STANDARD
BEGIN:DAYLIGHT
TZOFFSETFROM:-0500
TZOFFSETTO:-0400
TZNAME:EDT
DTSTART:20230312T070000
END:DAYLIGHT
BEGIN:STANDARD
TZOFFSETFROM:-0400
TZOFFSETTO:-0500
TZNAME:EST
DTSTART:20231105T060000
END:STANDARD
BEGIN:DAYLIGHT
TZOFFSETFROM:-0500
TZOFFSETTO:-0400
TZNAME:EDT
DTSTART:20240310T070000
END:DAYLIGHT
BEGIN:STANDARD
TZOFFSETFROM:-0400
TZOFFSETTO:-0500
TZNAME:EST
DTSTART:20241103T060000
END:STANDARD
BEGIN:DAYLIGHT
TZOFFSETFROM:-0500
TZOFFSETTO:-0400
TZNAME:EDT
DTSTART:20250309T070000
END:DAYLIGHT
BEGIN:STANDARD
TZOFFSETFROM:-0400
TZOFFSETTO:-0500
TZNAME:EST
DTSTART:20251102T060000
END:STANDARD
BEGIN:DAYLIGHT
TZOFFSETFROM:-0500
TZOFFSETTO:-0400
TZNAME:EDT
DTSTART:20260308T070000
END:DAYLIGHT
BEGIN:STANDARD
TZOFFSETFROM:-0400
TZOFFSETTO:-0500
TZNAME:EST
DTSTART:20261101T060000
END:STANDARD
END:VTIMEZONE
BEGIN:VEVENT
DTSTART;TZID=America/New_York:20251129T160000
DTEND;TZID=America/New_York:20251129T190000
DTSTAMP:20260422T041816
CREATED:20251124T172107Z
LAST-MODIFIED:20251124T172107Z
UID:10004285-1764432000-1764442800@foxboroughplainvillewrentham.com
SUMMARY:Foxborough Common Light Uptown
DESCRIPTION:Join us for Light Uptown on Saturday\, November 29\, 2025\, from 4 to 7 p.m. on the Foxborough Common! This annual event brings our vibrant community together to celebrate the start of the winter season with fun and festive activities for all ages! \nYou can now text LightUptown2025 to 77295 and get real-time updates and alerts on the day of the event straight to your phone! We will use these alerts to make sure you don’t miss a moment of the magic. \nWhat to Expect: \n\nFun games\nHands-on activities\nVisits with Santa\nFood from local groups and vendors\nShopping with small businesses\nFestive displays\nAnd more!
URL:https://foxboroughplainvillewrentham.com/event/foxborough-common-light-uptown/
LOCATION:Foxborough Common\, 16 South Street\, Foxborough\, MA\, 02035\, United States
CATEGORIES:Foxborough
ATTACH;FMTTYPE=image/png:https://foxboroughplainvillewrentham.com/wp-content/uploads/2025/11/Screenshot-2025-11-24-at-12.16.22-PM.png
END:VEVENT
BEGIN:VEVENT
DTSTART;TZID=America/New_York:20231125T160000
DTEND;TZID=America/New_York:20231125T190000
DTSTAMP:20260422T041816
CREATED:20231017T211026Z
LAST-MODIFIED:20231103T155552Z
UID:10000434-1700928000-1700938800@foxboroughplainvillewrentham.com
SUMMARY:Light Uptown 2023
DESCRIPTION:Join us at Foxboro Common for a day of festive Christmas activities! Expect Christmas carolers\, Christmas tree lighting\, and more! \nThe festivities on the Common are from 4pm – 7pm with a tree lighting around 5:45/6:00pm.
URL:https://foxboroughplainvillewrentham.com/event/light-uptown-2023/
LOCATION:Foxborough Common\, 16 South Street\, Foxborough\, MA\, 02035\, United States
CATEGORIES:Foxborough
ATTACH;FMTTYPE=image/jpeg:https://foxboroughplainvillewrentham.com/wp-content/uploads/2023/10/IMG_8551-scaled.jpg
END:VEVENT
BEGIN:VEVENT
DTSTART;TZID=America/New_York:20230629T190000
DTEND;TZID=America/New_York:20230629T210000
DTSTAMP:20260422T041816
CREATED:20230511T184428Z
LAST-MODIFIED:20230511T184428Z
UID:10000233-1688065200-1688072400@foxboroughplainvillewrentham.com
SUMMARY:Concerts On The Common: The Dave Macklin Band
DESCRIPTION:Since 1991\, the Foxboro Jaycees proudly present their FREE Summer Concerts on the Common series! Join us on Thursday night throughout the summer at the Foxboro Common between 7:00-9:00pm for a night of music and fun! All concerts are free to the public. Bring your lawn chair or blanket. Sit back\, enjoy the summer evening air and be entertained by local musicians. \nDave Macklin Band is a high energy\, powerhouse\, party band\, mixing the best in live dance music from different eras and genres. They have something for everyone! They love what they do and are passionate about their craft and have been helping folks celebrate for over a decade around New England and beyond. Perfect for any event\, celebration and age.
URL:https://foxboroughplainvillewrentham.com/event/concerts-on-the-common-the-dave-macklin-band/
LOCATION:Foxborough Common\, 16 South Street\, Foxborough\, MA\, 02035\, United States
CATEGORIES:Foxborough
ATTACH;FMTTYPE=image/jpeg:https://foxboroughplainvillewrentham.com/wp-content/uploads/2023/05/335688750_228519996260036_8354776282665539215_n.jpg
END:VEVENT
BEGIN:VEVENT
DTSTART;TZID=America/New_York:20230625T100000
DTEND;TZID=America/New_York:20230625T140000
DTSTAMP:20260422T041816
CREATED:20230511T203750Z
LAST-MODIFIED:20230511T203750Z
UID:10000234-1687687200-1687701600@foxboroughplainvillewrentham.com
SUMMARY:2nd Annual Foxboro Jaycees Car Show
DESCRIPTION:The Foxboro Jaycees Car Show will be happening on Sunday\, June 25\, 2023\, from 10 am – 2pm (rain date is Sunday\, July 2nd\, 2023). This will take place in multiple lots near the Foxboro Town Common. Featuring a live musical performance from Wicked West!\nSpectator parking available at the Central Street Veterans Lot.\n\nPre-registration opens May 22: $20 for cars\, $10 for motorcycles.\nDay-of-registration: $25 for cars\, $15 for motorcycles.\n\nAll proceeds to benefit the Foxboro Jaycees and their community projects.\n\nPlease check www.foxborojaycees.org or the Foxboro Jaycees Facebook page in late May for more information on registration\, etc.
URL:https://foxboroughplainvillewrentham.com/event/2nd-annual-foxboro-jaycees-car-show/
LOCATION:Foxborough Common\, 16 South Street\, Foxborough\, MA\, 02035\, United States
CATEGORIES:Foxborough
ATTACH;FMTTYPE=image/jpeg:https://foxboroughplainvillewrentham.com/wp-content/uploads/2023/05/341146100_950740953043901_5114931805806413284_n.jpg
END:VEVENT
BEGIN:VEVENT
DTSTART;TZID=America/New_York:20230625T100000
DTEND;TZID=America/New_York:20230625T140000
DTSTAMP:20260422T041816
CREATED:20230426T182115Z
LAST-MODIFIED:20230426T182115Z
UID:10000156-1687687200-1687701600@foxboroughplainvillewrentham.com
SUMMARY:Foxboro Car Show
DESCRIPTION:Foxboro Car Show\nJaycee’s 2nd Annual Car Show\, with trophies for Top Choice\, Best in Show\, and People’s Choice in Foxboro Center. \nRain Date: 7/2/23
URL:https://foxboroughplainvillewrentham.com/event/foxboro-car-show/
LOCATION:Foxborough Common\, 16 South Street\, Foxborough\, MA\, 02035\, United States
CATEGORIES:Foxborough
ATTACH;FMTTYPE=image/jpeg:https://foxboroughplainvillewrentham.com/wp-content/uploads/2023/04/sm_carshow2023.jpg
END:VEVENT
BEGIN:VEVENT
DTSTART;TZID=America/New_York:20230622T190000
DTEND;TZID=America/New_York:20230622T210000
DTSTAMP:20260422T041816
CREATED:20230511T183552Z
LAST-MODIFIED:20230511T183552Z
UID:10000232-1687460400-1687467600@foxboroughplainvillewrentham.com
SUMMARY:Concerts on the Common: Rolling Stones tribute "19th Nervous Breakdown"
DESCRIPTION:Since 1991\, the Foxboro Jaycees proudly present their FREE Summer Concerts on the Common series! Join us on Thursday night throughout the summer at the Foxboro Common between 7:00-9:00pm for a night of music and fun! All concerts are free to the public. Bring your lawn chair or blanket. Sit back\, enjoy the summer evening air and be entertained by local musicians. \nThis evening’s entertainment is 19th Nervous Breakdown\, a Rolling Stones tribute band that celebrates the music of the greatest\, most influential\, and longest-running rock act of all time! While not necessarily an “imitation” band\, the act brings you a “Mick Jagger”-looking front man and a sound/stage that resembles the 1978 line-up!
URL:https://foxboroughplainvillewrentham.com/event/concerts-on-the-common-rolling-stones-tribute-19th-nervous-breakdown/
LOCATION:Foxborough Common\, 16 South Street\, Foxborough\, MA\, 02035\, United States
CATEGORIES:Foxborough
ATTACH;FMTTYPE=image/jpeg:https://foxboroughplainvillewrentham.com/wp-content/uploads/2023/05/335688750_228519996260036_8354776282665539215_n.jpg
END:VEVENT
BEGIN:VEVENT
DTSTART;TZID=America/New_York:20230615T190000
DTEND;TZID=America/New_York:20230615T210000
DTSTAMP:20260422T041816
CREATED:20230511T183346Z
LAST-MODIFIED:20230511T183346Z
UID:10000231-1686855600-1686862800@foxboroughplainvillewrentham.com
SUMMARY:Concerts On The Common: Charlie Farren
DESCRIPTION:Since 1991\, the Foxboro Jaycees proudly present their FREE Summer Concerts on the Common series! Join us on Thursday night throughout the summer at the Foxboro Common between 7:00-9:00pm for a night of music and fun! All concerts are free to the public. Bring your lawn chair or blanket. Sit back\, enjoy the summer evening air and be entertained by local musicians. \nTonight’s concert to be headlined by Charlie Farren. Charlie first burst onto the national scene in the early 80’s as lead singer of THE JOE PERRY PROJECT\, teaming up with Aerosmith lead guitarist Joe Perry and releasing an acclaimed album on Columbia Records. Farren penned the Billboard charting classics “Listen To The Rock” and “East Coast\, West Coast\,” and also co-wrote four songs with Perry including the hit “I’ve Got The Rock ‘N’ Rolls Again.” \nSponsored by the Rally Point Inn & Pub
URL:https://foxboroughplainvillewrentham.com/event/concerts-on-the-common-charlie-farren/
LOCATION:Foxborough Common\, 16 South Street\, Foxborough\, MA\, 02035\, United States
CATEGORIES:Foxborough
ATTACH;FMTTYPE=image/jpeg:https://foxboroughplainvillewrentham.com/wp-content/uploads/2023/05/335688750_228519996260036_8354776282665539215_n.jpg
END:VEVENT
BEGIN:VEVENT
DTSTART;TZID=America/New_York:20230608T190000
DTEND;TZID=America/New_York:20230608T210000
DTSTAMP:20260422T041816
CREATED:20230511T171330Z
LAST-MODIFIED:20230511T171330Z
UID:10000230-1686250800-1686258000@foxboroughplainvillewrentham.com
SUMMARY:Concerts on the Common: FHS Jazz Ensemble
DESCRIPTION:Since 1991\, the Foxboro Jaycees proudly present their FREE Summer Concerts on the Common series! And on June 8\, The Foxborough High School Jazz Ensemble returns to open the concert season!! \nJoin us on Thursday nights throughout the summer at the Foxboro Common between 7:00-9:00pm for a night of music and fun! All concerts are free to the public. Bring your lawn chair or blanket. Sit back\, enjoy the summer night and be entertained by local musicians.
URL:https://foxboroughplainvillewrentham.com/event/concerts-on-the-common-fhs-jazz-ensemble/
LOCATION:Foxborough Common\, 16 South Street\, Foxborough\, MA\, 02035\, United States
CATEGORIES:Foxborough
ATTACH;FMTTYPE=image/jpeg:https://foxboroughplainvillewrentham.com/wp-content/uploads/2023/05/335688750_228519996260036_8354776282665539215_n.jpg
END:VEVENT
BEGIN:VEVENT
DTSTART;TZID=America/New_York:20230520T090000
DTEND;TZID=America/New_York:20230520T150000
DTSTAMP:20260422T041816
CREATED:20230511T204346Z
LAST-MODIFIED:20230511T204346Z
UID:10000235-1684573200-1684594800@foxboroughplainvillewrentham.com
SUMMARY:2023 Foxboro Jaycees Spring Fair
DESCRIPTION:The Foxboro Jaycees host two Craft Vendor Fairs each year\, one in the Spring and one in October.\nProduct offerings include a wide variety\, such as handmade quilts and clothing\, woodworking pieces\, soaps and other body care products\, pet accessories\, handbags\, candles and scented warmers\, hand-crafted jewelry\, photographs\, painted glass\, children’s clothing\, games & toys\, and so much more! There is also a free bouncy house for the kids and raffle items available. \nThis fundraising event for the Foxboro Jaycees will help fund several community programs they coordinate\, such as the Annual Easter Egg Hunt\, Caroling on the Common\, Holiday Decorations for the Common\, Bandstand Repair\, Fruit Baskets for the Foxboro Discretionary Fund\, Sand for Seniors\, and other local causes they support.
URL:https://foxboroughplainvillewrentham.com/event/2023-foxboro-jaycees-spring-fair/
LOCATION:Foxborough Common\, 16 South Street\, Foxborough\, MA\, 02035\, United States
CATEGORIES:Foxborough
ATTACH;FMTTYPE=image/jpeg:https://foxboroughplainvillewrentham.com/wp-content/uploads/2023/05/339027704_557225349727545_5904112708824870120_n.jpg
END:VEVENT
BEGIN:VEVENT
DTSTART;TZID=America/New_York:20221126T160000
DTEND;TZID=America/New_York:20221126T180000
DTSTAMP:20260422T041816
CREATED:20221116T210154Z
LAST-MODIFIED:20221116T210154Z
UID:10000058-1669478400-1669485600@foxboroughplainvillewrentham.com
SUMMARY:Light Uptown
DESCRIPTION:The Foxborough Light Uptown (commonly known as the Tree lighting) will take place on November 26th. The event will consist of many fun activities throughout the day and will conclude with the Tree Lighting on the Foxborough Common.
URL:https://foxboroughplainvillewrentham.com/event/light-uptown/
LOCATION:Foxborough Common\, 16 South Street\, Foxborough\, MA\, 02035\, United States
ATTACH;FMTTYPE=image/png:https://foxboroughplainvillewrentham.com/wp-content/uploads/2022/11/661.png
END:VEVENT
BEGIN:VEVENT
DTSTART;TZID=America/New_York:20221122T170000
DTEND;TZID=America/New_York:20221122T200000
DTSTAMP:20260422T041816
CREATED:20221116T212434Z
LAST-MODIFIED:20221116T212434Z
UID:10000059-1669136400-1669147200@foxboroughplainvillewrentham.com
SUMMARY:Caroling on The Common
DESCRIPTION:Join us for some musical holiday fun! The FHS Holiday Band will lead carolers in song on the Town Common\, where we’ll have hot cocoa from Dunkin on site to warm folks up.
URL:https://foxboroughplainvillewrentham.com/event/caroling-on-the-common/
LOCATION:Foxborough Common\, 16 South Street\, Foxborough\, MA\, 02035\, United States
ATTACH;FMTTYPE=image/jpeg:https://foxboroughplainvillewrentham.com/wp-content/uploads/2022/11/2021-Jaycee-Caroling-On-Common-252.jpg
END:VEVENT
END:VCALENDAR