BEGIN:VCALENDAR
VERSION:2.0
PRODID:-//Foxborough, Plainville, and Wrentham - ECPv6.15.18//NONSGML v1.0//EN
CALSCALE:GREGORIAN
METHOD:PUBLISH
X-WR-CALNAME:Foxborough, Plainville, and Wrentham
X-ORIGINAL-URL:https://foxboroughplainvillewrentham.com
X-WR-CALDESC:Events for Foxborough, Plainville, and Wrentham
REFRESH-INTERVAL;VALUE=DURATION:PT1H
X-Robots-Tag:noindex
X-PUBLISHED-TTL:PT1H
BEGIN:VTIMEZONE
TZID:America/New_York
BEGIN:DAYLIGHT
TZOFFSETFROM:-0500
TZOFFSETTO:-0400
TZNAME:EDT
DTSTART:20220313T070000
END:DAYLIGHT
BEGIN:STANDARD
TZOFFSETFROM:-0400
TZOFFSETTO:-0500
TZNAME:EST
DTSTART:20221106T060000
END:STANDARD
BEGIN:DAYLIGHT
TZOFFSETFROM:-0500
TZOFFSETTO:-0400
TZNAME:EDT
DTSTART:20230312T070000
END:DAYLIGHT
BEGIN:STANDARD
TZOFFSETFROM:-0400
TZOFFSETTO:-0500
TZNAME:EST
DTSTART:20231105T060000
END:STANDARD
BEGIN:DAYLIGHT
TZOFFSETFROM:-0500
TZOFFSETTO:-0400
TZNAME:EDT
DTSTART:20240310T070000
END:DAYLIGHT
BEGIN:STANDARD
TZOFFSETFROM:-0400
TZOFFSETTO:-0500
TZNAME:EST
DTSTART:20241103T060000
END:STANDARD
END:VTIMEZONE
BEGIN:VEVENT
DTSTART;TZID=America/New_York:20230728T130000
DTEND;TZID=America/New_York:20230728T180000
DTSTAMP:20260418T221603
CREATED:20230612T015025Z
LAST-MODIFIED:20230612T015025Z
UID:10000252-1690549200-1690567200@foxboroughplainvillewrentham.com
SUMMARY:Into the Woods Jr.
DESCRIPTION:Into the Woods Jr.\nShows at the Marilyn Rodman Performing Arts Center\nJuly 28th at 1pm | 6pm
URL:https://foxboroughplainvillewrentham.com/event/into-the-woods-jr/
LOCATION:Marilyn Rodman Performing Arts Center\, 1 School St\, Foxborough\, MA\, 02035
ATTACH;FMTTYPE=image/jpeg:https://foxboroughplainvillewrentham.com/wp-content/uploads/2023/06/000189-hero_orig.jpg
END:VEVENT
BEGIN:VEVENT
DTSTART;VALUE=DATE:20230720
DTEND;VALUE=DATE:20230724
DTSTAMP:20260418T221603
CREATED:20230611T155954Z
LAST-MODIFIED:20230611T155954Z
UID:10000250-1689811200-1690156799@foxboroughplainvillewrentham.com
SUMMARY:Cabaret Performance
DESCRIPTION:The Un-Common Theatre Company concludes our 2022-2023 season with our Young Adult Company Production of Cabaret. Daring\, provocative and exuberantly entertaining\, Cabaret explores the dark and heady life of Bohemian Berlin as Germany slowly yields to the emerging Third Reich. \nIn a Berlin nightclub\, as the 1920’s draw to a close\, a garish Master of Ceremonies welcomes the audience and assures them they will forget all their troubles at the Cabaret. With the Emcee’s bawdy songs as wry commentary\, Cabaret explores the dark\, heady\, and tumultuous life of Berlin’s natives and expatriates as Germany slowly yields to the emerging Third Reich. Cliff\, a young American writer newly arrived in Berlin\, is immediately taken with English singer Sally Bowles. Meanwhile\, Fräulein Schneider\, proprietor of Cliff and Sally’s boarding house\, tentatively begins a romance with Herr Schultz\, a mild-mannered fruit seller who happens to be Jewish. Musical numbers include “Willkommen\,” “Cabaret\,” “Don’t Tell Mama” and “Two Ladies.” \nFor audition information head to the Cabaret Auditions page.
URL:https://foxboroughplainvillewrentham.com/event/cabaret-performance/
LOCATION:Marilyn Rodman Performing Arts Center\, 1 School St\, Foxborough\, MA\, 02035
CATEGORIES:Foxborough
ATTACH;FMTTYPE=image/jpeg:https://foxboroughplainvillewrentham.com/wp-content/uploads/2023/06/Cabaret-Logo-Background-800.jpg
END:VEVENT
BEGIN:VEVENT
DTSTART;TZID=America/New_York:20230715T200000
DTEND;TZID=America/New_York:20230715T210000
DTSTAMP:20260418T221603
CREATED:20230427T133914Z
LAST-MODIFIED:20230427T133914Z
UID:10000159-1689451200-1689454800@foxboroughplainvillewrentham.com
SUMMARY:Comedian Lenny Clarke
DESCRIPTION:Comedian Lenny Clarke\nLenny Clarke is best known in the entertainment world for his sarcastic social commentaries\, anecdotal humor and thick Boston accent\, along with his role as Uncle Teddy on FX’s hit series\, RESCUE ME. He has also starred in his own sitcom\, LENNY.  On the big screen\, he can be seen in such films as MONUMENT AVE\, FEVER PITCH & SOUTHIE. \nMost recently he appeared in the feature film HERE COMES THE BOOM with Kevin James and Salma Hayek. Clarke’s status as the most famous “saloon comic” in Boston during the ‘80s was captured in the 2006 documentary\, WHEN STANDUP STOOD OUT. The tale details his early career and affiliations with other Boston comics\, such as good friends Steven Wright and Denis Leary. \nHe’s no stranger to the MRPAC stage\, and you’ll be in good company with this veteran entertainer! \nTickets for this event begin at $35. \nFor any questions or concerns please contact box office by email boxoffice@orpheum.org or by phone 508-276-6546!
URL:https://foxboroughplainvillewrentham.com/event/comedian-lenny-clarke/
LOCATION:Marilyn Rodman Performing Arts Center\, 1 School St\, Foxborough\, MA\, 02035
CATEGORIES:Foxborough
ATTACH;FMTTYPE=image/png:https://foxboroughplainvillewrentham.com/wp-content/uploads/2023/04/mrpac-showLogo-143.png
END:VEVENT
BEGIN:VEVENT
DTSTART;TZID=America/New_York:20230625T140000
DTEND;TZID=America/New_York:20230625T160000
DTSTAMP:20260418T221603
CREATED:20230611T155304Z
LAST-MODIFIED:20230611T155304Z
UID:10000249-1687701600-1687708800@foxboroughplainvillewrentham.com
SUMMARY:Marilyn Rodman Performing Arts Center Presents the CARS Movie
DESCRIPTION:Marilyn Rodman Performing Arts Center Presents the CARS Movie in Collaboration with the Foxborough Jaycees Car Show\nIn collaboration with the Foxborough Jaycees Car show the MRPAC will be showing Disney’s Cars movie on Sunday June 25th at 2pm. Our theatre is right next door to the Jaycees event. This movie is just under 2 hours making it great for you and the younger crowd! \n\nThis event is free to the public; however\, we do have an option for you to pay what you can. Donations are not required but they are greatly appreciated! \nFor any questions regarding this event please email boxoffice@orpheum.org
URL:https://foxboroughplainvillewrentham.com/event/marilyn-rodman-performing-arts-center-presents-the-cars-movie/
LOCATION:Marilyn Rodman Performing Arts Center\, 1 School St\, Foxborough\, MA\, 02035
CATEGORIES:Foxborough
ATTACH;FMTTYPE=image/png:https://foxboroughplainvillewrentham.com/wp-content/uploads/2023/06/mrpac-showLogo-150.png
END:VEVENT
BEGIN:VEVENT
DTSTART;VALUE=DATE:20230616
DTEND;VALUE=DATE:20230618
DTSTAMP:20260418T221603
CREATED:20230612T014655Z
LAST-MODIFIED:20230612T014655Z
UID:10000251-1686873600-1687046399@foxboroughplainvillewrentham.com
SUMMARY:Chicago the Musical
DESCRIPTION:Chicago the Musical\nSet in the legendary city during the roaring “jazz hot” 20s\, Chicago tells the story of two rival vaudevillian murderesses locked up in Cook County Jail. Nightclub star Velma’s serving time for killing her husband and sister. Driven chorus girl Roxie’s been tossed in the joint for bumping off the lover. Not one to rest on her laurels\, Velma enlists the help of prison matron Mama Morton and slickster lawyer Billy Flynn\, who turn Velma’s incarceration into a murder-of-the-week media frenzy\, thus preparing the world for a splashy showbiz comeback. But Roxie’s got some of her own tricks up her sleeve… \n 
URL:https://foxboroughplainvillewrentham.com/event/chicago-the-musical/
LOCATION:Marilyn Rodman Performing Arts Center\, 1 School St\, Foxborough\, MA\, 02035
CATEGORIES:Foxborough
ATTACH;FMTTYPE=image/png:https://foxboroughplainvillewrentham.com/wp-content/uploads/2023/06/mrpac-showLogo-151.png
END:VEVENT
BEGIN:VEVENT
DTSTART;TZID=America/New_York:20230603T190000
DTEND;TZID=America/New_York:20230603T210000
DTSTAMP:20260418T221603
CREATED:20230426T174507Z
LAST-MODIFIED:20230426T174507Z
UID:10000092-1685818800-1685826000@foxboroughplainvillewrentham.com
SUMMARY:Jane Austen's Emma: A Pop Musical
DESCRIPTION:EMMA: A POP MUSICAL (JV EDITION)\n\nCome join the 11-14-year-olds of the Broad-Y Academy as they stage a re-imagining of Jane Austen’s classic novel!! \nEmma\, a senior at Highbury Prep\, is certain she knows what’s best for her classmates’ love lives\, and is determined to find the perfect boyfriend for shy sophomore Harriet by the end of the school year. But will Emma’s relentless matchmaking get in the way of finding her own happiness? \nBased on Jane Austen’s classic novel\, this sparkling new musical features the hit songs of legendary girl groups and iconic female singers from The Supremes to Katy Perry. Girl power has never sounded so good! \nThis shows runtime is approximately 1 hour and 30 minutes (with an intermission). \nFor ticketing questions please email boxoffice@orpheum.org
URL:https://foxboroughplainvillewrentham.com/event/jane-austens-emma-a-pop-musical/
LOCATION:Marilyn Rodman Performing Arts Center\, 1 School St\, Foxborough\, MA\, 02035
CATEGORIES:Foxborough
ATTACH;FMTTYPE=image/png:https://foxboroughplainvillewrentham.com/wp-content/uploads/2023/04/mrpac-showLogo-144.png
END:VEVENT
BEGIN:VEVENT
DTSTART;VALUE=DATE:20230511
DTEND;VALUE=DATE:20230831
DTSTAMP:20260418T221603
CREATED:20230612T015945Z
LAST-MODIFIED:20230612T015945Z
UID:10000254-1683763200-1693439999@foxboroughplainvillewrentham.com
SUMMARY:"The Whimsical Artist" by Devin Dichiara
DESCRIPTION:“The Whimsical Artist” by Devin Dichiara\nMay 11 – August 30 at the MRPAC Art Gallery \nFrom a young age\, artist Devin Dichiara has constantly “doodled” about her passion for dragons. In fact\, her graduate thesis was focused on “Abstract Dragons” and one of her professors in college dubbed her “The Whimsical Artist”. Devin’s focus is concentrating on bright\, bold\, and vivid colors in her abstract canvas paintings\, using a multiple array of mixed mediums. \nDevin wants her audience to be entertained and walk away from her art feeling happy\, uplifted and not afraid of bringing some color into their world. She wants to inspire young people to go after their dreams no matter what obstacles they may be facing. \nThis solo show marks Devin’s happy return to the upper lobby art gallery at the MRPAC. She was previously featured in the inaugural installation of the gallery in a shared show when it opened in June 2021. \n 
URL:https://foxboroughplainvillewrentham.com/event/the-whimsical-artist-by-devin-dichiara/
LOCATION:Marilyn Rodman Performing Arts Center\, 1 School St\, Foxborough\, MA\, 02035
CATEGORIES:Foxborough
ATTACH;FMTTYPE=image/png:https://foxboroughplainvillewrentham.com/wp-content/uploads/2023/06/IMG_DevinDichiaraAnnouncement.png
END:VEVENT
BEGIN:VEVENT
DTSTART;TZID=America/New_York:20230422T190000
DTEND;TZID=America/New_York:20230422T213000
DTSTAMP:20260418T221603
CREATED:20230313T225445Z
LAST-MODIFIED:20230313T225445Z
UID:10000043-1682190000-1682199000@foxboroughplainvillewrentham.com
SUMMARY:Postcards from Heaven with Maureen Hancock
DESCRIPTION:Join Spirit Medium Maureen Hancock for an evening of spirit connections. This is the most unique family reunion ever witnessed. We laugh\, cry & celebrate memories of those we have lost and love. \n*Not everyone is guaranteed a reading. \n*This show is suitable for Ages 13 and up \nVIP ticket option includes upfront seating\, followed by a private post-show Q&A session with more readings by Maureen.
URL:https://foxboroughplainvillewrentham.com/event/postcards-from-heaven-with-maureen-hancock/
LOCATION:Marilyn Rodman Performing Arts Center\, 1 School St\, Foxborough\, MA\, 02035
CATEGORIES:Foxborough
ATTACH;FMTTYPE=image/png:https://foxboroughplainvillewrentham.com/wp-content/uploads/2023/03/Screen-Shot-2023-03-13-at-6.54.04-PM.png
END:VEVENT
BEGIN:VEVENT
DTSTART;TZID=America/New_York:20230416T193000
DTEND;TZID=America/New_York:20230416T210000
DTSTAMP:20260418T221603
CREATED:20230313T224923Z
LAST-MODIFIED:20230313T224923Z
UID:10000084-1681673400-1681678800@foxboroughplainvillewrentham.com
SUMMARY:Comedian Bob Marley
DESCRIPTION:Seen on Leno\, Letterman\, Conan\, Ferguson and Jimmy Fallon. One of the few comedians to have the Late Night Circuit as well as dozens of other TV appearances! A favorite on Sirius and XM radio. Played Detective Greenly in both Boondock Saints Films. Holds the Guinness book record for the Longest Standup Performance by an individual at 40hrs straight! New England’s King of Comedy! \nCome and Laugh!
URL:https://foxboroughplainvillewrentham.com/event/comedian-bob-marley/
LOCATION:Marilyn Rodman Performing Arts Center\, 1 School St\, Foxborough\, MA\, 02035
ATTACH;FMTTYPE=image/png:https://foxboroughplainvillewrentham.com/wp-content/uploads/2023/03/logo-rev.png
END:VEVENT
BEGIN:VEVENT
DTSTART;TZID=America/New_York:20230401T190000
DTEND;TZID=America/New_York:20230401T220000
DTSTAMP:20260418T221603
CREATED:20230313T221809Z
LAST-MODIFIED:20230313T221809Z
UID:10000083-1680375600-1680386400@foxboroughplainvillewrentham.com
SUMMARY:Seth's Big Fat Broadway Show
DESCRIPTION:Sirius/XM Radio’s Seth Rudetsky presents his one-man show: Seth’s Big Fat Broadway Show\, described as a combination of America’s Funniest Home Videos\, The Tony Awards and The Daily Show. \nSeth is known as “The Mayor of Broadway” (which is what Audra McDonald calls him) and he’s been on Broadway for more than 20 years as an actor\, writer\, pianist and conductor working on blockbusters like Les Miserables\, Phantom\, Ragtime & The Producers.  He is also a three-time Emmy nominated comedy writer for the Rosie O’Donnell Show and wrote two opening numbers for the Tony Awards. \nSeth’s Big Fat Broadway Show is a 90 minute tour-de-force featuring Rudetsky’s trademark deconstructions in which he uses his amazing audio/video collection to break down brilliant performances from beloved Broadway divas such as Patti Lupone & Betty Buckley.  There’s an entire section on Barbra Streisand\, who actually came to the show in LA…and boy\, he’s got a story about that! \nThis award-winning show recently played to a sold-out crowd in London where it received 5-star reviews and was called “Blindingly beautiful\, Fantastic\, Hysterical\, A Must-see and Nothing short of Brilliant”. \nSeth was recently hired by the “For Dummies” book corporation and his newest book “Musical Theatre For Dummies” will be released in March 2023. \nSeth will be hosting a book signing after the event with copies of the book for sale on-site. \nDon’t miss this opportunity to savor a little bit of Broadway right here in Foxborough! \nTickets for this show start at $35.00
URL:https://foxboroughplainvillewrentham.com/event/seths-big-fat-broadway-show/
LOCATION:Marilyn Rodman Performing Arts Center\, 1 School St\, Foxborough\, MA\, 02035
CATEGORIES:Foxborough
ATTACH;FMTTYPE=image/png:https://foxboroughplainvillewrentham.com/wp-content/uploads/2023/03/Screen-Shot-2023-03-13-at-6.15.19-PM.png
END:VEVENT
BEGIN:VEVENT
DTSTART;TZID=America/New_York:20230326T140000
DTEND;TZID=America/New_York:20230326T160000
DTSTAMP:20260418T221603
CREATED:20230206T212650Z
LAST-MODIFIED:20230206T212650Z
UID:10000076-1679839200-1679846400@foxboroughplainvillewrentham.com
SUMMARY:Disney's "Descendants: The Musical" at the MRPAC
DESCRIPTION:The Un-Common Theatre Company continues our 2022-2023 season with our Young Performers Production of Disney’s The Descendants: The Musical. \nBased on the popular Disney Channel Original Movies\, Disney’s Descendants: The Musical is a brand-new musical jam-packed with comedy\, adventure\, Disney characters\, and hit songs from the films! \nImprisoned on the Isle of the Lost – home of the most infamous villains who ever lived – the teenaged children of Maleficent\, the Evil Queen\, Jafar\, and Cruella De Vil have never ventured off the island… until now. When the four troublemakers are sent to attend prep school alongside the children of beloved Disney heroes\, they have a difficult choice to make: should they follow in their parents’ wicked footsteps or learn to be good? \nFor accessible seating\, please contact our Box Office directly by phone or email at: 508-907-6940 or boxoffice@orpheum.org \nPrices: \nAdults: $18 purchased in advance; $20 at the door \nStudents: $15 purchased in advance; $17 at the door
URL:https://foxboroughplainvillewrentham.com/event/disneys-descendants-the-musical-at-the-mrpac/2023-03-26/
LOCATION:Marilyn Rodman Performing Arts Center\, 1 School St\, Foxborough\, MA\, 02035
CATEGORIES:Foxborough
ATTACH;FMTTYPE=image/png:https://foxboroughplainvillewrentham.com/wp-content/uploads/2023/02/mrpac-showLogo-127.png
END:VEVENT
BEGIN:VEVENT
DTSTART;TZID=America/New_York:20230325T140000
DTEND;TZID=America/New_York:20230325T160000
DTSTAMP:20260418T221603
CREATED:20230206T212650Z
LAST-MODIFIED:20230206T212650Z
UID:10000075-1679752800-1679760000@foxboroughplainvillewrentham.com
SUMMARY:Disney's "Descendants: The Musical" at the MRPAC
DESCRIPTION:The Un-Common Theatre Company continues our 2022-2023 season with our Young Performers Production of Disney’s The Descendants: The Musical. \nBased on the popular Disney Channel Original Movies\, Disney’s Descendants: The Musical is a brand-new musical jam-packed with comedy\, adventure\, Disney characters\, and hit songs from the films! \nImprisoned on the Isle of the Lost – home of the most infamous villains who ever lived – the teenaged children of Maleficent\, the Evil Queen\, Jafar\, and Cruella De Vil have never ventured off the island… until now. When the four troublemakers are sent to attend prep school alongside the children of beloved Disney heroes\, they have a difficult choice to make: should they follow in their parents’ wicked footsteps or learn to be good? \nFor accessible seating\, please contact our Box Office directly by phone or email at: 508-907-6940 or boxoffice@orpheum.org \nPrices: \nAdults: $18 purchased in advance; $20 at the door \nStudents: $15 purchased in advance; $17 at the door
URL:https://foxboroughplainvillewrentham.com/event/disneys-descendants-the-musical-at-the-mrpac/2023-03-25/
LOCATION:Marilyn Rodman Performing Arts Center\, 1 School St\, Foxborough\, MA\, 02035
CATEGORIES:Foxborough
ATTACH;FMTTYPE=image/png:https://foxboroughplainvillewrentham.com/wp-content/uploads/2023/02/mrpac-showLogo-127.png
END:VEVENT
BEGIN:VEVENT
DTSTART;TZID=America/New_York:20230324T193000
DTEND;TZID=America/New_York:20230324T213000
DTSTAMP:20260418T221603
CREATED:20230206T212650Z
LAST-MODIFIED:20230206T212650Z
UID:10000074-1679686200-1679693400@foxboroughplainvillewrentham.com
SUMMARY:Disney's "Descendants: The Musical" at the MRPAC
DESCRIPTION:The Un-Common Theatre Company continues our 2022-2023 season with our Young Performers Production of Disney’s The Descendants: The Musical. \nBased on the popular Disney Channel Original Movies\, Disney’s Descendants: The Musical is a brand-new musical jam-packed with comedy\, adventure\, Disney characters\, and hit songs from the films! \nImprisoned on the Isle of the Lost – home of the most infamous villains who ever lived – the teenaged children of Maleficent\, the Evil Queen\, Jafar\, and Cruella De Vil have never ventured off the island… until now. When the four troublemakers are sent to attend prep school alongside the children of beloved Disney heroes\, they have a difficult choice to make: should they follow in their parents’ wicked footsteps or learn to be good? \nFor accessible seating\, please contact our Box Office directly by phone or email at: 508-907-6940 or boxoffice@orpheum.org \nPrices: \nAdults: $18 purchased in advance; $20 at the door \nStudents: $15 purchased in advance; $17 at the door
URL:https://foxboroughplainvillewrentham.com/event/disneys-descendants-the-musical-at-the-mrpac/2023-03-24/
LOCATION:Marilyn Rodman Performing Arts Center\, 1 School St\, Foxborough\, MA\, 02035
CATEGORIES:Foxborough
ATTACH;FMTTYPE=image/png:https://foxboroughplainvillewrentham.com/wp-content/uploads/2023/02/mrpac-showLogo-127.png
END:VEVENT
BEGIN:VEVENT
DTSTART;TZID=America/New_York:20230214T190000
DTEND;TZID=America/New_York:20230214T220000
DTSTAMP:20260418T221603
CREATED:20230203T190132Z
LAST-MODIFIED:20230203T190132Z
UID:10000068-1676401200-1676412000@foxboroughplainvillewrentham.com
SUMMARY:Valentine's Day Show with Comedian Juston McKinney
DESCRIPTION:Get your tickets to Juston McKinney’s Valentine’s Day Reception & Comedy Show at the MRPAC!\nThe New York Times dubbed him a comedian “destined for stardom.”\nComedian Juston McKinney’s impressive resume includes multiple appearances on The Tonight Show\, two Comedy Central specials\, two Amazon Prime specials and a Showtime Comedy Special with Rob Gronkowski. Also worth mentioning are his TV credits on such shows as The King of Queens\, 100 Centre Street\, The Zoo Keeper and Here Comes the Boom. \nAs a former Deputy Sheriff in Maine and a married father of two\, McKinney has plenty of relatable life experiences that makes for great comedy. He will have you and your valentine (whether it’s your spouse\, a friend or your 18+ child) in stitches! \nWant to make it an extra special evening? Pre-show packages available! \nWhy not give yourself and your valentine the VIP treatment with a pre-show reception? \nStarting at $47 per person\, you will receive a glass of prosecco\, a delectable dessert\, a long-stemmed rose and a ticket to the show! Plus\, McKinney himself will be dropping by for a quick chat prior to taking the stage. \nSpace is limited so don’t hesitate to secure your spots today!
URL:https://foxboroughplainvillewrentham.com/event/valentines-day-show-with-comedian-juston-mckinney-2/
LOCATION:Marilyn Rodman Performing Arts Center\, 1 School St\, Foxborough\, MA\, 02035
CATEGORIES:Foxborough
ATTACH;FMTTYPE=image/png:https://foxboroughplainvillewrentham.com/wp-content/uploads/2023/02/Screen-Shot-2023-01-27-at-7.13.23-PM.png
END:VEVENT
BEGIN:VEVENT
DTSTART;TZID=America/New_York:20230207T173000
DTEND;TZID=America/New_York:20230207T193000
DTSTAMP:20260418T221603
CREATED:20230207T174810Z
LAST-MODIFIED:20230207T174810Z
UID:10000079-1675791000-1675798200@foxboroughplainvillewrentham.com
SUMMARY:AIM Dance Company Winter Showcase at MRPAC
DESCRIPTION:Art in Motion Company dancers will be performing competition routines at this exciting Winter Showcase. The showcase will include all AIM solo\, duo/trios and select group routines that will be competing in Regionals this Spring\, and in Atlantic City this Summer at Nationals! Come and support the dancers before they set out to compete in the 2023 season!
URL:https://foxboroughplainvillewrentham.com/event/aim-dance-company-winter-showcase-at-mrpac/
LOCATION:Marilyn Rodman Performing Arts Center\, 1 School St\, Foxborough\, MA\, 02035
CATEGORIES:Foxborough
ATTACH;FMTTYPE=image/png:https://foxboroughplainvillewrentham.com/wp-content/uploads/2023/02/mrpac-showLogo-124.png
END:VEVENT
BEGIN:VEVENT
DTSTART;TZID=America/New_York:20230205T130000
DTEND;TZID=America/New_York:20230205T143000
DTSTAMP:20260418T221603
CREATED:20230203T191756Z
LAST-MODIFIED:20230203T191756Z
UID:10000070-1675602000-1675607400@foxboroughplainvillewrentham.com
SUMMARY:Oliver! Jr. at the MRPAC
DESCRIPTION:Buy your tickets to Oliver! JR.\, the Tony and Olivier Award-winning show based on Charles Dickens’ novel\, Oliver Twist.\nThe streets of Victorian England come to life when students of the Broad-Y Academy\, ages 6-14\, present the musical Oliver! JR. \nOliver Twist\, a malnourished orphan in a workhouse\, becomes the neglected apprentice of an undertaker. Oliver escapes to London and finds acceptance amongst a group of petty thieves and pickpockets led by their leader\, Fagin. When Oliver is captured for a theft that he did not commit\, realizes he is not fit for a life of crime\, and discovers the life he was meant to live all along. \nOliver! JR. is full of classic songs like “Consider Yourself“\, “Food Glorious Food“\, and “Oom-Pah-Pah“\, and will showcase the talents of a large ensemble cast. \nMake it a fun outing to the theater with the entire family! \nSaturday\, February 4 at 7:00pm \nSunday\, February 5 at 1:00pm \nTickets start at $8 per person
URL:https://foxboroughplainvillewrentham.com/event/oliver-jr-at-the-mrpac-2/
LOCATION:Marilyn Rodman Performing Arts Center\, 1 School St\, Foxborough\, MA\, 02035
CATEGORIES:Foxborough
ATTACH;FMTTYPE=image/jpeg:https://foxboroughplainvillewrentham.com/wp-content/uploads/2023/02/327809297_5562364940558102_5687208940595178684_n.jpg
END:VEVENT
BEGIN:VEVENT
DTSTART;TZID=America/New_York:20230204T190000
DTEND;TZID=America/New_York:20230204T203000
DTSTAMP:20260418T221603
CREATED:20230203T191330Z
LAST-MODIFIED:20230203T191330Z
UID:10000069-1675537200-1675542600@foxboroughplainvillewrentham.com
SUMMARY:Oliver! Jr. at the MRPAC
DESCRIPTION:Buy your tickets to Oliver! JR.\, the Tony and Olivier Award-winning show based on Charles Dickens’ novel\, Oliver Twist.\nThe streets of Victorian England come to life when students of the Broad-Y Academy\, ages 6-14\, present the musical Oliver! JR. \nOliver Twist\, a malnourished orphan in a workhouse\, becomes the neglected apprentice of an undertaker. Oliver escapes to London and finds acceptance amongst a group of petty thieves and pickpockets led by their leader\, Fagin. When Oliver is captured for a theft that he did not commit\, realizes he is not fit for a life of crime\, and discovers the life he was meant to live all along. \nOliver! JR. is full of classic songs like “Consider Yourself“\, “Food Glorious Food“\, and “Oom-Pah-Pah“\, and will showcase the talents of a large ensemble cast. \nMake it a fun outing to the theater with the entire family! \nSaturday\, February 4 at 7:00pm \nSunday\, February 5 at 1:00pm \nTickets start at $8 per person
URL:https://foxboroughplainvillewrentham.com/event/oliver-jr-at-the-mrpac/
LOCATION:Marilyn Rodman Performing Arts Center\, 1 School St\, Foxborough\, MA\, 02035
CATEGORIES:Foxborough
ATTACH;FMTTYPE=image/jpeg:https://foxboroughplainvillewrentham.com/wp-content/uploads/2023/02/327809297_5562364940558102_5687208940595178684_n.jpg
END:VEVENT
END:VCALENDAR