BEGIN:VCALENDAR
VERSION:2.0
PRODID:-//Foxborough, Plainville, and Wrentham - ECPv6.15.18//NONSGML v1.0//EN
CALSCALE:GREGORIAN
METHOD:PUBLISH
X-WR-CALNAME:Foxborough, Plainville, and Wrentham
X-ORIGINAL-URL:https://foxboroughplainvillewrentham.com
X-WR-CALDESC:Events for Foxborough, Plainville, and Wrentham
REFRESH-INTERVAL;VALUE=DURATION:PT1H
X-Robots-Tag:noindex
X-PUBLISHED-TTL:PT1H
BEGIN:VTIMEZONE
TZID:America/New_York
BEGIN:DAYLIGHT
TZOFFSETFROM:-0500
TZOFFSETTO:-0400
TZNAME:EDT
DTSTART:20220313T070000
END:DAYLIGHT
BEGIN:STANDARD
TZOFFSETFROM:-0400
TZOFFSETTO:-0500
TZNAME:EST
DTSTART:20221106T060000
END:STANDARD
BEGIN:DAYLIGHT
TZOFFSETFROM:-0500
TZOFFSETTO:-0400
TZNAME:EDT
DTSTART:20230312T070000
END:DAYLIGHT
BEGIN:STANDARD
TZOFFSETFROM:-0400
TZOFFSETTO:-0500
TZNAME:EST
DTSTART:20231105T060000
END:STANDARD
BEGIN:DAYLIGHT
TZOFFSETFROM:-0500
TZOFFSETTO:-0400
TZNAME:EDT
DTSTART:20240310T070000
END:DAYLIGHT
BEGIN:STANDARD
TZOFFSETFROM:-0400
TZOFFSETTO:-0500
TZNAME:EST
DTSTART:20241103T060000
END:STANDARD
END:VTIMEZONE
BEGIN:VEVENT
DTSTART;TZID=America/New_York:20230324T193000
DTEND;TZID=America/New_York:20230324T213000
DTSTAMP:20260421T231429
CREATED:20230206T212650Z
LAST-MODIFIED:20230206T212650Z
UID:10000074-1679686200-1679693400@foxboroughplainvillewrentham.com
SUMMARY:Disney's "Descendants: The Musical" at the MRPAC
DESCRIPTION:The Un-Common Theatre Company continues our 2022-2023 season with our Young Performers Production of Disney’s The Descendants: The Musical. \nBased on the popular Disney Channel Original Movies\, Disney’s Descendants: The Musical is a brand-new musical jam-packed with comedy\, adventure\, Disney characters\, and hit songs from the films! \nImprisoned on the Isle of the Lost – home of the most infamous villains who ever lived – the teenaged children of Maleficent\, the Evil Queen\, Jafar\, and Cruella De Vil have never ventured off the island… until now. When the four troublemakers are sent to attend prep school alongside the children of beloved Disney heroes\, they have a difficult choice to make: should they follow in their parents’ wicked footsteps or learn to be good? \nFor accessible seating\, please contact our Box Office directly by phone or email at: 508-907-6940 or boxoffice@orpheum.org \nPrices: \nAdults: $18 purchased in advance; $20 at the door \nStudents: $15 purchased in advance; $17 at the door
URL:https://foxboroughplainvillewrentham.com/event/disneys-descendants-the-musical-at-the-mrpac/2023-03-24/
LOCATION:Marilyn Rodman Performing Arts Center\, 1 School St\, Foxborough\, MA\, 02035
CATEGORIES:Foxborough
ATTACH;FMTTYPE=image/png:https://foxboroughplainvillewrentham.com/wp-content/uploads/2023/02/mrpac-showLogo-127.png
END:VEVENT
BEGIN:VEVENT
DTSTART;TZID=America/New_York:20230214T190000
DTEND;TZID=America/New_York:20230214T220000
DTSTAMP:20260421T231429
CREATED:20230203T190132Z
LAST-MODIFIED:20230203T190132Z
UID:10000068-1676401200-1676412000@foxboroughplainvillewrentham.com
SUMMARY:Valentine's Day Show with Comedian Juston McKinney
DESCRIPTION:Get your tickets to Juston McKinney’s Valentine’s Day Reception & Comedy Show at the MRPAC!\nThe New York Times dubbed him a comedian “destined for stardom.”\nComedian Juston McKinney’s impressive resume includes multiple appearances on The Tonight Show\, two Comedy Central specials\, two Amazon Prime specials and a Showtime Comedy Special with Rob Gronkowski. Also worth mentioning are his TV credits on such shows as The King of Queens\, 100 Centre Street\, The Zoo Keeper and Here Comes the Boom. \nAs a former Deputy Sheriff in Maine and a married father of two\, McKinney has plenty of relatable life experiences that makes for great comedy. He will have you and your valentine (whether it’s your spouse\, a friend or your 18+ child) in stitches! \nWant to make it an extra special evening? Pre-show packages available! \nWhy not give yourself and your valentine the VIP treatment with a pre-show reception? \nStarting at $47 per person\, you will receive a glass of prosecco\, a delectable dessert\, a long-stemmed rose and a ticket to the show! Plus\, McKinney himself will be dropping by for a quick chat prior to taking the stage. \nSpace is limited so don’t hesitate to secure your spots today!
URL:https://foxboroughplainvillewrentham.com/event/valentines-day-show-with-comedian-juston-mckinney-2/
LOCATION:Marilyn Rodman Performing Arts Center\, 1 School St\, Foxborough\, MA\, 02035
CATEGORIES:Foxborough
ATTACH;FMTTYPE=image/png:https://foxboroughplainvillewrentham.com/wp-content/uploads/2023/02/Screen-Shot-2023-01-27-at-7.13.23-PM.png
END:VEVENT
BEGIN:VEVENT
DTSTART;TZID=America/New_York:20230207T173000
DTEND;TZID=America/New_York:20230207T193000
DTSTAMP:20260421T231429
CREATED:20230207T174810Z
LAST-MODIFIED:20230207T174810Z
UID:10000079-1675791000-1675798200@foxboroughplainvillewrentham.com
SUMMARY:AIM Dance Company Winter Showcase at MRPAC
DESCRIPTION:Art in Motion Company dancers will be performing competition routines at this exciting Winter Showcase. The showcase will include all AIM solo\, duo/trios and select group routines that will be competing in Regionals this Spring\, and in Atlantic City this Summer at Nationals! Come and support the dancers before they set out to compete in the 2023 season!
URL:https://foxboroughplainvillewrentham.com/event/aim-dance-company-winter-showcase-at-mrpac/
LOCATION:Marilyn Rodman Performing Arts Center\, 1 School St\, Foxborough\, MA\, 02035
CATEGORIES:Foxborough
ATTACH;FMTTYPE=image/png:https://foxboroughplainvillewrentham.com/wp-content/uploads/2023/02/mrpac-showLogo-124.png
END:VEVENT
BEGIN:VEVENT
DTSTART;TZID=America/New_York:20230205T130000
DTEND;TZID=America/New_York:20230205T143000
DTSTAMP:20260421T231429
CREATED:20230203T191756Z
LAST-MODIFIED:20230203T191756Z
UID:10000070-1675602000-1675607400@foxboroughplainvillewrentham.com
SUMMARY:Oliver! Jr. at the MRPAC
DESCRIPTION:Buy your tickets to Oliver! JR.\, the Tony and Olivier Award-winning show based on Charles Dickens’ novel\, Oliver Twist.\nThe streets of Victorian England come to life when students of the Broad-Y Academy\, ages 6-14\, present the musical Oliver! JR. \nOliver Twist\, a malnourished orphan in a workhouse\, becomes the neglected apprentice of an undertaker. Oliver escapes to London and finds acceptance amongst a group of petty thieves and pickpockets led by their leader\, Fagin. When Oliver is captured for a theft that he did not commit\, realizes he is not fit for a life of crime\, and discovers the life he was meant to live all along. \nOliver! JR. is full of classic songs like “Consider Yourself“\, “Food Glorious Food“\, and “Oom-Pah-Pah“\, and will showcase the talents of a large ensemble cast. \nMake it a fun outing to the theater with the entire family! \nSaturday\, February 4 at 7:00pm \nSunday\, February 5 at 1:00pm \nTickets start at $8 per person
URL:https://foxboroughplainvillewrentham.com/event/oliver-jr-at-the-mrpac-2/
LOCATION:Marilyn Rodman Performing Arts Center\, 1 School St\, Foxborough\, MA\, 02035
CATEGORIES:Foxborough
ATTACH;FMTTYPE=image/jpeg:https://foxboroughplainvillewrentham.com/wp-content/uploads/2023/02/327809297_5562364940558102_5687208940595178684_n.jpg
END:VEVENT
BEGIN:VEVENT
DTSTART;TZID=America/New_York:20230204T190000
DTEND;TZID=America/New_York:20230204T203000
DTSTAMP:20260421T231429
CREATED:20230203T191330Z
LAST-MODIFIED:20230203T191330Z
UID:10000069-1675537200-1675542600@foxboroughplainvillewrentham.com
SUMMARY:Oliver! Jr. at the MRPAC
DESCRIPTION:Buy your tickets to Oliver! JR.\, the Tony and Olivier Award-winning show based on Charles Dickens’ novel\, Oliver Twist.\nThe streets of Victorian England come to life when students of the Broad-Y Academy\, ages 6-14\, present the musical Oliver! JR. \nOliver Twist\, a malnourished orphan in a workhouse\, becomes the neglected apprentice of an undertaker. Oliver escapes to London and finds acceptance amongst a group of petty thieves and pickpockets led by their leader\, Fagin. When Oliver is captured for a theft that he did not commit\, realizes he is not fit for a life of crime\, and discovers the life he was meant to live all along. \nOliver! JR. is full of classic songs like “Consider Yourself“\, “Food Glorious Food“\, and “Oom-Pah-Pah“\, and will showcase the talents of a large ensemble cast. \nMake it a fun outing to the theater with the entire family! \nSaturday\, February 4 at 7:00pm \nSunday\, February 5 at 1:00pm \nTickets start at $8 per person
URL:https://foxboroughplainvillewrentham.com/event/oliver-jr-at-the-mrpac/
LOCATION:Marilyn Rodman Performing Arts Center\, 1 School St\, Foxborough\, MA\, 02035
CATEGORIES:Foxborough
ATTACH;FMTTYPE=image/jpeg:https://foxboroughplainvillewrentham.com/wp-content/uploads/2023/02/327809297_5562364940558102_5687208940595178684_n.jpg
END:VEVENT
END:VCALENDAR