BEGIN:VCALENDAR
VERSION:2.0
PRODID:-//Foxborough, Plainville, and Wrentham - ECPv6.15.18//NONSGML v1.0//EN
CALSCALE:GREGORIAN
METHOD:PUBLISH
X-WR-CALNAME:Foxborough, Plainville, and Wrentham
X-ORIGINAL-URL:https://foxboroughplainvillewrentham.com
X-WR-CALDESC:Events for Foxborough, Plainville, and Wrentham
REFRESH-INTERVAL;VALUE=DURATION:PT1H
X-Robots-Tag:noindex
X-PUBLISHED-TTL:PT1H
BEGIN:VTIMEZONE
TZID:America/New_York
BEGIN:DAYLIGHT
TZOFFSETFROM:-0500
TZOFFSETTO:-0400
TZNAME:EDT
DTSTART:20230312T070000
END:DAYLIGHT
BEGIN:STANDARD
TZOFFSETFROM:-0400
TZOFFSETTO:-0500
TZNAME:EST
DTSTART:20231105T060000
END:STANDARD
BEGIN:DAYLIGHT
TZOFFSETFROM:-0500
TZOFFSETTO:-0400
TZNAME:EDT
DTSTART:20240310T070000
END:DAYLIGHT
BEGIN:STANDARD
TZOFFSETFROM:-0400
TZOFFSETTO:-0500
TZNAME:EST
DTSTART:20241103T060000
END:STANDARD
BEGIN:DAYLIGHT
TZOFFSETFROM:-0500
TZOFFSETTO:-0400
TZNAME:EDT
DTSTART:20250309T070000
END:DAYLIGHT
BEGIN:STANDARD
TZOFFSETFROM:-0400
TZOFFSETTO:-0500
TZNAME:EST
DTSTART:20251102T060000
END:STANDARD
END:VTIMEZONE
BEGIN:VEVENT
DTSTART;TZID=America/New_York:20241027T080000
DTEND;TZID=America/New_York:20241027T150000
DTSTAMP:20260424T103645
CREATED:20241022T162518Z
LAST-MODIFIED:20241022T162518Z
UID:10001016-1730016000-1730041200@foxboroughplainvillewrentham.com
SUMMARY:4th Annual Big Apple Truck & Tractor Show
DESCRIPTION:View new and old trucks and tractors; enjoy hay rides ($5/family)\, food trucks\, farm stand\, and additional family fun! \nProceeds benefit Make-A-Wish Massachusetts and Rhode Island and its mission of granting life-changing wishes for local children with critical illnesses.
URL:https://foxboroughplainvillewrentham.com/event/4th-annual-big-apple-truck-tractor-show/
LOCATION:The Big Apple Farm\, 207 Arnold Street\, Wrentham\, MA\, United States
CATEGORIES:Wrentham
ATTACH;FMTTYPE=image/png:https://foxboroughplainvillewrentham.com/wp-content/uploads/2024/10/Screenshot-2024-10-22-at-12.24.17 PM.png
GEO:42.0378822;-71.3994156
X-APPLE-STRUCTURED-LOCATION;VALUE=URI;X-ADDRESS=The Big Apple Farm 207 Arnold Street Wrentham MA United States;X-APPLE-RADIUS=500;X-TITLE=207 Arnold Street:geo:-71.3994156,42.0378822
END:VEVENT
END:VCALENDAR