BEGIN:VCALENDAR
VERSION:2.0
PRODID:-//Foxborough, Plainville, and Wrentham - ECPv6.15.18//NONSGML v1.0//EN
CALSCALE:GREGORIAN
METHOD:PUBLISH
X-WR-CALNAME:Foxborough, Plainville, and Wrentham
X-ORIGINAL-URL:https://foxboroughplainvillewrentham.com
X-WR-CALDESC:Events for Foxborough, Plainville, and Wrentham
REFRESH-INTERVAL;VALUE=DURATION:PT1H
X-Robots-Tag:noindex
X-PUBLISHED-TTL:PT1H
BEGIN:VTIMEZONE
TZID:America/New_York
BEGIN:DAYLIGHT
TZOFFSETFROM:-0500
TZOFFSETTO:-0400
TZNAME:EDT
DTSTART:20220313T070000
END:DAYLIGHT
BEGIN:STANDARD
TZOFFSETFROM:-0400
TZOFFSETTO:-0500
TZNAME:EST
DTSTART:20221106T060000
END:STANDARD
BEGIN:DAYLIGHT
TZOFFSETFROM:-0500
TZOFFSETTO:-0400
TZNAME:EDT
DTSTART:20230312T070000
END:DAYLIGHT
BEGIN:STANDARD
TZOFFSETFROM:-0400
TZOFFSETTO:-0500
TZNAME:EST
DTSTART:20231105T060000
END:STANDARD
BEGIN:DAYLIGHT
TZOFFSETFROM:-0500
TZOFFSETTO:-0400
TZNAME:EDT
DTSTART:20240310T070000
END:DAYLIGHT
BEGIN:STANDARD
TZOFFSETFROM:-0400
TZOFFSETTO:-0500
TZNAME:EST
DTSTART:20241103T060000
END:STANDARD
END:VTIMEZONE
BEGIN:VEVENT
DTSTART;VALUE=DATE:20231215
DTEND;VALUE=DATE:20231217
DTSTAMP:20260422T021152
CREATED:20230830T143036Z
LAST-MODIFIED:20230830T143036Z
UID:10000391-1702598400-1702771199@foxboroughplainvillewrentham.com
SUMMARY:Anthony DeVito at The Comedy Scene
DESCRIPTION:Originally from New Jersey\, Anthony DeVito is a NYC based comedian. He’s appeared on CBS The Late Show with Stephen Colbert\, Comedy Central Stand Up Presents: Anthony DeVito\, Comedy Central’s Adam Devine’s House Party\, was one of the “New Faces” at the 2012 Montreal Just for Laughs Festival\, has been on “This American Life\,” AXS TV’s Gotham Comedy Live\, and was the 2015 winner of Caroline’s March Madness. Also\, his debut album “Dream Occupation” is available from Comedy Central Records. In addition to stand-up\, he was a writer on Netflix’s The Break with Michelle Wolf\, wrote for the 2018 White House Correspondents Dinner\, and was a writer/regular panelist on MSG’s People Talking Sports and Other Stuff. He’s also has appeared on TV Land’s The Jim Gaffigan Show\, HBO’s Pause with Sam Jay and is a favorite on Sirius XM’s Bennington. \nDates: December 15th and 16th at 8 PM.
URL:https://foxboroughplainvillewrentham.com/event/anthony-devito-at-the-comedy-scene/
LOCATION:The Comedy Scene\, 200 Patriot Place\, Foxborough\, MA\, 02035\, United States
CATEGORIES:Foxborough
ATTACH;FMTTYPE=image/jpeg:https://foxboroughplainvillewrentham.com/wp-content/uploads/2023/08/anthony-devito.jpg
END:VEVENT
BEGIN:VEVENT
DTSTART;TZID=America/New_York:20231202T200000
DTEND;TZID=America/New_York:20231202T210000
DTSTAMP:20260422T021152
CREATED:20230830T142314Z
LAST-MODIFIED:20230830T142314Z
UID:10000390-1701547200-1701550800@foxboroughplainvillewrentham.com
SUMMARY:Gaspare Randazzo at The Comedy Scene
DESCRIPTION:Gaspare Randazzo is a teacher in his 13th year in the classroom. When he’s not in the classroom\, you can find Gaspare doing Stand Up Comedy where he talks about his life as a teacher and his experiences dealing with students from all walks of life. His stories range from students hating him and wanting to punch him in the face to them loving him and bringing him school lunch trays to eat during every period. These non-conventional teaching stories will have teachers and nonteachers alike finding themselves laughing and scratching their heads at just how outrageous they are!
URL:https://foxboroughplainvillewrentham.com/event/gaspare-randazzo-at-the-comedy-scene/
LOCATION:The Comedy Scene\, 200 Patriot Place\, Foxborough\, MA\, 02035\, United States
CATEGORIES:Foxborough
ATTACH;FMTTYPE=image/jpeg:https://foxboroughplainvillewrentham.com/wp-content/uploads/2023/08/gaspare-randazzo.jpg
END:VEVENT
BEGIN:VEVENT
DTSTART;TZID=America/New_York:20231201T200000
DTEND;TZID=America/New_York:20231201T210000
DTSTAMP:20260422T021152
CREATED:20231130T211619Z
LAST-MODIFIED:20231130T211619Z
UID:10000569-1701460800-1701464400@foxboroughplainvillewrentham.com
SUMMARY:The Comedy Scene
DESCRIPTION:Join The Comedy Scene where Chris Tabb hosts a showcase of his favorite up and coming comedians from around New England! Now located at Helix eSports.
URL:https://foxboroughplainvillewrentham.com/event/the-comedy-scene/
LOCATION:The Comedy Scene\, 200 Patriot Place\, Foxborough\, MA\, 02035\, United States
CATEGORIES:Foxborough
ATTACH;FMTTYPE=image/jpeg:https://foxboroughplainvillewrentham.com/wp-content/uploads/2023/11/12-01-Comedy-Showcase-Comedy-Scene-Helix-Square.jpg
END:VEVENT
BEGIN:VEVENT
DTSTART;TZID=America/New_York:20231118T200000
DTEND;TZID=America/New_York:20231118T210000
DTSTAMP:20260422T021152
CREATED:20231103T155255Z
LAST-MODIFIED:20231103T155255Z
UID:10000563-1700337600-1700341200@foxboroughplainvillewrentham.com
SUMMARY:Sean Donnelly at The Comedy Scene
DESCRIPTION:November 17 & 18\, 2023: 8:00 PM \nWhen he’s not catching a nap with his bulldog\, Rickles\, Sean can be found headlining clubs and festivals all over the country. He has appeared on The Late Show with David Letterman\, Conan and NBC’s Last Comic Standing. Sean co-hosts the podcast My Dumb Friends with fellow comedian Dan St. Germain on the All Things Comedy network. He released his debut comedy album “Manual Labor Face” in 2015 on Comedy Central Records. Sean has been featured on the truTV series World’s Dumbest and Almost Genius as well as Adam Devine’s House Party\, The Half Hour\, Broad City\, and Inside Amy Schumer on Comedy Central\, Amazon’s Alpha House\, GSN’s Lie Detectors\, Limitless on CBS\, and Billions on Showtime.
URL:https://foxboroughplainvillewrentham.com/event/sean-donnelly-at-the-comedy-scene/2023-11-18/
LOCATION:The Comedy Scene\, 200 Patriot Place\, Foxborough\, MA\, 02035\, United States
CATEGORIES:Foxborough
ATTACH;FMTTYPE=image/jpeg:https://foxboroughplainvillewrentham.com/wp-content/uploads/2023/11/11-17-Sean-Donnelly-Comedy-Scene-Helix-square.jpg
END:VEVENT
BEGIN:VEVENT
DTSTART;TZID=America/New_York:20231117T200000
DTEND;TZID=America/New_York:20231117T210000
DTSTAMP:20260422T021152
CREATED:20231103T155255Z
LAST-MODIFIED:20231103T155255Z
UID:10000562-1700251200-1700254800@foxboroughplainvillewrentham.com
SUMMARY:Sean Donnelly at The Comedy Scene
DESCRIPTION:November 17 & 18\, 2023: 8:00 PM \nWhen he’s not catching a nap with his bulldog\, Rickles\, Sean can be found headlining clubs and festivals all over the country. He has appeared on The Late Show with David Letterman\, Conan and NBC’s Last Comic Standing. Sean co-hosts the podcast My Dumb Friends with fellow comedian Dan St. Germain on the All Things Comedy network. He released his debut comedy album “Manual Labor Face” in 2015 on Comedy Central Records. Sean has been featured on the truTV series World’s Dumbest and Almost Genius as well as Adam Devine’s House Party\, The Half Hour\, Broad City\, and Inside Amy Schumer on Comedy Central\, Amazon’s Alpha House\, GSN’s Lie Detectors\, Limitless on CBS\, and Billions on Showtime.
URL:https://foxboroughplainvillewrentham.com/event/sean-donnelly-at-the-comedy-scene/2023-11-17/
LOCATION:The Comedy Scene\, 200 Patriot Place\, Foxborough\, MA\, 02035\, United States
CATEGORIES:Foxborough
ATTACH;FMTTYPE=image/jpeg:https://foxboroughplainvillewrentham.com/wp-content/uploads/2023/11/11-17-Sean-Donnelly-Comedy-Scene-Helix-square.jpg
END:VEVENT
BEGIN:VEVENT
DTSTART;TZID=America/New_York:20231110T200000
DTEND;TZID=America/New_York:20231110T220000
DTSTAMP:20260422T021152
CREATED:20231103T154407Z
LAST-MODIFIED:20231103T154407Z
UID:10000561-1699646400-1699653600@foxboroughplainvillewrentham.com
SUMMARY:Ben Speaks Comedy Night at The Comedy Scene
DESCRIPTION:Thursday\, November 9\, 2023: 8:00 PM \nSupport Ben Speaks by joining us in laughter with three of Boston’s most talented comedians! \nBen Speaks provides positive channels of expression and empowerment for a whole-person approach to wellness through clinical and holistic resources and education.
URL:https://foxboroughplainvillewrentham.com/event/ben-speaks-comedy-night-at-the-comedy-scene/
LOCATION:The Comedy Scene\, 200 Patriot Place\, Foxborough\, MA\, 02035\, United States
CATEGORIES:Foxborough
ATTACH;FMTTYPE=image/jpeg:https://foxboroughplainvillewrentham.com/wp-content/uploads/2023/11/11-10-Ben-Speaks-Comedy-Night-Comedy-Scene-Helix-square.jpg
END:VEVENT
BEGIN:VEVENT
DTSTART;VALUE=DATE:20231103
DTEND;VALUE=DATE:20231105
DTSTAMP:20260422T021152
CREATED:20230830T141940Z
LAST-MODIFIED:20230830T141940Z
UID:10000389-1698969600-1699142399@foxboroughplainvillewrentham.com
SUMMARY:Andrew Rivers at The Comedy Scene
DESCRIPTION:Andrew Rivers’ very personal and fun storytelling comedy\, combined with his exemplary work ethic has earned him high praise from some of the best comedians in the business. Andrew is a regular opener for Christopher Titus and has toured across North America and Europe with Steve Hofstetter. \nDares: November 3rd and 4th at 8 PM.
URL:https://foxboroughplainvillewrentham.com/event/andrew-rivers-at-the-comedy-scene/
LOCATION:The Comedy Scene\, 200 Patriot Place\, Foxborough\, MA\, 02035\, United States
CATEGORIES:Foxborough
ATTACH;FMTTYPE=image/jpeg:https://foxboroughplainvillewrentham.com/wp-content/uploads/2023/08/andrew-rivers.jpg
END:VEVENT
BEGIN:VEVENT
DTSTART;VALUE=DATE:20231027
DTEND;VALUE=DATE:20231029
DTSTAMP:20260422T021152
CREATED:20230830T141619Z
LAST-MODIFIED:20230830T141619Z
UID:10000388-1698364800-1698537599@foxboroughplainvillewrentham.com
SUMMARY:Mike Hanley at The Comedy Scene
DESCRIPTION:Mike Hanley has recently appeared on CBS Boston’s Best Comedians Special\, can be heard on Sirius/XM and can be seen on YouTube with his viral video that has 23 million views. Mike’s unique style of high energy\, full tilt comedy has left audiences all over erupting in laughter. His stories will be sure to have you on the edge of your seat. There is no mistaking Mike’s trademark intensity the minute he hits the stage. \nMike has also appeared live on the “Today Show” after a video of a five minute dance routine with his daughter went viral. It has been featured on Good Morning America\, People Magazine\, Huffington Post\, and countless other websites and television shows all over the world. \nMike has become a favorite across the region by headlining weekends in comedy clubs all over. He has also been the opening act in clubs and theaters for Kevin Nealon\, Harland Williams\, Tom Arnold\, Jay Mohr\, David Alan Grier\, David Koechner\, and Jim Breuer. \nDates: October 27th and 28th at 8 PM.
URL:https://foxboroughplainvillewrentham.com/event/mike-hanley-at-the-comedy-scene/
LOCATION:The Comedy Scene\, 200 Patriot Place\, Foxborough\, MA\, 02035\, United States
CATEGORIES:Foxborough
ATTACH;FMTTYPE=image/jpeg:https://foxboroughplainvillewrentham.com/wp-content/uploads/2023/08/mike-hanley_1.jpg
END:VEVENT
BEGIN:VEVENT
DTSTART;VALUE=DATE:20231013
DTEND;VALUE=DATE:20231015
DTSTAMP:20260422T021152
CREATED:20230830T140522Z
LAST-MODIFIED:20230830T140522Z
UID:10000387-1697155200-1697327999@foxboroughplainvillewrentham.com
SUMMARY:Eliza Skinner at The Comedy Scene
DESCRIPTION:Eliza Skinner is originally from Richmond\, VA and started her performing career as an unnamed child revolutionary in a production of Evita. She is now a stand-up comedian and has appeared on The Pete Holmes Show\, @Midnight\, Chelsea Lately\, Upload with Shaquille O’Neal\, MTV\, Showtime\, AMC and the BBC. In his Reddit AMA\, Patton Oswalt called her one of his favorite up-and-coming comedians. Last fall\, Eliza was a writer and correspondent on Totally Biased (produced by Chris Rock)\, and her Funny Or Die videos have been retweeted by President Obama (seriously.) She is a regular performer at the UCB in LA and NYC\, and this year she was selected to be one of the “New Faces Of Comedy” at the Montreal Just For Laughs Festival. \nDates: October 13th and 14th at 8 PM.
URL:https://foxboroughplainvillewrentham.com/event/eliza-skinner-at-the-comedy-scene/
LOCATION:The Comedy Scene\, 200 Patriot Place\, Foxborough\, MA\, 02035\, United States
CATEGORIES:Foxborough
ATTACH;FMTTYPE=image/jpeg:https://foxboroughplainvillewrentham.com/wp-content/uploads/2023/08/eliza-skinner.jpg
END:VEVENT
BEGIN:VEVENT
DTSTART;TZID=America/New_York:20231008T200000
DTEND;TZID=America/New_York:20231008T210000
DTSTAMP:20260422T021152
CREATED:20230830T135024Z
LAST-MODIFIED:20230830T135024Z
UID:10000385-1696795200-1696798800@foxboroughplainvillewrentham.com
SUMMARY:Greg Fitzsimmons at The Comedy Scene
DESCRIPTION:Mixing an incisive wit with scathing sarcasm\, Greg Fitzsimmons has achieved success as a stand-up\, an Emmy Award winning writer\, and host on TV\, radio and his own podcast. Greg is host of the hugely popular FitzDog Radio podcast and The Greg Fitzsimmons Show\, on SiriusXM’s “Howard 101”. A regular with Conan O’Brien and Jimmy Kimmel\, Greg has made more than 50 visits to The Howard Stern Show. \nGreg’s one-hour standup special\, Life On Stage\, was named a Top 10 Comedy Release of 2013 by LA Weekly. The special premiered on Comedy Central and is now available as a CD\, DVD and download. Greg’s 2011 book\, Dear Mrs. Fitzsimmons\, climbed the best-seller charts and garnered outstanding reviews from NPR and Vanity Fair. \nGreg was recently seen in the hit Netflix series\, Santa Clarita Diet\, he co-starred on the Emmy-winning FX series Louie\, spent five years as a panelist on VH1’s Best Week Ever\, hosted Pumped on The Speed Channel in 2012 and he starred in two half-hour stand-up specials on Comedy Central. \nGreg is currently writing (and appearing) on the hit Judd Apatow HBO series\, Crashing. Writing credits include HBO’s Lucky Louie\, Cedric the Entertainer Presents\, Politically Incorrect with Bill Maher\, The Man Show and many others. On his mantle beside the four Daytime Emmys he won as a writer and producer on The Ellen DeGeneres Show sit “The Jury Award for Best Comedian” from The HBO Comedy Arts Festival and a Cable Ace Award for hosting the MTV game show “Idiot Savants.”
URL:https://foxboroughplainvillewrentham.com/event/greg-fitzsimmons-at-the-comedy-scene/
LOCATION:The Comedy Scene\, 200 Patriot Place\, Foxborough\, MA\, 02035\, United States
CATEGORIES:Foxborough
ATTACH;FMTTYPE=image/jpeg:https://foxboroughplainvillewrentham.com/wp-content/uploads/2023/08/greg-fitzsimmons.jpg
END:VEVENT
BEGIN:VEVENT
DTSTART;VALUE=DATE:20231006
DTEND;VALUE=DATE:20231008
DTSTAMP:20260422T021152
CREATED:20230830T132916Z
LAST-MODIFIED:20230830T132916Z
UID:10000384-1696550400-1696723199@foxboroughplainvillewrentham.com
SUMMARY:Colum Tyrrell at The Comedy Scene
DESCRIPTION:After beginning his career in his home country of Ireland\, Colum Tyrrell moved to New York City and quickly became one of the fastest rising comics in the scene. He is a regular at The Comedy Cellar\, The Stand Comedy Club and Stand Up New York. A staple in the New York Comedy Podcast scene he can be heard on The Legion of Skanks\, You Know What Dude\, Are You Garbage? and Matt and Shane’s Secret Podcast. He launched The Colum Tyrrell Podcast in 2022 which is growing to be one of the more popular shows in New York and he recently made his television debut on The Tonight Show with Jimmy Fallon. \nDates: October 6th and 7th at 8 PM.
URL:https://foxboroughplainvillewrentham.com/event/colum-tyrrell-at-the-comedy-scene/
LOCATION:The Comedy Scene\, 200 Patriot Place\, Foxborough\, MA\, 02035\, United States
CATEGORIES:Foxborough
ATTACH;FMTTYPE=image/jpeg:https://foxboroughplainvillewrentham.com/wp-content/uploads/2023/08/colum-tyrrell.jpg
END:VEVENT
BEGIN:VEVENT
DTSTART;VALUE=DATE:20230929
DTEND;VALUE=DATE:20231001
DTSTAMP:20260422T021152
CREATED:20230830T131958Z
LAST-MODIFIED:20230830T131958Z
UID:10000383-1695945600-1696118399@foxboroughplainvillewrentham.com
SUMMARY:Brian Glowacki at The Comedy Scene
DESCRIPTION:Brian Glowacki’s comedy feels like home. His playful style and originality have quickly taken him from a small town class clown to a nationwide crowd favorite. Brian’s likability on stage paired with sharp observations on life have quickly catapulted him into one of the nation’s premier emerging talents. Brian is the national touring opener for comedian Bob Marley as well as headlining many clubs and festivals on his own. Most notably he became the first independent\, local comedian to headline the historic Wilbur Theatre in Boston MA. “BGlow” has performed on the Funny or Die “Oddball Comedy and Curiosity Festival”. He received “Best of Fest” honors at Burbank Comedy Festival\, Big Pine Comedy Festival and San Diego Comedy Festival. He connects daily to his growing tribe on social media through short videos about his family and his travels. \nDates: September 29th and 30th at 8 PM.
URL:https://foxboroughplainvillewrentham.com/event/brian-glowacki-at-the-comedy-scene/
LOCATION:The Comedy Scene\, 200 Patriot Place\, Foxborough\, MA\, 02035\, United States
CATEGORIES:Foxborough
ATTACH;FMTTYPE=image/jpeg:https://foxboroughplainvillewrentham.com/wp-content/uploads/2023/08/brian-glowacki.jpg
END:VEVENT
BEGIN:VEVENT
DTSTART;TZID=America/New_York:20230908T200000
DTEND;TZID=America/New_York:20230908T210000
DTSTAMP:20260422T021152
CREATED:20230823T194857Z
LAST-MODIFIED:20230823T194857Z
UID:10000375-1694203200-1694206800@foxboroughplainvillewrentham.com
SUMMARY:Corey Rodrigues at The Comedy Scene
DESCRIPTION:He has been entertaining since childhood. Growing up in Milton – a small suburb in Massachusetts – and spending a lot of time in the city at his family’s barbershop businesses allowed Corey to bring a diverse voice to the stage. Since a very early age he’s had the ability to impersonate many different voices. He often left family members in tears at gatherings. It wasn’t rare for him to startle his childhood classmates by imitating a teacher or principal’s voice in the hallways. \nCorey made a quick transition from class clown to professional headliner. in the early years he honed and developed those skills on the stage of Bostons beloved Improv Asylum. \nRodrigues has been seen in multiple commercials and in the 2022 streaming Film Salesman. He played a major role in the Independent film Business is War\, directed by the late Kemal Gordon\, “Corey Rodrigues plays ‘Black\,’ a financially challenged individual whose erratic funny cameos bring random laughter at a moment’s notice.” – Entertainment Source 617 “The rest of the cast stands out as well; especially Corey Rodrigues as the comedy relief character Black.” – The Martha’s Vineyard Film Festival. \nAdditionally\, Corey has been able to use his comedic gift to impact the community by raising money for Dana Farber\, The Pan Mass Challenge\, The American Cancer Society\, Rebuilding Boston Together\, The Jimmy Fund\, The Blue Angels of Manchester\, CT and countless other charities.
URL:https://foxboroughplainvillewrentham.com/event/corey-rodrigues-at-the-comedy-scene/
LOCATION:The Comedy Scene\, 200 Patriot Place\, Foxborough\, MA\, 02035\, United States
CATEGORIES:Foxborough
ATTACH;FMTTYPE=image/jpeg:https://foxboroughplainvillewrentham.com/wp-content/uploads/2023/08/09-08-Corey-Rodrigues-Comedy-Scene-Helix-Square.jpg
END:VEVENT
BEGIN:VEVENT
DTSTART;TZID=America/New_York:20230902T200000
DTEND;TZID=America/New_York:20230902T210000
DTSTAMP:20260422T021152
CREATED:20230829T191357Z
LAST-MODIFIED:20230829T191357Z
UID:10000382-1693684800-1693688400@foxboroughplainvillewrentham.com
SUMMARY:Ken Rogerson at The Comedy Scene
DESCRIPTION:A national headliner\, Ken has performed all over the world. A favorite at Festivals\, he appeared at The Boston Comedy Festival with Lewis Black and Friends and the TBS Comedy Festival in Las Vegas. The Boston Herald says “He makes the absurd seem logical” Las Vegas Magazine wrote\, “As far as pure stand-up goes\, it doesn’t get any better than Rogerson.” Others have written “He is fall-down on the floor funny! Why doesn’t this guy have his own show?” and “He’s as funny a comic as Boston has produced.” \nA writer\, sketch player\, actor and comedian\, Ken wrote and starred in comedy film pieces on Fox Television Network’s “Sunday Comics” and has made film appearances in “Fever Pitch” and “There’s Something About Mary.” He has written several episodes for USA Network’s comedy\, “Sirens” created by Denis Leary.
URL:https://foxboroughplainvillewrentham.com/event/ken-rogerson-at-the-comedy-scene/
LOCATION:The Comedy Scene\, 200 Patriot Place\, Foxborough\, MA\, 02035\, United States
CATEGORIES:Foxborough
ATTACH;FMTTYPE=image/jpeg:https://foxboroughplainvillewrentham.com/wp-content/uploads/2023/08/ken-rogerson.jpg
END:VEVENT
BEGIN:VEVENT
DTSTART;TZID=America/New_York:20230728T213000
DTEND;TZID=America/New_York:20230728T213000
DTSTAMP:20260422T021152
CREATED:20230712T184231Z
LAST-MODIFIED:20230712T184231Z
UID:10000281-1690579800-1690579800@foxboroughplainvillewrentham.com
SUMMARY:It's a Date with Jaylene Tran at The Comedy Scene
DESCRIPTION:Friday\, July 28\, 2023: 8:00 PM \nNever been to an “It’s A Date”? The show changes its format every time but essentially\, this is what’s gonna happen: \nDuring the first half of the show\, the audience meet the volunteering singles\, ask them questions\, decide who’s compatible with whom and vote to pair up these contestants. They then watch as the couples go on their first dates in the second half. \nThe crew\, all professional comedians\, will be there to offer humorous comments\, interact with the audience and help the contestants break the ice. The audience\, single or not\, will be encouraged to chime in at any time during the date — whether to voice an opinion\, share a story\, ask a question or even change the course of the evening. \nThe dates are completely real and nobody knows what can happen. Will the show be raunchy or romantic? Sexy or wholesome? We won’t find out until we find out.
URL:https://foxboroughplainvillewrentham.com/event/its-a-date-with-jaylene-tran-at-the-comedy-scene/
LOCATION:The Comedy Scene\, 200 Patriot Place\, Foxborough\, MA\, 02035\, United States
CATEGORIES:Foxborough
ATTACH;FMTTYPE=image/jpeg:https://foxboroughplainvillewrentham.com/wp-content/uploads/2023/07/07-28-Jaylene-Tran-Comedy-Scene-Helix-Square.jpg
END:VEVENT
BEGIN:VEVENT
DTSTART;TZID=America/New_York:20230210T200000
DTEND;TZID=America/New_York:20230210T220000
DTSTAMP:20260422T021152
CREATED:20230203T194916Z
LAST-MODIFIED:20230203T194916Z
UID:10000071-1676059200-1676066400@foxboroughplainvillewrentham.com
SUMMARY:Mark Riley at The Comedy Scene
DESCRIPTION:Mark Riley was born and raised in Boston (yes\, he can sort of pronounce his “r’s”) and is one of the most-booked comedians in New England. His high energy and unique perspective on everyday situations combined with his sharp observational humor keeps audiences in stitches. His material is always changing so you’ll never see the same show twice. He connects with audiences in a unique way and is fearless to hecklers! Mark performs at comedy clubs and is available for fundraisers\, corporate/private events\, roasts\, and will emcee or host your event. Whether you’re looking for a family-friendly show\, PG-13\, or R rated\, (he draws the line at X rated) he will deliver laughter. Lastly\, Mark has starred in commercials and is available for voice work. He has also been interviewed for the podcast Behind the scenes of a comedian on Spotify. \nMark fine-tuned his comedic talents in various coliseums and “ice barns” throughout the country when he traveled as a professional ice hockey referee. He was a stellar employee of the NHL for one whole week before he was fired. It was at that moment Mark realized he was better on stage rather than the ice. Mark co-authored the movie script “Penalty Box” based on his life in pro hockey. He is currently publishing his first book and has many television appearances including NESN and Dirty Water TV. And to further impress you\, he was a finalist in the 2016 Boston Comedy Festival. \nDoors open at 7:00\, show starts at 8:00.
URL:https://foxboroughplainvillewrentham.com/event/mark-riley-at-the-comedy-scene/
LOCATION:The Comedy Scene\, 200 Patriot Place\, Foxborough\, MA\, 02035\, United States
CATEGORIES:Foxborough
ATTACH;FMTTYPE=image/png:https://foxboroughplainvillewrentham.com/wp-content/uploads/2023/02/Screen-Shot-2023-02-03-at-2.48.31-PM.png
END:VEVENT
END:VCALENDAR