BEGIN:VCALENDAR
VERSION:2.0
PRODID:-//Foxborough, Plainville, and Wrentham - ECPv6.15.18//NONSGML v1.0//EN
CALSCALE:GREGORIAN
METHOD:PUBLISH
X-WR-CALNAME:Foxborough, Plainville, and Wrentham
X-ORIGINAL-URL:https://foxboroughplainvillewrentham.com
X-WR-CALDESC:Events for Foxborough, Plainville, and Wrentham
REFRESH-INTERVAL;VALUE=DURATION:PT1H
X-Robots-Tag:noindex
X-PUBLISHED-TTL:PT1H
BEGIN:VTIMEZONE
TZID:America/New_York
BEGIN:DAYLIGHT
TZOFFSETFROM:-0500
TZOFFSETTO:-0400
TZNAME:EDT
DTSTART:20220313T070000
END:DAYLIGHT
BEGIN:STANDARD
TZOFFSETFROM:-0400
TZOFFSETTO:-0500
TZNAME:EST
DTSTART:20221106T060000
END:STANDARD
BEGIN:DAYLIGHT
TZOFFSETFROM:-0500
TZOFFSETTO:-0400
TZNAME:EDT
DTSTART:20230312T070000
END:DAYLIGHT
BEGIN:STANDARD
TZOFFSETFROM:-0400
TZOFFSETTO:-0500
TZNAME:EST
DTSTART:20231105T060000
END:STANDARD
BEGIN:DAYLIGHT
TZOFFSETFROM:-0500
TZOFFSETTO:-0400
TZNAME:EDT
DTSTART:20240310T070000
END:DAYLIGHT
BEGIN:STANDARD
TZOFFSETFROM:-0400
TZOFFSETTO:-0500
TZNAME:EST
DTSTART:20241103T060000
END:STANDARD
END:VTIMEZONE
BEGIN:VEVENT
DTSTART;TZID=America/New_York:20230628T160000
DTEND;TZID=America/New_York:20230628T180000
DTSTAMP:20260421T051158
CREATED:20230628T184300Z
LAST-MODIFIED:20230628T184300Z
UID:10000269-1687968000-1687975200@foxboroughplainvillewrentham.com
SUMMARY:Cocktails and Conversations
DESCRIPTION:Join us for a fun and casual evening on Wed Jun 28 2023 at 4:00 PM. All realtors who attend will be entered into a raffle to win a free home warranty that can be used on their own home or gifted to a buyer who purchases a home with them. \nWhether you’re looking to network\, meet new people\, or simply enjoy a drink with friends\, Cocktails and Conversations is the perfect opportunity to unwind and connect with others. \nDon’t miss out on this exciting event! Come join us for a night of great drinks and even better company. We can’t wait to see you there! Hosted by Jason Evans of Guaranteed Rate and Ginette Preto of G. Preto Insurance
URL:https://foxboroughplainvillewrentham.com/event/cocktails-and-conversations/
LOCATION:Union Straw\, 8 Mechanic Street\, Foxborough\, MA\, 02035\, United States
CATEGORIES:Foxborough
ATTACH;FMTTYPE=image/jpeg:https://foxboroughplainvillewrentham.com/wp-content/uploads/2023/06/https___cdn.evbuc_.com_images_535769789_293420294410_1_original.jpg
GEO:42.0658006;-71.249208
X-APPLE-STRUCTURED-LOCATION;VALUE=URI;X-ADDRESS=Union Straw 8 Mechanic Street Foxborough MA 02035 United States;X-APPLE-RADIUS=500;X-TITLE=8 Mechanic Street:geo:-71.249208,42.0658006
END:VEVENT
END:VCALENDAR